BEGIN:VCALENDAR
VERSION:2.0
PRODID:-//Les Turner ALS Foundation - ECPv6.15.20//NONSGML v1.0//EN
CALSCALE:GREGORIAN
METHOD:PUBLISH
X-ORIGINAL-URL:https://lesturnerals.org
X-WR-CALDESC:Events for Les Turner ALS Foundation
REFRESH-INTERVAL;VALUE=DURATION:PT1H
X-Robots-Tag:noindex
X-PUBLISHED-TTL:PT1H
BEGIN:VTIMEZONE
TZID:America/Chicago
BEGIN:DAYLIGHT
TZOFFSETFROM:-0600
TZOFFSETTO:-0500
TZNAME:CDT
DTSTART:20220313T080000
END:DAYLIGHT
BEGIN:STANDARD
TZOFFSETFROM:-0500
TZOFFSETTO:-0600
TZNAME:CST
DTSTART:20221106T070000
END:STANDARD
BEGIN:DAYLIGHT
TZOFFSETFROM:-0600
TZOFFSETTO:-0500
TZNAME:CDT
DTSTART:20230312T080000
END:DAYLIGHT
BEGIN:STANDARD
TZOFFSETFROM:-0500
TZOFFSETTO:-0600
TZNAME:CST
DTSTART:20231105T070000
END:STANDARD
BEGIN:DAYLIGHT
TZOFFSETFROM:-0600
TZOFFSETTO:-0500
TZNAME:CDT
DTSTART:20240310T080000
END:DAYLIGHT
BEGIN:STANDARD
TZOFFSETFROM:-0500
TZOFFSETTO:-0600
TZNAME:CST
DTSTART:20241103T070000
END:STANDARD
END:VTIMEZONE
BEGIN:VEVENT
DTSTART;TZID=America/Chicago:20231216T100000
DTEND;TZID=America/Chicago:20231216T110000
DTSTAMP:20260419T151825
CREATED:20230822T185003Z
LAST-MODIFIED:20231003T171852Z
UID:10000707-1702720800-1702724400@lesturnerals.org
SUMMARY:Caregiver Only Support Group
DESCRIPTION:The Caregivers Only group offers a time to talk about all the issues caregivers face in a non-judgmental\, accepting atmosphere without their loved one\, who is living with ALS\, being present. Caregivers share a common experience; life has become so tumultuous that they often feel exhausted and overwhelmed\, hungry for emotional comfort. Together\, with the guidance and encouragement of a devoted facilitator\, caregivers can find the strength to persevere. And\, by feeling heard and understood\, caregivers become more equipped to face another day with new coping strategies. \nTime: Meets the Third Saturday of each month from 10 am to 11 am \nFacilitator: Anne Lidsky\, PhD \nRSVP: Please RSVP here. \n*Meetings will be held over Zoom and a Zoom invitation will be sent via email once you register for the group.*
URL:https://lesturnerals.org/https-us02web-zoom-us-webinar-register-wn_nvixvs4-tqsr5bwy_malta-registration/caregiver-only-support-group-2/2023-12-16/
END:VEVENT
END:VCALENDAR