BEGIN:VCALENDAR
VERSION:2.0
PRODID:-//Les Turner ALS Foundation - ECPv6.15.20//NONSGML v1.0//EN
CALSCALE:GREGORIAN
METHOD:PUBLISH
X-WR-CALNAME:Les Turner ALS Foundation
X-ORIGINAL-URL:https://lesturnerals.org
X-WR-CALDESC:Events for Les Turner ALS Foundation
REFRESH-INTERVAL;VALUE=DURATION:PT1H
X-Robots-Tag:noindex
X-PUBLISHED-TTL:PT1H
BEGIN:VTIMEZONE
TZID:UTC
BEGIN:STANDARD
TZOFFSETFROM:+0000
TZOFFSETTO:+0000
TZNAME:UTC
DTSTART:20220101T000000
END:STANDARD
END:VTIMEZONE
BEGIN:VTIMEZONE
TZID:America/Chicago
BEGIN:DAYLIGHT
TZOFFSETFROM:-0600
TZOFFSETTO:-0500
TZNAME:CDT
DTSTART:20220313T080000
END:DAYLIGHT
BEGIN:STANDARD
TZOFFSETFROM:-0500
TZOFFSETTO:-0600
TZNAME:CST
DTSTART:20221106T070000
END:STANDARD
BEGIN:DAYLIGHT
TZOFFSETFROM:-0600
TZOFFSETTO:-0500
TZNAME:CDT
DTSTART:20230312T080000
END:DAYLIGHT
BEGIN:STANDARD
TZOFFSETFROM:-0500
TZOFFSETTO:-0600
TZNAME:CST
DTSTART:20231105T070000
END:STANDARD
BEGIN:DAYLIGHT
TZOFFSETFROM:-0600
TZOFFSETTO:-0500
TZNAME:CDT
DTSTART:20240310T080000
END:DAYLIGHT
BEGIN:STANDARD
TZOFFSETFROM:-0500
TZOFFSETTO:-0600
TZNAME:CST
DTSTART:20241103T070000
END:STANDARD
END:VTIMEZONE
BEGIN:VEVENT
DTSTART;TZID=UTC:20231218T140000
DTEND;TZID=UTC:20231218T150000
DTSTAMP:20260419T184150
CREATED:20231024T194007Z
LAST-MODIFIED:20240110T191530Z
UID:10000786-1702908000-1702911600@lesturnerals.org
SUMMARY:Navigating ALS Together Support Group
DESCRIPTION:Meets the Third Monday of each month from 2-3:15 p.m. \nFacilitator: Anne Lidsky\, PhD \nRSVP: Please email us at supportgroup@lesturnerals.org to RSVP \n*Meetings will be held over Zoom and a Zoom invitation will be sent via email once you register for the group.*
URL:https://lesturnerals.org/https-us02web-zoom-us-webinar-register-wn_nvixvs4-tqsr5bwy_malta-registration/navigatingalstogether/2023-12-18/
END:VEVENT
BEGIN:VEVENT
DTSTART;TZID=America/Chicago:20231218T180000
DTEND;TZID=America/Chicago:20231218T193000
DTSTAMP:20260419T184150
CREATED:20231026T142216Z
LAST-MODIFIED:20231026T142218Z
UID:10000602-1702922400-1702927800@lesturnerals.org
SUMMARY:Living After Loss (Bereavement Group)
DESCRIPTION:An open\, supportive monthly bereavement group for anyone (family\, friend\, etc.) who has lost a loved one to ALS within the past year. This group will provide a place to connect with others who have experienced the loss of a loved one to ALS; stories will be told\, feelings will be explored\, and information will be shared about how to remain connected to the memory of a loved one. \nDate: Fourth Monday \nTime: 6pm – 7:30pm \nFacilitator(s): Easton Stevenson\, LCSW\n \nRSVP: Please RSVP here. \n*Meetings will be held over Zoom and a Zoom invitation will be sent via email once you register for the group.* \n 
URL:https://lesturnerals.org/https-us02web-zoom-us-webinar-register-wn_nvixvs4-tqsr5bwy_malta-registration/living-after-loss-bereavement-group-2/2023-12-18/
END:VEVENT
END:VCALENDAR