BEGIN:VCALENDAR
VERSION:2.0
PRODID:-//Les Turner ALS Foundation - ECPv6.15.20//NONSGML v1.0//EN
CALSCALE:GREGORIAN
METHOD:PUBLISH
X-ORIGINAL-URL:https://lesturnerals.org
X-WR-CALDESC:Events for Les Turner ALS Foundation
REFRESH-INTERVAL;VALUE=DURATION:PT1H
X-Robots-Tag:noindex
X-PUBLISHED-TTL:PT1H
BEGIN:VTIMEZONE
TZID:America/Chicago
BEGIN:DAYLIGHT
TZOFFSETFROM:-0600
TZOFFSETTO:-0500
TZNAME:CDT
DTSTART:20230312T080000
END:DAYLIGHT
BEGIN:STANDARD
TZOFFSETFROM:-0500
TZOFFSETTO:-0600
TZNAME:CST
DTSTART:20231105T070000
END:STANDARD
BEGIN:DAYLIGHT
TZOFFSETFROM:-0600
TZOFFSETTO:-0500
TZNAME:CDT
DTSTART:20240310T080000
END:DAYLIGHT
BEGIN:STANDARD
TZOFFSETFROM:-0500
TZOFFSETTO:-0600
TZNAME:CST
DTSTART:20241103T070000
END:STANDARD
BEGIN:DAYLIGHT
TZOFFSETFROM:-0600
TZOFFSETTO:-0500
TZNAME:CDT
DTSTART:20250309T080000
END:DAYLIGHT
BEGIN:STANDARD
TZOFFSETFROM:-0500
TZOFFSETTO:-0600
TZNAME:CST
DTSTART:20251102T070000
END:STANDARD
END:VTIMEZONE
BEGIN:VEVENT
DTSTART;TZID=America/Chicago:20240328T120000
DTEND;TZID=America/Chicago:20240328T130000
DTSTAMP:20260424T095454
CREATED:20240228T152514Z
LAST-MODIFIED:20240228T152514Z
UID:10001085-1711627200-1711630800@lesturnerals.org
SUMMARY:ALS Learning Series: The role of multidisciplinary care in ALS
DESCRIPTION:Join us for our March ALS Learning Series\, where team members and people living with ALS will explore the crucial role of collaboration in delivering holistic care. Discover how multidisciplinary clinics can help people living with ALS to live longer and with a higher quality of life. From exploring treatment options to providing emotional support\, our panel will illustrate how this approach significantly enhances the well-being of people living with ALS\, their families\, and caregivers. This webinar will also discuss the ALS Better Care Act (HR 5663/S.3258)\, which will enhance Medicare reimbursement for multidisciplinary clinics nationwide\, improving care for people living with ALS. You’ll learn how you can get involved in supporting this legislation. The Les Turner ALS Foundation is proud to offer this webinar at no cost to the ALS community. Thank you to the Gilbert & Jacqueline Fern Foundation\, Biogen\, & Mitsubishi Tanabe Pharma America for sponsoring this webinar.\n\n\nhttps://register.gotowebinar.com/register/7883989190684308310\n\n\n\nAbout the Speakers: Chaunelle Caver-Perkins\, Support Services Committee Member\, Les Turner ALS Foundation \nJanie Gobeli\, advisory committee member for the HEALEY ALS Platform Trial and the QurAlis/CISCRP Global Patient Advisory Board\, ALS Research Ambassador for the Northeast ALS Consortium (NEALS)\, and a reviewer for the Les Turner ALS Foundation’s educational materials and programs. \nFrank Granata\, member of the Foundation’s Board of Directors and Support Services Committee Member\, Les Turner ALS Foundation \nApril Szymanksi\, RN\, MSN\, APN-BC\, Lois Insolia ALS Clinic at the Les Turner ALS Center at Northwestern Medicine \nLauren Webb\, LCSW\, Chief Advocacy & Outreach Officer\, Les Turner ALS Foundation
URL:https://lesturnerals.org/https-us02web-zoom-us-webinar-register-wn_nvixvs4-tqsr5bwy_malta-registration/als-learning-series-the-role-of-multidisciplinary-care-in-als/
END:VEVENT
END:VCALENDAR