BEGIN:VCALENDAR
VERSION:2.0
PRODID:-//Les Turner ALS Foundation - ECPv6.15.20//NONSGML v1.0//EN
CALSCALE:GREGORIAN
METHOD:PUBLISH
X-ORIGINAL-URL:https://lesturnerals.org
X-WR-CALDESC:Events for Les Turner ALS Foundation
REFRESH-INTERVAL;VALUE=DURATION:PT1H
X-Robots-Tag:noindex
X-PUBLISHED-TTL:PT1H
BEGIN:VTIMEZONE
TZID:America/Chicago
BEGIN:DAYLIGHT
TZOFFSETFROM:-0600
TZOFFSETTO:-0500
TZNAME:CDT
DTSTART:20230312T080000
END:DAYLIGHT
BEGIN:STANDARD
TZOFFSETFROM:-0500
TZOFFSETTO:-0600
TZNAME:CST
DTSTART:20231105T070000
END:STANDARD
BEGIN:DAYLIGHT
TZOFFSETFROM:-0600
TZOFFSETTO:-0500
TZNAME:CDT
DTSTART:20240310T080000
END:DAYLIGHT
BEGIN:STANDARD
TZOFFSETFROM:-0500
TZOFFSETTO:-0600
TZNAME:CST
DTSTART:20241103T070000
END:STANDARD
BEGIN:DAYLIGHT
TZOFFSETFROM:-0600
TZOFFSETTO:-0500
TZNAME:CDT
DTSTART:20250309T080000
END:DAYLIGHT
BEGIN:STANDARD
TZOFFSETFROM:-0500
TZOFFSETTO:-0600
TZNAME:CST
DTSTART:20251102T070000
END:STANDARD
END:VTIMEZONE
BEGIN:VEVENT
DTSTART;TZID=America/Chicago:20240530T180000
DTEND;TZID=America/Chicago:20240530T190000
DTSTAMP:20260419T103142
CREATED:20240502T151456Z
LAST-MODIFIED:20240502T151456Z
UID:10001093-1717092000-1717095600@lesturnerals.org
SUMMARY:ALS Learning Series: Developing tools to help people living with ALS make difficult decisions
DESCRIPTION:People living with ALS must make many complex decisions regarding their future care needs\, which can be stressful and overwhelming. In our upcoming ALS Learning Series\, with Dr. Anne Hogden\, she’ll discuss how she and other researchers have collaborated with the ALS community\, their family members\, and their ALS care teams to develop tools that support people living with ALS to make informed choices for their care and quality of life.  \nThursday\, May 30\, 2024\, 6pm CST  \nDr Anne Hogden PhD\, B SpPath\, BA (Hons) is a Senior Lecturer and researcher with the School of Population Health\, Faculty of Medicine and Health\, University of New South Wales\, Australia. She is a serving member of MND Research Australia\, MND Australia Research Committee\, The MND Collective Board and MND Collective Clinical Care working group.  Her work focuses on patient decision support tool development for MND/ALS care.  She has authored the first-ever MND/ALS patient decision support tool in Australia and assisted in similar tool development in the UK and USA. \nRegister now!
URL:https://lesturnerals.org/https-us02web-zoom-us-webinar-register-wn_nvixvs4-tqsr5bwy_malta-registration/als-learning-series-developing-tools-to-help-people-living-with-als-make-difficult-decisions/
END:VEVENT
END:VCALENDAR