BEGIN:VCALENDAR
VERSION:2.0
PRODID:-//Les Turner ALS Foundation - ECPv6.15.20//NONSGML v1.0//EN
CALSCALE:GREGORIAN
METHOD:PUBLISH
X-WR-CALNAME:Les Turner ALS Foundation
X-ORIGINAL-URL:https://lesturnerals.org
X-WR-CALDESC:Events for Les Turner ALS Foundation
REFRESH-INTERVAL;VALUE=DURATION:PT1H
X-Robots-Tag:noindex
X-PUBLISHED-TTL:PT1H
BEGIN:VTIMEZONE
TZID:UTC
BEGIN:STANDARD
TZOFFSETFROM:+0000
TZOFFSETTO:+0000
TZNAME:UTC
DTSTART:20230101T000000
END:STANDARD
END:VTIMEZONE
BEGIN:VTIMEZONE
TZID:America/Chicago
BEGIN:DAYLIGHT
TZOFFSETFROM:-0600
TZOFFSETTO:-0500
TZNAME:CDT
DTSTART:20230312T080000
END:DAYLIGHT
BEGIN:STANDARD
TZOFFSETFROM:-0500
TZOFFSETTO:-0600
TZNAME:CST
DTSTART:20231105T070000
END:STANDARD
BEGIN:DAYLIGHT
TZOFFSETFROM:-0600
TZOFFSETTO:-0500
TZNAME:CDT
DTSTART:20240310T080000
END:DAYLIGHT
BEGIN:STANDARD
TZOFFSETFROM:-0500
TZOFFSETTO:-0600
TZNAME:CST
DTSTART:20241103T070000
END:STANDARD
BEGIN:DAYLIGHT
TZOFFSETFROM:-0600
TZOFFSETTO:-0500
TZNAME:CDT
DTSTART:20250309T080000
END:DAYLIGHT
BEGIN:STANDARD
TZOFFSETFROM:-0500
TZOFFSETTO:-0600
TZNAME:CST
DTSTART:20251102T070000
END:STANDARD
END:VTIMEZONE
BEGIN:VEVENT
DTSTART;TZID=UTC:20240819T140000
DTEND;TZID=UTC:20240819T150000
DTSTAMP:20260419T153850
CREATED:20231024T194007Z
LAST-MODIFIED:20240110T191530Z
UID:10000794-1724076000-1724079600@lesturnerals.org
SUMMARY:Navigating ALS Together Support Group
DESCRIPTION:Meets the Third Monday of each month from 2-3:15 p.m. \nFacilitator: Anne Lidsky\, PhD \nRSVP: Please email us at supportgroup@lesturnerals.org to RSVP \n*Meetings will be held over Zoom and a Zoom invitation will be sent via email once you register for the group.*
URL:https://lesturnerals.org/https-us02web-zoom-us-webinar-register-wn_nvixvs4-tqsr5bwy_malta-registration/navigatingalstogether/2024-08-19/
END:VEVENT
BEGIN:VEVENT
DTSTART;TZID=America/Chicago:20240819T153000
DTEND;TZID=America/Chicago:20240819T163000
DTSTAMP:20260419T153850
CREATED:20240110T192825Z
LAST-MODIFIED:20240110T193410Z
UID:10000817-1724081400-1724085000@lesturnerals.org
SUMMARY:ALS Caregivers Support Group
DESCRIPTION:The Caregivers Only group offers a time to talk about all the issues caregivers face in a non-judgmental\, accepting atmosphere without their loved one\, who is living with ALS\, being present. Caregivers share a common experience; life has become so tumultuous that they often feel exhausted and overwhelmed\, hungry for emotional comfort. Together\, with the guidance and encouragement of a devoted facilitator\, caregivers can find the strength to persevere. And\, by feeling heard and understood\, caregivers become more equipped to face another day with new coping strategies. \nTime: Meets the Third Monday of each month from 3:30 – 4:30 p.m. \nFacilitator: Anne Lidsky\, PhD \nRSVP: Please RSVP here. \n*Meetings will be held over Zoom and a Zoom invitation will be sent via email once you register for the group.*
URL:https://lesturnerals.org/https-us02web-zoom-us-webinar-register-wn_nvixvs4-tqsr5bwy_malta-registration/caregivers-only-support-group-thursday-2/2024-08-19/
END:VEVENT
END:VCALENDAR