BEGIN:VCALENDAR
VERSION:2.0
PRODID:-//Les Turner ALS Foundation - ECPv6.15.20//NONSGML v1.0//EN
CALSCALE:GREGORIAN
METHOD:PUBLISH
X-WR-CALNAME:Les Turner ALS Foundation
X-ORIGINAL-URL:https://lesturnerals.org
X-WR-CALDESC:Events for Les Turner ALS Foundation
REFRESH-INTERVAL;VALUE=DURATION:PT1H
X-Robots-Tag:noindex
X-PUBLISHED-TTL:PT1H
BEGIN:VTIMEZONE
TZID:America/Chicago
BEGIN:DAYLIGHT
TZOFFSETFROM:-0600
TZOFFSETTO:-0500
TZNAME:CDT
DTSTART:20230312T080000
END:DAYLIGHT
BEGIN:STANDARD
TZOFFSETFROM:-0500
TZOFFSETTO:-0600
TZNAME:CST
DTSTART:20231105T070000
END:STANDARD
BEGIN:DAYLIGHT
TZOFFSETFROM:-0600
TZOFFSETTO:-0500
TZNAME:CDT
DTSTART:20240310T080000
END:DAYLIGHT
BEGIN:STANDARD
TZOFFSETFROM:-0500
TZOFFSETTO:-0600
TZNAME:CST
DTSTART:20241103T070000
END:STANDARD
BEGIN:DAYLIGHT
TZOFFSETFROM:-0600
TZOFFSETTO:-0500
TZNAME:CDT
DTSTART:20250309T080000
END:DAYLIGHT
BEGIN:STANDARD
TZOFFSETFROM:-0500
TZOFFSETTO:-0600
TZNAME:CST
DTSTART:20251102T070000
END:STANDARD
END:VTIMEZONE
BEGIN:VEVENT
DTSTART;TZID=America/Chicago:20241008T180000
DTEND;TZID=America/Chicago:20241008T193000
DTSTAMP:20260419T190747
CREATED:20240117T220700Z
LAST-MODIFIED:20240912T141804Z
UID:10001189-1728410400-1728415800@lesturnerals.org
SUMMARY:Moving Forward After Loss: Spousal/ Partner Bereavement Group Fall Session
DESCRIPTION:A closed\, six-week therapeutic bereavement group for spouses or partners of people who have died from ALS within the past six to nine months. \nThis group provides support\, validation\, and education in a supportive setting to those who are grieving the loss of their loved one. \nFall Session – Sept 17 – Oct 22\, 2024 \nVisit our Calendar of Events for upcoming dates. \nTime: 6 – 7:30 p.m. C.S.T\n\nFacilitator: Easton Stevenson\, LCSW\n \nRSVP: Please register here. This group is invite only.
URL:https://lesturnerals.org/https-us02web-zoom-us-webinar-register-wn_nvixvs4-tqsr5bwy_malta-registration/moving-forward-after-loss-spousal-partner-bereavement-group-fall-session-2/2024-10-08/
END:VEVENT
END:VCALENDAR