BEGIN:VCALENDAR
VERSION:2.0
PRODID:-//Les Turner ALS Foundation - ECPv6.15.20//NONSGML v1.0//EN
CALSCALE:GREGORIAN
METHOD:PUBLISH
X-ORIGINAL-URL:https://lesturnerals.org
X-WR-CALDESC:Events for Les Turner ALS Foundation
REFRESH-INTERVAL;VALUE=DURATION:PT1H
X-Robots-Tag:noindex
X-PUBLISHED-TTL:PT1H
BEGIN:VTIMEZONE
TZID:America/Chicago
BEGIN:DAYLIGHT
TZOFFSETFROM:-0600
TZOFFSETTO:-0500
TZNAME:CDT
DTSTART:20230312T080000
END:DAYLIGHT
BEGIN:STANDARD
TZOFFSETFROM:-0500
TZOFFSETTO:-0600
TZNAME:CST
DTSTART:20231105T070000
END:STANDARD
BEGIN:DAYLIGHT
TZOFFSETFROM:-0600
TZOFFSETTO:-0500
TZNAME:CDT
DTSTART:20240310T080000
END:DAYLIGHT
BEGIN:STANDARD
TZOFFSETFROM:-0500
TZOFFSETTO:-0600
TZNAME:CST
DTSTART:20241103T070000
END:STANDARD
BEGIN:DAYLIGHT
TZOFFSETFROM:-0600
TZOFFSETTO:-0500
TZNAME:CDT
DTSTART:20250309T080000
END:DAYLIGHT
BEGIN:STANDARD
TZOFFSETFROM:-0500
TZOFFSETTO:-0600
TZNAME:CST
DTSTART:20251102T070000
END:STANDARD
END:VTIMEZONE
BEGIN:VEVENT
DTSTART;TZID=America/Chicago:20241105T180000
DTEND;TZID=America/Chicago:20241105T190000
DTSTAMP:20260421T011732
CREATED:20240821T170526Z
LAST-MODIFIED:20240821T170526Z
UID:10001110-1730829600-1730833200@lesturnerals.org
SUMMARY:Newly Diagnosed ALS Support Group
DESCRIPTION:An ALS diagnosis is difficult to process. People often feel shocked and isolated by the news\, whether the diagnosis was for themselves or a family member. It’s hard to move forward or figure out what comes next.  \nSet in a relaxed and supportive virtual environment\, this support group will allow you to connect with others who have received an ALS diagnosis within the last six months. \nFirst Tuesday of Each Month (Starting in October)  \nTime: 6 p.m. – 7 p.m. CST \nFacilitator: Cara F. Gallagher\, MA.\, LCPC  \nRSVP: Please register here. 
URL:https://lesturnerals.org/https-us02web-zoom-us-webinar-register-wn_nvixvs4-tqsr5bwy_malta-registration/newly-diagnosed-als-support-group/2024-11-05/
END:VEVENT
END:VCALENDAR