BEGIN:VCALENDAR
VERSION:2.0
PRODID:-//Les Turner ALS Foundation - ECPv6.15.20//NONSGML v1.0//EN
CALSCALE:GREGORIAN
METHOD:PUBLISH
X-ORIGINAL-URL:https://lesturnerals.org
X-WR-CALDESC:Events for Les Turner ALS Foundation
REFRESH-INTERVAL;VALUE=DURATION:PT1H
X-Robots-Tag:noindex
X-PUBLISHED-TTL:PT1H
BEGIN:VTIMEZONE
TZID:America/Chicago
BEGIN:DAYLIGHT
TZOFFSETFROM:-0600
TZOFFSETTO:-0500
TZNAME:CDT
DTSTART:20240310T080000
END:DAYLIGHT
BEGIN:STANDARD
TZOFFSETFROM:-0500
TZOFFSETTO:-0600
TZNAME:CST
DTSTART:20241103T070000
END:STANDARD
BEGIN:DAYLIGHT
TZOFFSETFROM:-0600
TZOFFSETTO:-0500
TZNAME:CDT
DTSTART:20250309T080000
END:DAYLIGHT
BEGIN:STANDARD
TZOFFSETFROM:-0500
TZOFFSETTO:-0600
TZNAME:CST
DTSTART:20251102T070000
END:STANDARD
BEGIN:DAYLIGHT
TZOFFSETFROM:-0600
TZOFFSETTO:-0500
TZNAME:CDT
DTSTART:20260308T080000
END:DAYLIGHT
BEGIN:STANDARD
TZOFFSETFROM:-0500
TZOFFSETTO:-0600
TZNAME:CST
DTSTART:20261101T070000
END:STANDARD
END:VTIMEZONE
BEGIN:VEVENT
DTSTART;TZID=America/Chicago:20250218T180000
DTEND;TZID=America/Chicago:20250218T193000
DTSTAMP:20260421T201544
CREATED:20250115T171650Z
LAST-MODIFIED:20250115T171650Z
UID:10001442-1739901600-1739907000@lesturnerals.org
SUMMARY:Moving Forward After Loss Spousal/Partner Bereavement Group Winter Session
DESCRIPTION:Moving Forward After Loss Spousal/Partner Bereavement Group –\nA closed\, six-week therapeutic bereavement group for spouses or partners of people who have died from ALS within the past six to nine months.\nThis group provides support\, validation\, and education in a supportive setting to those who are grieving the loss of their loved one. \nWinter 2025 session January 28 – March 4\n\n              Spring 2025- Tuesday April 29\, 2025 to Tuesday June 3\, 2025 6:00 – 7:30 p.m. \n              Fall 2025- Tuesday September 16\, 2025 – Tuesday October 21\, 2025 6:00 – 7:30 p.m.
URL:https://lesturnerals.org/https-us02web-zoom-us-webinar-register-wn_nvixvs4-tqsr5bwy_malta-registration/moving-forward-after-loss-spousal-partner-bereavement-group-winter-session-2/2025-02-18/
LOCATION:http://events.lesturnerals.org/site/Survey;jsessionid=00000000.app20047b?ACTION_REQUIRED=URI_ACTION_USER_REQUESTS&SURVEY_ID=3042&_gl=1*ej00s3*_gcl_au*NDQ2NjcxNjEuMTczNDUzNzg0OA..*_ga*MTQ0NjA1MDkuMTczNDUzNzg0OA..*_ga_JGQNCMRW7P*MTczNjk2MDMzNS4yNS4xLjE3MzY5NjA0MzQuMjMuMC4w&NONCE_TOKEN=5C42A58CF5CC6C710C38637EEAC2E1FB
END:VEVENT
BEGIN:VEVENT
DTSTART;TZID=America/Chicago:20250218T190000
DTEND;TZID=America/Chicago:20250218T203000
DTSTAMP:20260421T201544
CREATED:20241015T190538Z
LAST-MODIFIED:20250521T171526Z
UID:10001195-1739905200-1739910600@lesturnerals.org
SUMMARY:Young Adult Support Group
DESCRIPTION:When a loved one is diagnosed with ALS\, it can be overwhelming\, especially for young adults who are navigating their own life milestones. It’s common to feel isolated or unsure of how to cope with the changes ALS brings to your family dynamic.\n\n\n\n\n\n\n\nThis supportive virtual group offers a space for young adults ages 18-30 to connect with peers who are experiencing similar challenges. In a relaxed and understanding environment\, you can share experiences\, explore feelings\, and find support from others who truly understand what you’re going through. \nThird Tuesday of Each Month (Beginning October 15) \nVisit our Calendar of Events for upcoming dates. \nTime: 7 – 8:30 p.m. CST \nFacilitator: Michelle Shaker\, LCSW \nRSVP: Please register here.
URL:https://lesturnerals.org/https-us02web-zoom-us-webinar-register-wn_nvixvs4-tqsr5bwy_malta-registration/young-adult-support-group/2025-02-18/
END:VEVENT
END:VCALENDAR