BEGIN:VCALENDAR
VERSION:2.0
PRODID:-//Les Turner ALS Foundation - ECPv6.15.20//NONSGML v1.0//EN
CALSCALE:GREGORIAN
METHOD:PUBLISH
X-WR-CALNAME:Les Turner ALS Foundation
X-ORIGINAL-URL:https://lesturnerals.org
X-WR-CALDESC:Events for Les Turner ALS Foundation
REFRESH-INTERVAL;VALUE=DURATION:PT1H
X-Robots-Tag:noindex
X-PUBLISHED-TTL:PT1H
BEGIN:VTIMEZONE
TZID:America/Chicago
BEGIN:DAYLIGHT
TZOFFSETFROM:-0600
TZOFFSETTO:-0500
TZNAME:CDT
DTSTART:20240310T080000
END:DAYLIGHT
BEGIN:STANDARD
TZOFFSETFROM:-0500
TZOFFSETTO:-0600
TZNAME:CST
DTSTART:20241103T070000
END:STANDARD
BEGIN:DAYLIGHT
TZOFFSETFROM:-0600
TZOFFSETTO:-0500
TZNAME:CDT
DTSTART:20250309T080000
END:DAYLIGHT
BEGIN:STANDARD
TZOFFSETFROM:-0500
TZOFFSETTO:-0600
TZNAME:CST
DTSTART:20251102T070000
END:STANDARD
BEGIN:DAYLIGHT
TZOFFSETFROM:-0600
TZOFFSETTO:-0500
TZNAME:CDT
DTSTART:20260308T080000
END:DAYLIGHT
BEGIN:STANDARD
TZOFFSETFROM:-0500
TZOFFSETTO:-0600
TZNAME:CST
DTSTART:20261101T070000
END:STANDARD
END:VTIMEZONE
BEGIN:VEVENT
DTSTART;TZID=America/Chicago:20250526T180000
DTEND;TZID=America/Chicago:20250526T193000
DTSTAMP:20260422T060336
CREATED:20250115T170842Z
LAST-MODIFIED:20250310T173151Z
UID:10001454-1748282400-1748287800@lesturnerals.org
SUMMARY:Living After Loss Bereavement Group
DESCRIPTION:Living After Loss Bereavement Group- 4th Monday of the month\n6:00 – 7:30 p.m.\nAn open\, supportive monthly bereavement group for anyone who has lost a family member\, friend\, or a loved one to ALS. This group will provide a place to connect with others who have experienced a loss.Stories will be told\, feelings will be explored\, and information will be shared about how to remain connected to the memory of a loved one.
URL:https://lesturnerals.org/https-us02web-zoom-us-webinar-register-wn_nvixvs4-tqsr5bwy_malta-registration/living-after-loss-bereavement-group-3/2025-05-26/
LOCATION:http://events.lesturnerals.org/site/Survey;jsessionid=00000000.app20047b?ACTION_REQUIRED=URI_ACTION_USER_REQUESTS&SURVEY_ID=3042&_gl=1*ej00s3*_gcl_au*NDQ2NjcxNjEuMTczNDUzNzg0OA..*_ga*MTQ0NjA1MDkuMTczNDUzNzg0OA..*_ga_JGQNCMRW7P*MTczNjk2MDMzNS4yNS4xLjE3MzY5NjA0MzQuMjMuMC4w&NONCE_TOKEN=5C42A58CF5CC6C710C38637EEAC2E1FB
END:VEVENT
END:VCALENDAR