BEGIN:VCALENDAR
VERSION:2.0
PRODID:-//Les Turner ALS Foundation - ECPv6.15.20//NONSGML v1.0//EN
CALSCALE:GREGORIAN
METHOD:PUBLISH
X-WR-CALNAME:Les Turner ALS Foundation
X-ORIGINAL-URL:https://lesturnerals.org
X-WR-CALDESC:Events for Les Turner ALS Foundation
REFRESH-INTERVAL;VALUE=DURATION:PT1H
X-Robots-Tag:noindex
X-PUBLISHED-TTL:PT1H
BEGIN:VTIMEZONE
TZID:America/Chicago
BEGIN:DAYLIGHT
TZOFFSETFROM:-0600
TZOFFSETTO:-0500
TZNAME:CDT
DTSTART:20250309T080000
END:DAYLIGHT
BEGIN:STANDARD
TZOFFSETFROM:-0500
TZOFFSETTO:-0600
TZNAME:CST
DTSTART:20251102T070000
END:STANDARD
BEGIN:DAYLIGHT
TZOFFSETFROM:-0600
TZOFFSETTO:-0500
TZNAME:CDT
DTSTART:20260308T080000
END:DAYLIGHT
BEGIN:STANDARD
TZOFFSETFROM:-0500
TZOFFSETTO:-0600
TZNAME:CST
DTSTART:20261101T070000
END:STANDARD
BEGIN:DAYLIGHT
TZOFFSETFROM:-0600
TZOFFSETTO:-0500
TZNAME:CDT
DTSTART:20270314T080000
END:DAYLIGHT
BEGIN:STANDARD
TZOFFSETFROM:-0500
TZOFFSETTO:-0600
TZNAME:CST
DTSTART:20271107T070000
END:STANDARD
END:VTIMEZONE
BEGIN:VEVENT
DTSTART;TZID=America/Chicago:20260421T190000
DTEND;TZID=America/Chicago:20260421T203000
DTSTAMP:20260423T064929
CREATED:20250613T165248Z
LAST-MODIFIED:20260407T203417Z
UID:10001209-1776798000-1776803400@lesturnerals.org
SUMMARY:Young Adult Support Group
DESCRIPTION:When a loved one is diagnosed with ALS\, it can be overwhelming\, especially for young adults who are navigating their own life milestones. It’s common to feel isolated or unsure of how to cope with the changes ALS brings to your family dynamic.\n\n\n\n\n\n\n\nThis supportive virtual group offers a space for young adults ages 18-30 to connect with peers who are experiencing similar challenges. In a relaxed and understanding environment\, you can share experiences\, explore feelings\, and find support from others who truly understand what you’re going through. \nThird Tuesday of Each Month (Beginning October 15) \nVisit our Calendar of Events for upcoming dates. \nTime: 7 – 8:30 p.m. CST \nFacilitator: Michelle Shaker\, LCSW \nRegister here
URL:https://lesturnerals.org/https-us02web-zoom-us-webinar-register-wn_nvixvs4-tqsr5bwy_malta-registration/young-adult-support-group-2/2026-04-21/
END:VEVENT
END:VCALENDAR