BEGIN:VCALENDAR
VERSION:2.0
PRODID:-//Les Turner ALS Foundation - ECPv6.15.20//NONSGML v1.0//EN
CALSCALE:GREGORIAN
METHOD:PUBLISH
X-WR-CALNAME:Les Turner ALS Foundation
X-ORIGINAL-URL:https://lesturnerals.org
X-WR-CALDESC:Events for Les Turner ALS Foundation
REFRESH-INTERVAL;VALUE=DURATION:PT1H
X-Robots-Tag:noindex
X-PUBLISHED-TTL:PT1H
BEGIN:VTIMEZONE
TZID:America/Chicago
BEGIN:DAYLIGHT
TZOFFSETFROM:-0600
TZOFFSETTO:-0500
TZNAME:CDT
DTSTART:20250309T080000
END:DAYLIGHT
BEGIN:STANDARD
TZOFFSETFROM:-0500
TZOFFSETTO:-0600
TZNAME:CST
DTSTART:20251102T070000
END:STANDARD
BEGIN:DAYLIGHT
TZOFFSETFROM:-0600
TZOFFSETTO:-0500
TZNAME:CDT
DTSTART:20260308T080000
END:DAYLIGHT
BEGIN:STANDARD
TZOFFSETFROM:-0500
TZOFFSETTO:-0600
TZNAME:CST
DTSTART:20261101T070000
END:STANDARD
BEGIN:DAYLIGHT
TZOFFSETFROM:-0600
TZOFFSETTO:-0500
TZNAME:CDT
DTSTART:20270314T080000
END:DAYLIGHT
BEGIN:STANDARD
TZOFFSETFROM:-0500
TZOFFSETTO:-0600
TZNAME:CST
DTSTART:20271107T070000
END:STANDARD
END:VTIMEZONE
BEGIN:VEVENT
DTSTART;TZID=America/Chicago:20260423T120000
DTEND;TZID=America/Chicago:20260423T130000
DTSTAMP:20260419T215049
CREATED:20260415T161450Z
LAST-MODIFIED:20260415T161636Z
UID:10002704-1776945600-1776949200@lesturnerals.org
SUMMARY:ALS Learning Series: Informed Decision-Making in ALS: An Open Discussion on Tracheostomy and Invasive Mechanical Ventilation
DESCRIPTION:Join us for an open and honest conversation about one of the more challenging decisions people living with ALS face: whether to pursue tracheostomy and invasive mechanical ventilation. Our panel discussion brings together diverse perspectives; through their stories and insights\, this webinar will help people with ALS\, their families\, and care partners understand the medical\, emotional\, and practical considerations involved in this decision. Whether you’re considering this option or supporting someone through their decision\, this discussion will provide valuable perspectives to inform your journey.  \nThe Les Turner ALS Foundation is proud to offer this webinar at no cost to the ALS community. Thank you to the Gilbert & Jacqueline Fern Foundation\, Biogen & Tanabe Pharma America for sponsoring this webinar. 
URL:https://lesturnerals.org/https-us02web-zoom-us-webinar-register-wn_nvixvs4-tqsr5bwy_malta-registration/als-learning-series-informed-decision-making-in-als-an-open-discussion-on-tracheostomy-and-invasive-mechanical-ventilation/
END:VEVENT
END:VCALENDAR