BEGIN:VCALENDAR
VERSION:2.0
PRODID:-//Les Turner ALS Foundation - ECPv6.15.20//NONSGML v1.0//EN
CALSCALE:GREGORIAN
METHOD:PUBLISH
X-WR-CALNAME:Les Turner ALS Foundation
X-ORIGINAL-URL:https://lesturnerals.org
X-WR-CALDESC:Events for Les Turner ALS Foundation
REFRESH-INTERVAL;VALUE=DURATION:PT1H
X-Robots-Tag:noindex
X-PUBLISHED-TTL:PT1H
BEGIN:VTIMEZONE
TZID:UTC
BEGIN:STANDARD
TZOFFSETFROM:+0000
TZOFFSETTO:+0000
TZNAME:UTC
DTSTART:20160101T000000
END:STANDARD
END:VTIMEZONE
BEGIN:VEVENT
DTSTART;TZID=UTC:20171028T103000
DTEND;TZID=UTC:20171028T120000
DTSTAMP:20260420T021757
CREATED:20161110T014631Z
LAST-MODIFIED:20161110T014631Z
UID:10000109-1509186600-1509192000@lesturnerals.org
SUMMARY:Wheaton Support Group
DESCRIPTION:*Meets the fourth Saturday of each month from 10:30am-12pm \nSupport group meetings are open to patients\, family members\, caregivers and friends. Each facility is wheelchair accessible and offers free parking. We request that you RSVP if you are planning to attend any of these meetings to assure there is availability. Alternatively\, if no one responds\, meetings will not be held. \nPlease contact Judy Richman at jrichman@lesturnerals.org or 847 679 3311 to RSVP\, for more information on any support groups or meetings\, or to be placed on our support group mailing list. \nFacilitator(s): Ileane Mindel\, RN and Elsa Cherwak\, PT
URL:https://lesturnerals.org/https-us02web-zoom-us-webinar-register-wn_nvixvs4-tqsr5bwy_malta-registration/wheaton-support-group-4/2017-10-28/
LOCATION:Marianjoy Rehab Center\, 26 W 171 Roosevelt Road\, Wheaton\, IL\, 60187\, United States
GEO:41.8589041;-88.1036465
X-APPLE-STRUCTURED-LOCATION;VALUE=URI;X-ADDRESS=Marianjoy Rehab Center 26 W 171 Roosevelt Road Wheaton IL 60187 United States;X-APPLE-RADIUS=500;X-TITLE=26 W 171 Roosevelt Road:geo:-88.1036465,41.8589041
END:VEVENT
BEGIN:VEVENT
DTSTART;TZID=UTC:20171106T080000
DTEND;TZID=UTC:20171106T160000
DTSTAMP:20260420T021757
CREATED:20170908T193112Z
LAST-MODIFIED:20170908T193112Z
UID:10000323-1509955200-1509984000@lesturnerals.org
SUMMARY:Les Turner Symposium on ALS and NeuroRepair
DESCRIPTION:The 7th Annual Les Turner Symposium on ALS and NeuroRepair celebrates research\, patient care and education. Featuring keynote speaker Christopher Henderson\, PhD\, Vice President of Neurology Research Biogen\, Inc.\, attendees will learn the latest on translating neuroscience into drugs for ALS patients. \nFor more information\, download this flyer. \nRegister Here \nFor questions\, contact jrichman@lesturnerals.org or contact the office at 847 679 3311
URL:https://lesturnerals.org/https-us02web-zoom-us-webinar-register-wn_nvixvs4-tqsr5bwy_malta-registration/les-turner-symposium-als-neurorepair/
LOCATION:Prentice Women’s Hospital\, 250 W. Superior Street\, Chicago\, IL\, 60611\, United States
GEO:41.896332;-87.62095
X-APPLE-STRUCTURED-LOCATION;VALUE=URI;X-ADDRESS=Prentice Women’s Hospital 250 W. Superior Street Chicago IL 60611 United States;X-APPLE-RADIUS=500;X-TITLE=250 W. Superior Street:geo:-87.62095,41.896332
END:VEVENT
BEGIN:VEVENT
DTSTART;TZID=UTC:20171112T130000
DTEND;TZID=UTC:20171112T150000
DTSTAMP:20260420T021757
CREATED:20170928T003239Z
LAST-MODIFIED:20170928T003759Z
UID:10000300-1510491600-1510498800@lesturnerals.org
SUMMARY:2017 Celebration of Life
DESCRIPTION:Please join us at the Les Turner ALS Foundation’s Celebration of Life to remember our loved ones lost to ALS. \nThis special service honors all those we have lost to ALS in the last forty years and includes readings by members of the Foundation’s Home and Community Services Team with a candle lighting ceremony and refreshments to follow. This event will take place in the lower level of the Foundation office. \nWays that you can actively participate in the Celebration of Life: \n• Memorial Plaque Program: With a memorial gift of $175 or more\, we would be honored to place your loved one’s name on our annual Remembrance Plaque. Please see this form for more details.\n• Include your loved one’s name in the Celebration of Life program book. All names will be read during the service. All names must be received by Friday\, October 20th.\n• Bring a photo of your loved one for our memories display. \nAttendance at the Celebration of Life is not required to participate in any of the above activities. \nSpace is limited\, please RSVP to info@lesturnerals.org or call the office at 847 679 3311 by Friday\, October 27
URL:https://lesturnerals.org/https-us02web-zoom-us-webinar-register-wn_nvixvs4-tqsr5bwy_malta-registration/2017-celebration-life/
LOCATION:The Les Turner ALS Foundation Office\, 5550 W. Touhy Avenue\, Skokie\, IL\, 60077
GEO:42.0126408;-87.7670777
X-APPLE-STRUCTURED-LOCATION;VALUE=URI;X-ADDRESS=The Les Turner ALS Foundation Office 5550 W. Touhy Avenue Skokie IL 60077;X-APPLE-RADIUS=500;X-TITLE=5550 W. Touhy Avenue:geo:-87.7670777,42.0126408
END:VEVENT
BEGIN:VEVENT
DTSTART;VALUE=DATE:20171124
DTEND;VALUE=DATE:20171125
DTSTAMP:20260420T021757
CREATED:20171103T185726Z
LAST-MODIFIED:20171103T185726Z
UID:10000298-1511481600-1511567999@lesturnerals.org
SUMMARY:Alfredo Pedro Perro World’s Longest Turkey Trot for ALS
DESCRIPTION:Five years ago\, ultramarathoner Alfredo Perro complained to his friend Scott Kummer that he wanted to run one last 100 mile race before the end of the year. Scott and Alfredo decided to simply run from the Chicago Bean to the city of Milwaukee for a roughly 100 mile turkey trot on black Friday. The called it the “World’s Longest Turkey Trot.” Shortly thereafter\, Alfredo was diagnosed with ALS. Alfredo fought a battle with the disease but lost his life to it in November 2015. \nEvery year a few runners have carried on this tradition in his honor by running between Chicago and Milwaukee on Black Friday. This year they hope to use the run to raise money and awareness for ALS. \nMake your donation to support Scott and his friends Racine\, Tim\, Doug\, Matt\, Andrew\, Jimmy\, Christine\, Susan\, Brian\, Rey and Elin as they run 100 miles from Chicago to Milwaukee on Black Friday!  \nDonate here.  \nFor questions\, contact events@lesturnerals.org
URL:https://lesturnerals.org/https-us02web-zoom-us-webinar-register-wn_nvixvs4-tqsr5bwy_malta-registration/alfredo-pedro-perro-worlds-longest-turkey-trot-als/
END:VEVENT
BEGIN:VEVENT
DTSTART;TZID=UTC:20171128T103000
DTEND;TZID=UTC:20171128T120000
DTSTAMP:20260420T021757
CREATED:20161110T014631Z
LAST-MODIFIED:20161110T014631Z
UID:10000110-1511865000-1511870400@lesturnerals.org
SUMMARY:Wheaton Support Group
DESCRIPTION:*Meets the fourth Saturday of each month from 10:30am-12pm \nSupport group meetings are open to patients\, family members\, caregivers and friends. Each facility is wheelchair accessible and offers free parking. We request that you RSVP if you are planning to attend any of these meetings to assure there is availability. Alternatively\, if no one responds\, meetings will not be held. \nPlease contact Judy Richman at jrichman@lesturnerals.org or 847 679 3311 to RSVP\, for more information on any support groups or meetings\, or to be placed on our support group mailing list. \nFacilitator(s): Ileane Mindel\, RN and Elsa Cherwak\, PT
URL:https://lesturnerals.org/https-us02web-zoom-us-webinar-register-wn_nvixvs4-tqsr5bwy_malta-registration/wheaton-support-group-4/2017-11-28/
LOCATION:Marianjoy Rehab Center\, 26 W 171 Roosevelt Road\, Wheaton\, IL\, 60187\, United States
GEO:41.8589041;-88.1036465
X-APPLE-STRUCTURED-LOCATION;VALUE=URI;X-ADDRESS=Marianjoy Rehab Center 26 W 171 Roosevelt Road Wheaton IL 60187 United States;X-APPLE-RADIUS=500;X-TITLE=26 W 171 Roosevelt Road:geo:-88.1036465,41.8589041
END:VEVENT
BEGIN:VEVENT
DTSTART;TZID=UTC:20180104T183000
DTEND;TZID=UTC:20180104T200000
DTSTAMP:20260420T021757
CREATED:20171215T213559Z
LAST-MODIFIED:20180103T213031Z
UID:10000230-1515090600-1515096000@lesturnerals.org
SUMMARY:CANCELLED Chicago Support Group
DESCRIPTION:*Meets the First Thursday of each month from 6:30pm – 8pm \nSupport group meetings are open to patients\, family members\, caregivers and friends. Each facility is wheelchair accessible and offers free parking. We request that you RSVP if you are planning to attend any of these meetings to assure there is availability. Alternatively\, if no one responds\, meetings will not be held. \nPlease contact Judy Richman at jrichman@lesturnerals.org or 847 679 3311 to RSVP\, for more information on any support groups or meetings\, or to be placed on our support group mailing list.
URL:https://lesturnerals.org/https-us02web-zoom-us-webinar-register-wn_nvixvs4-tqsr5bwy_malta-registration/chicago-support-group/
LOCATION:Saint Xavier University\, Shannon Center 2nd floor conference room\, Saint Xavier University\, Shannon Center 2nd floor conference room\, Chicago\, IL\, 60655\, United States
GEO:41.6931543;-87.7123355
X-APPLE-STRUCTURED-LOCATION;VALUE=URI;X-ADDRESS=Saint Xavier University Shannon Center 2nd floor conference room Saint Xavier University Shannon Center 2nd floor conference room Chicago IL 60655 United States;X-APPLE-RADIUS=500;X-TITLE=Saint Xavier University\, Shannon Center 2nd floor conference room:geo:-87.7123355,41.6931543
END:VEVENT
BEGIN:VEVENT
DTSTART;TZID=UTC:20180127T103000
DTEND;TZID=UTC:20180127T120000
DTSTAMP:20260420T021757
CREATED:20161110T014631Z
LAST-MODIFIED:20171215T222149Z
UID:10000017-1517049000-1517054400@lesturnerals.org
SUMMARY:Wheaton Support Group
DESCRIPTION:*Meets the fourth Saturday of each month from 10:30am-12pm \nSupport group meetings are open to patients\, family members\, caregivers and friends. Each facility is wheelchair accessible and offers free parking. We request that you RSVP if you are planning to attend any of these meetings to assure there is availability. Alternatively\, if no one responds\, meetings will not be held. \nPlease contact Judy Richman at jrichman@lesturnerals.org or 847 679 3311 to RSVP\, for more information on any support groups or meetings\, or to be placed on our support group mailing list. \nFacilitator(s): Ileane Mindel\, RN and Elsa Cherwak\, PT
URL:https://lesturnerals.org/https-us02web-zoom-us-webinar-register-wn_nvixvs4-tqsr5bwy_malta-registration/wheaton-support-group-4-2017-11-25/2018-01-27/
LOCATION:Marianjoy Rehab Center\, 26 W 171 Roosevelt Road\, Wheaton\, IL\, 60187\, United States
GEO:41.8589041;-88.1036465
X-APPLE-STRUCTURED-LOCATION;VALUE=URI;X-ADDRESS=Marianjoy Rehab Center 26 W 171 Roosevelt Road Wheaton IL 60187 United States;X-APPLE-RADIUS=500;X-TITLE=26 W 171 Roosevelt Road:geo:-88.1036465,41.8589041
END:VEVENT
BEGIN:VEVENT
DTSTART;TZID=UTC:20180201T183000
DTEND;TZID=UTC:20180201T200000
DTSTAMP:20260420T021757
CREATED:20171215T213559Z
LAST-MODIFIED:20180103T204910Z
UID:10000231-1517509800-1517515200@lesturnerals.org
SUMMARY:Chicago Support Group
DESCRIPTION:*Meets the First Thursday of each month from 6:30pm – 8pm \nSupport group meetings are open to patients\, family members\, caregivers and friends. Each facility is wheelchair accessible and offers free parking. We request that you RSVP if you are planning to attend any of these meetings to assure there is availability. Alternatively\, if no one responds\, meetings will not be held. \nPlease contact Judy Richman at jrichman@lesturnerals.org or 847 679 3311 to RSVP\, for more information on any support groups or meetings\, or to be placed on our support group mailing list.
URL:https://lesturnerals.org/https-us02web-zoom-us-webinar-register-wn_nvixvs4-tqsr5bwy_malta-registration/chicago-support-group-2018-02-01/2018-02-01/
LOCATION:Saint Xavier University\, Shannon Center 2nd floor conference room\, Saint Xavier University\, Shannon Center 2nd floor conference room\, Chicago\, IL\, 60655\, United States
GEO:41.6931543;-87.7123355
X-APPLE-STRUCTURED-LOCATION;VALUE=URI;X-ADDRESS=Saint Xavier University Shannon Center 2nd floor conference room Saint Xavier University Shannon Center 2nd floor conference room Chicago IL 60655 United States;X-APPLE-RADIUS=500;X-TITLE=Saint Xavier University\, Shannon Center 2nd floor conference room:geo:-87.7123355,41.6931543
END:VEVENT
BEGIN:VEVENT
DTSTART;VALUE=DATE:20180215
DTEND;VALUE=DATE:20180216
DTSTAMP:20260420T021757
CREATED:20180215T221227Z
LAST-MODIFIED:20180215T221227Z
UID:10000478-1518652800-1518739199@lesturnerals.org
SUMMARY:NCAA Bracket Challenge for Charity
DESCRIPTION:Buy your bracket to take part in supporting the Foundation through March Madness. Your purchase earns you entry to the kickoff party on Wednesday\, March 7 at The Scout Waterhouse.
URL:https://lesturnerals.org/https-us02web-zoom-us-webinar-register-wn_nvixvs4-tqsr5bwy_malta-registration/ncaa-bracket-challenge-charity/2018-02-15/
END:VEVENT
BEGIN:VEVENT
DTSTART;VALUE=DATE:20180216
DTEND;VALUE=DATE:20180217
DTSTAMP:20260420T021757
CREATED:20180215T221227Z
LAST-MODIFIED:20180215T221227Z
UID:10000479-1518739200-1518825599@lesturnerals.org
SUMMARY:NCAA Bracket Challenge for Charity
DESCRIPTION:Buy your bracket to take part in supporting the Foundation through March Madness. Your purchase earns you entry to the kickoff party on Wednesday\, March 7 at The Scout Waterhouse.
URL:https://lesturnerals.org/https-us02web-zoom-us-webinar-register-wn_nvixvs4-tqsr5bwy_malta-registration/ncaa-bracket-challenge-charity/2018-02-16/
END:VEVENT
BEGIN:VEVENT
DTSTART;VALUE=DATE:20180217
DTEND;VALUE=DATE:20180218
DTSTAMP:20260420T021757
CREATED:20180215T221227Z
LAST-MODIFIED:20180215T221227Z
UID:10000480-1518825600-1518911999@lesturnerals.org
SUMMARY:NCAA Bracket Challenge for Charity
DESCRIPTION:Buy your bracket to take part in supporting the Foundation through March Madness. Your purchase earns you entry to the kickoff party on Wednesday\, March 7 at The Scout Waterhouse.
URL:https://lesturnerals.org/https-us02web-zoom-us-webinar-register-wn_nvixvs4-tqsr5bwy_malta-registration/ncaa-bracket-challenge-charity/2018-02-17/
END:VEVENT
BEGIN:VEVENT
DTSTART;VALUE=DATE:20180218
DTEND;VALUE=DATE:20180219
DTSTAMP:20260420T021758
CREATED:20180215T221227Z
LAST-MODIFIED:20180215T221227Z
UID:10000481-1518912000-1518998399@lesturnerals.org
SUMMARY:NCAA Bracket Challenge for Charity
DESCRIPTION:Buy your bracket to take part in supporting the Foundation through March Madness. Your purchase earns you entry to the kickoff party on Wednesday\, March 7 at The Scout Waterhouse.
URL:https://lesturnerals.org/https-us02web-zoom-us-webinar-register-wn_nvixvs4-tqsr5bwy_malta-registration/ncaa-bracket-challenge-charity/2018-02-18/
END:VEVENT
BEGIN:VEVENT
DTSTART;VALUE=DATE:20180219
DTEND;VALUE=DATE:20180220
DTSTAMP:20260420T021758
CREATED:20180215T221227Z
LAST-MODIFIED:20180215T221227Z
UID:10000482-1518998400-1519084799@lesturnerals.org
SUMMARY:NCAA Bracket Challenge for Charity
DESCRIPTION:Buy your bracket to take part in supporting the Foundation through March Madness. Your purchase earns you entry to the kickoff party on Wednesday\, March 7 at The Scout Waterhouse.
URL:https://lesturnerals.org/https-us02web-zoom-us-webinar-register-wn_nvixvs4-tqsr5bwy_malta-registration/ncaa-bracket-challenge-charity/2018-02-19/
END:VEVENT
BEGIN:VEVENT
DTSTART;VALUE=DATE:20180220
DTEND;VALUE=DATE:20180221
DTSTAMP:20260420T021758
CREATED:20180215T221227Z
LAST-MODIFIED:20180215T221227Z
UID:10000483-1519084800-1519171199@lesturnerals.org
SUMMARY:NCAA Bracket Challenge for Charity
DESCRIPTION:Buy your bracket to take part in supporting the Foundation through March Madness. Your purchase earns you entry to the kickoff party on Wednesday\, March 7 at The Scout Waterhouse.
URL:https://lesturnerals.org/https-us02web-zoom-us-webinar-register-wn_nvixvs4-tqsr5bwy_malta-registration/ncaa-bracket-challenge-charity/2018-02-20/
END:VEVENT
BEGIN:VEVENT
DTSTART;VALUE=DATE:20180221
DTEND;VALUE=DATE:20180222
DTSTAMP:20260420T021758
CREATED:20180215T221227Z
LAST-MODIFIED:20180215T221227Z
UID:10000484-1519171200-1519257599@lesturnerals.org
SUMMARY:NCAA Bracket Challenge for Charity
DESCRIPTION:Buy your bracket to take part in supporting the Foundation through March Madness. Your purchase earns you entry to the kickoff party on Wednesday\, March 7 at The Scout Waterhouse.
URL:https://lesturnerals.org/https-us02web-zoom-us-webinar-register-wn_nvixvs4-tqsr5bwy_malta-registration/ncaa-bracket-challenge-charity/2018-02-21/
END:VEVENT
BEGIN:VEVENT
DTSTART;VALUE=DATE:20180222
DTEND;VALUE=DATE:20180223
DTSTAMP:20260420T021758
CREATED:20180215T221227Z
LAST-MODIFIED:20180215T221227Z
UID:10000485-1519257600-1519343999@lesturnerals.org
SUMMARY:NCAA Bracket Challenge for Charity
DESCRIPTION:Buy your bracket to take part in supporting the Foundation through March Madness. Your purchase earns you entry to the kickoff party on Wednesday\, March 7 at The Scout Waterhouse.
URL:https://lesturnerals.org/https-us02web-zoom-us-webinar-register-wn_nvixvs4-tqsr5bwy_malta-registration/ncaa-bracket-challenge-charity/2018-02-22/
END:VEVENT
BEGIN:VEVENT
DTSTART;VALUE=DATE:20180223
DTEND;VALUE=DATE:20180224
DTSTAMP:20260420T021758
CREATED:20180215T221227Z
LAST-MODIFIED:20180215T221227Z
UID:10000486-1519344000-1519430399@lesturnerals.org
SUMMARY:NCAA Bracket Challenge for Charity
DESCRIPTION:Buy your bracket to take part in supporting the Foundation through March Madness. Your purchase earns you entry to the kickoff party on Wednesday\, March 7 at The Scout Waterhouse.
URL:https://lesturnerals.org/https-us02web-zoom-us-webinar-register-wn_nvixvs4-tqsr5bwy_malta-registration/ncaa-bracket-challenge-charity/2018-02-23/
END:VEVENT
BEGIN:VEVENT
DTSTART;VALUE=DATE:20180224
DTEND;VALUE=DATE:20180225
DTSTAMP:20260420T021758
CREATED:20180215T221227Z
LAST-MODIFIED:20180215T221227Z
UID:10000487-1519430400-1519516799@lesturnerals.org
SUMMARY:NCAA Bracket Challenge for Charity
DESCRIPTION:Buy your bracket to take part in supporting the Foundation through March Madness. Your purchase earns you entry to the kickoff party on Wednesday\, March 7 at The Scout Waterhouse.
URL:https://lesturnerals.org/https-us02web-zoom-us-webinar-register-wn_nvixvs4-tqsr5bwy_malta-registration/ncaa-bracket-challenge-charity/2018-02-24/
END:VEVENT
BEGIN:VEVENT
DTSTART;TZID=UTC:20180224T103000
DTEND;TZID=UTC:20180224T120000
DTSTAMP:20260420T021758
CREATED:20161110T014631Z
LAST-MODIFIED:20171215T222149Z
UID:10000018-1519468200-1519473600@lesturnerals.org
SUMMARY:Wheaton Support Group
DESCRIPTION:*Meets the fourth Saturday of each month from 10:30am-12pm \nSupport group meetings are open to patients\, family members\, caregivers and friends. Each facility is wheelchair accessible and offers free parking. We request that you RSVP if you are planning to attend any of these meetings to assure there is availability. Alternatively\, if no one responds\, meetings will not be held. \nPlease contact Judy Richman at jrichman@lesturnerals.org or 847 679 3311 to RSVP\, for more information on any support groups or meetings\, or to be placed on our support group mailing list. \nFacilitator(s): Ileane Mindel\, RN and Elsa Cherwak\, PT
URL:https://lesturnerals.org/https-us02web-zoom-us-webinar-register-wn_nvixvs4-tqsr5bwy_malta-registration/wheaton-support-group-4-2017-11-25/2018-02-24/
LOCATION:Marianjoy Rehab Center\, 26 W 171 Roosevelt Road\, Wheaton\, IL\, 60187\, United States
GEO:41.8589041;-88.1036465
X-APPLE-STRUCTURED-LOCATION;VALUE=URI;X-ADDRESS=Marianjoy Rehab Center 26 W 171 Roosevelt Road Wheaton IL 60187 United States;X-APPLE-RADIUS=500;X-TITLE=26 W 171 Roosevelt Road:geo:-88.1036465,41.8589041
END:VEVENT
BEGIN:VEVENT
DTSTART;TZID=UTC:20180224T183000
DTEND;TZID=UTC:20180224T230000
DTSTAMP:20260420T021758
CREATED:20171208T220038Z
LAST-MODIFIED:20180104T215126Z
UID:10000296-1519497000-1519513200@lesturnerals.org
SUMMARY:Hope Through Caring Award Gala
DESCRIPTION:The 2018 Hope Through Caring Award Gala will be held Saturday\, February 24 at the Loews Chicago Hotel. The Hope Through Caring award was established in 1988 to honor those whose extraordinary commitment to the fight against ALS has helped raise funds for research and clinical care\, provide services for patients and their families and increase public awareness. The festive evening includes a reception\, balloon raffle\, dinner and dancing. \nPurchase your tickets today. \nVisit lesturnerals.org/events/hope-through-caring-award-gala to see ticket pricing and details about the event.
URL:https://lesturnerals.org/https-us02web-zoom-us-webinar-register-wn_nvixvs4-tqsr5bwy_malta-registration/hope-caring-award-gala-2/
LOCATION:Loews Chicago Hotel\, 455 N Park Drive\, Chicago\, IL\, 60611\, United States
GEO:41.889985;-87.6191292
X-APPLE-STRUCTURED-LOCATION;VALUE=URI;X-ADDRESS=Loews Chicago Hotel 455 N Park Drive Chicago IL 60611 United States;X-APPLE-RADIUS=500;X-TITLE=455 N Park Drive:geo:-87.6191292,41.889985
END:VEVENT
BEGIN:VEVENT
DTSTART;VALUE=DATE:20180225
DTEND;VALUE=DATE:20180226
DTSTAMP:20260420T021758
CREATED:20180215T221227Z
LAST-MODIFIED:20180215T221227Z
UID:10000488-1519516800-1519603199@lesturnerals.org
SUMMARY:NCAA Bracket Challenge for Charity
DESCRIPTION:Buy your bracket to take part in supporting the Foundation through March Madness. Your purchase earns you entry to the kickoff party on Wednesday\, March 7 at The Scout Waterhouse.
URL:https://lesturnerals.org/https-us02web-zoom-us-webinar-register-wn_nvixvs4-tqsr5bwy_malta-registration/ncaa-bracket-challenge-charity/2018-02-25/
END:VEVENT
BEGIN:VEVENT
DTSTART;VALUE=DATE:20180226
DTEND;VALUE=DATE:20180227
DTSTAMP:20260420T021758
CREATED:20180215T221227Z
LAST-MODIFIED:20180215T221227Z
UID:10000489-1519603200-1519689599@lesturnerals.org
SUMMARY:NCAA Bracket Challenge for Charity
DESCRIPTION:Buy your bracket to take part in supporting the Foundation through March Madness. Your purchase earns you entry to the kickoff party on Wednesday\, March 7 at The Scout Waterhouse.
URL:https://lesturnerals.org/https-us02web-zoom-us-webinar-register-wn_nvixvs4-tqsr5bwy_malta-registration/ncaa-bracket-challenge-charity/2018-02-26/
END:VEVENT
BEGIN:VEVENT
DTSTART;VALUE=DATE:20180227
DTEND;VALUE=DATE:20180228
DTSTAMP:20260420T021758
CREATED:20180215T221227Z
LAST-MODIFIED:20180215T221227Z
UID:10000490-1519689600-1519775999@lesturnerals.org
SUMMARY:NCAA Bracket Challenge for Charity
DESCRIPTION:Buy your bracket to take part in supporting the Foundation through March Madness. Your purchase earns you entry to the kickoff party on Wednesday\, March 7 at The Scout Waterhouse.
URL:https://lesturnerals.org/https-us02web-zoom-us-webinar-register-wn_nvixvs4-tqsr5bwy_malta-registration/ncaa-bracket-challenge-charity/2018-02-27/
END:VEVENT
BEGIN:VEVENT
DTSTART;VALUE=DATE:20180228
DTEND;VALUE=DATE:20180301
DTSTAMP:20260420T021758
CREATED:20180215T221227Z
LAST-MODIFIED:20180215T221227Z
UID:10000491-1519776000-1519862399@lesturnerals.org
SUMMARY:NCAA Bracket Challenge for Charity
DESCRIPTION:Buy your bracket to take part in supporting the Foundation through March Madness. Your purchase earns you entry to the kickoff party on Wednesday\, March 7 at The Scout Waterhouse.
URL:https://lesturnerals.org/https-us02web-zoom-us-webinar-register-wn_nvixvs4-tqsr5bwy_malta-registration/ncaa-bracket-challenge-charity/2018-02-28/
END:VEVENT
BEGIN:VEVENT
DTSTART;VALUE=DATE:20180301
DTEND;VALUE=DATE:20180302
DTSTAMP:20260420T021758
CREATED:20180215T221227Z
LAST-MODIFIED:20180215T221227Z
UID:10000492-1519862400-1519948799@lesturnerals.org
SUMMARY:NCAA Bracket Challenge for Charity
DESCRIPTION:Buy your bracket to take part in supporting the Foundation through March Madness. Your purchase earns you entry to the kickoff party on Wednesday\, March 7 at The Scout Waterhouse.
URL:https://lesturnerals.org/https-us02web-zoom-us-webinar-register-wn_nvixvs4-tqsr5bwy_malta-registration/ncaa-bracket-challenge-charity/2018-03-01/
END:VEVENT
BEGIN:VEVENT
DTSTART;TZID=UTC:20180301T183000
DTEND;TZID=UTC:20180301T200000
DTSTAMP:20260420T021758
CREATED:20171215T213559Z
LAST-MODIFIED:20180103T204910Z
UID:10000232-1519929000-1519934400@lesturnerals.org
SUMMARY:Chicago Support Group
DESCRIPTION:*Meets the First Thursday of each month from 6:30pm – 8pm \nSupport group meetings are open to patients\, family members\, caregivers and friends. Each facility is wheelchair accessible and offers free parking. We request that you RSVP if you are planning to attend any of these meetings to assure there is availability. Alternatively\, if no one responds\, meetings will not be held. \nPlease contact Judy Richman at jrichman@lesturnerals.org or 847 679 3311 to RSVP\, for more information on any support groups or meetings\, or to be placed on our support group mailing list.
URL:https://lesturnerals.org/https-us02web-zoom-us-webinar-register-wn_nvixvs4-tqsr5bwy_malta-registration/chicago-support-group-2018-02-01/2018-03-01/
LOCATION:Saint Xavier University\, Shannon Center 2nd floor conference room\, Saint Xavier University\, Shannon Center 2nd floor conference room\, Chicago\, IL\, 60655\, United States
GEO:41.6931543;-87.7123355
X-APPLE-STRUCTURED-LOCATION;VALUE=URI;X-ADDRESS=Saint Xavier University Shannon Center 2nd floor conference room Saint Xavier University Shannon Center 2nd floor conference room Chicago IL 60655 United States;X-APPLE-RADIUS=500;X-TITLE=Saint Xavier University\, Shannon Center 2nd floor conference room:geo:-87.7123355,41.6931543
END:VEVENT
BEGIN:VEVENT
DTSTART;VALUE=DATE:20180302
DTEND;VALUE=DATE:20180303
DTSTAMP:20260420T021758
CREATED:20180215T221227Z
LAST-MODIFIED:20180215T221227Z
UID:10000493-1519948800-1520035199@lesturnerals.org
SUMMARY:NCAA Bracket Challenge for Charity
DESCRIPTION:Buy your bracket to take part in supporting the Foundation through March Madness. Your purchase earns you entry to the kickoff party on Wednesday\, March 7 at The Scout Waterhouse.
URL:https://lesturnerals.org/https-us02web-zoom-us-webinar-register-wn_nvixvs4-tqsr5bwy_malta-registration/ncaa-bracket-challenge-charity/2018-03-02/
END:VEVENT
BEGIN:VEVENT
DTSTART;VALUE=DATE:20180303
DTEND;VALUE=DATE:20180304
DTSTAMP:20260420T021758
CREATED:20180215T221227Z
LAST-MODIFIED:20180215T221227Z
UID:10000494-1520035200-1520121599@lesturnerals.org
SUMMARY:NCAA Bracket Challenge for Charity
DESCRIPTION:Buy your bracket to take part in supporting the Foundation through March Madness. Your purchase earns you entry to the kickoff party on Wednesday\, March 7 at The Scout Waterhouse.
URL:https://lesturnerals.org/https-us02web-zoom-us-webinar-register-wn_nvixvs4-tqsr5bwy_malta-registration/ncaa-bracket-challenge-charity/2018-03-03/
END:VEVENT
BEGIN:VEVENT
DTSTART;VALUE=DATE:20180304
DTEND;VALUE=DATE:20180305
DTSTAMP:20260420T021758
CREATED:20180215T221227Z
LAST-MODIFIED:20180215T221227Z
UID:10000495-1520121600-1520207999@lesturnerals.org
SUMMARY:NCAA Bracket Challenge for Charity
DESCRIPTION:Buy your bracket to take part in supporting the Foundation through March Madness. Your purchase earns you entry to the kickoff party on Wednesday\, March 7 at The Scout Waterhouse.
URL:https://lesturnerals.org/https-us02web-zoom-us-webinar-register-wn_nvixvs4-tqsr5bwy_malta-registration/ncaa-bracket-challenge-charity/2018-03-04/
END:VEVENT
BEGIN:VEVENT
DTSTART;VALUE=DATE:20180305
DTEND;VALUE=DATE:20180306
DTSTAMP:20260420T021758
CREATED:20180215T221227Z
LAST-MODIFIED:20180215T221227Z
UID:10000496-1520208000-1520294399@lesturnerals.org
SUMMARY:NCAA Bracket Challenge for Charity
DESCRIPTION:Buy your bracket to take part in supporting the Foundation through March Madness. Your purchase earns you entry to the kickoff party on Wednesday\, March 7 at The Scout Waterhouse.
URL:https://lesturnerals.org/https-us02web-zoom-us-webinar-register-wn_nvixvs4-tqsr5bwy_malta-registration/ncaa-bracket-challenge-charity/2018-03-05/
END:VEVENT
END:VCALENDAR