BEGIN:VCALENDAR
VERSION:2.0
PRODID:-//Les Turner ALS Foundation - ECPv6.15.20//NONSGML v1.0//EN
CALSCALE:GREGORIAN
METHOD:PUBLISH
X-WR-CALNAME:Les Turner ALS Foundation
X-ORIGINAL-URL:https://lesturnerals.org
X-WR-CALDESC:Events for Les Turner ALS Foundation
REFRESH-INTERVAL;VALUE=DURATION:PT1H
X-Robots-Tag:noindex
X-PUBLISHED-TTL:PT1H
BEGIN:VTIMEZONE
TZID:UTC
BEGIN:STANDARD
TZOFFSETFROM:+0000
TZOFFSETTO:+0000
TZNAME:UTC
DTSTART:20170101T000000
END:STANDARD
END:VTIMEZONE
BEGIN:VEVENT
DTSTART;VALUE=DATE:20180225
DTEND;VALUE=DATE:20180226
DTSTAMP:20260420T002921
CREATED:20180215T221227Z
LAST-MODIFIED:20180215T221227Z
UID:10000488-1519516800-1519603199@lesturnerals.org
SUMMARY:NCAA Bracket Challenge for Charity
DESCRIPTION:Buy your bracket to take part in supporting the Foundation through March Madness. Your purchase earns you entry to the kickoff party on Wednesday\, March 7 at The Scout Waterhouse.
URL:https://lesturnerals.org/https-us02web-zoom-us-webinar-register-wn_nvixvs4-tqsr5bwy_malta-registration/ncaa-bracket-challenge-charity/2018-02-25/
END:VEVENT
BEGIN:VEVENT
DTSTART;VALUE=DATE:20180226
DTEND;VALUE=DATE:20180227
DTSTAMP:20260420T002921
CREATED:20180215T221227Z
LAST-MODIFIED:20180215T221227Z
UID:10000489-1519603200-1519689599@lesturnerals.org
SUMMARY:NCAA Bracket Challenge for Charity
DESCRIPTION:Buy your bracket to take part in supporting the Foundation through March Madness. Your purchase earns you entry to the kickoff party on Wednesday\, March 7 at The Scout Waterhouse.
URL:https://lesturnerals.org/https-us02web-zoom-us-webinar-register-wn_nvixvs4-tqsr5bwy_malta-registration/ncaa-bracket-challenge-charity/2018-02-26/
END:VEVENT
BEGIN:VEVENT
DTSTART;VALUE=DATE:20180227
DTEND;VALUE=DATE:20180228
DTSTAMP:20260420T002921
CREATED:20180215T221227Z
LAST-MODIFIED:20180215T221227Z
UID:10000490-1519689600-1519775999@lesturnerals.org
SUMMARY:NCAA Bracket Challenge for Charity
DESCRIPTION:Buy your bracket to take part in supporting the Foundation through March Madness. Your purchase earns you entry to the kickoff party on Wednesday\, March 7 at The Scout Waterhouse.
URL:https://lesturnerals.org/https-us02web-zoom-us-webinar-register-wn_nvixvs4-tqsr5bwy_malta-registration/ncaa-bracket-challenge-charity/2018-02-27/
END:VEVENT
BEGIN:VEVENT
DTSTART;VALUE=DATE:20180228
DTEND;VALUE=DATE:20180301
DTSTAMP:20260420T002921
CREATED:20180215T221227Z
LAST-MODIFIED:20180215T221227Z
UID:10000491-1519776000-1519862399@lesturnerals.org
SUMMARY:NCAA Bracket Challenge for Charity
DESCRIPTION:Buy your bracket to take part in supporting the Foundation through March Madness. Your purchase earns you entry to the kickoff party on Wednesday\, March 7 at The Scout Waterhouse.
URL:https://lesturnerals.org/https-us02web-zoom-us-webinar-register-wn_nvixvs4-tqsr5bwy_malta-registration/ncaa-bracket-challenge-charity/2018-02-28/
END:VEVENT
BEGIN:VEVENT
DTSTART;VALUE=DATE:20180301
DTEND;VALUE=DATE:20180302
DTSTAMP:20260420T002921
CREATED:20180215T221227Z
LAST-MODIFIED:20180215T221227Z
UID:10000492-1519862400-1519948799@lesturnerals.org
SUMMARY:NCAA Bracket Challenge for Charity
DESCRIPTION:Buy your bracket to take part in supporting the Foundation through March Madness. Your purchase earns you entry to the kickoff party on Wednesday\, March 7 at The Scout Waterhouse.
URL:https://lesturnerals.org/https-us02web-zoom-us-webinar-register-wn_nvixvs4-tqsr5bwy_malta-registration/ncaa-bracket-challenge-charity/2018-03-01/
END:VEVENT
BEGIN:VEVENT
DTSTART;TZID=UTC:20180301T183000
DTEND;TZID=UTC:20180301T200000
DTSTAMP:20260420T002921
CREATED:20171215T213559Z
LAST-MODIFIED:20180103T204910Z
UID:10000232-1519929000-1519934400@lesturnerals.org
SUMMARY:Chicago Support Group
DESCRIPTION:*Meets the First Thursday of each month from 6:30pm – 8pm \nSupport group meetings are open to patients\, family members\, caregivers and friends. Each facility is wheelchair accessible and offers free parking. We request that you RSVP if you are planning to attend any of these meetings to assure there is availability. Alternatively\, if no one responds\, meetings will not be held. \nPlease contact Judy Richman at jrichman@lesturnerals.org or 847 679 3311 to RSVP\, for more information on any support groups or meetings\, or to be placed on our support group mailing list.
URL:https://lesturnerals.org/https-us02web-zoom-us-webinar-register-wn_nvixvs4-tqsr5bwy_malta-registration/chicago-support-group-2018-02-01/2018-03-01/
LOCATION:Saint Xavier University\, Shannon Center 2nd floor conference room\, Saint Xavier University\, Shannon Center 2nd floor conference room\, Chicago\, IL\, 60655\, United States
GEO:41.6931543;-87.7123355
X-APPLE-STRUCTURED-LOCATION;VALUE=URI;X-ADDRESS=Saint Xavier University Shannon Center 2nd floor conference room Saint Xavier University Shannon Center 2nd floor conference room Chicago IL 60655 United States;X-APPLE-RADIUS=500;X-TITLE=Saint Xavier University\, Shannon Center 2nd floor conference room:geo:-87.7123355,41.6931543
END:VEVENT
BEGIN:VEVENT
DTSTART;VALUE=DATE:20180302
DTEND;VALUE=DATE:20180303
DTSTAMP:20260420T002921
CREATED:20180215T221227Z
LAST-MODIFIED:20180215T221227Z
UID:10000493-1519948800-1520035199@lesturnerals.org
SUMMARY:NCAA Bracket Challenge for Charity
DESCRIPTION:Buy your bracket to take part in supporting the Foundation through March Madness. Your purchase earns you entry to the kickoff party on Wednesday\, March 7 at The Scout Waterhouse.
URL:https://lesturnerals.org/https-us02web-zoom-us-webinar-register-wn_nvixvs4-tqsr5bwy_malta-registration/ncaa-bracket-challenge-charity/2018-03-02/
END:VEVENT
BEGIN:VEVENT
DTSTART;VALUE=DATE:20180303
DTEND;VALUE=DATE:20180304
DTSTAMP:20260420T002921
CREATED:20180215T221227Z
LAST-MODIFIED:20180215T221227Z
UID:10000494-1520035200-1520121599@lesturnerals.org
SUMMARY:NCAA Bracket Challenge for Charity
DESCRIPTION:Buy your bracket to take part in supporting the Foundation through March Madness. Your purchase earns you entry to the kickoff party on Wednesday\, March 7 at The Scout Waterhouse.
URL:https://lesturnerals.org/https-us02web-zoom-us-webinar-register-wn_nvixvs4-tqsr5bwy_malta-registration/ncaa-bracket-challenge-charity/2018-03-03/
END:VEVENT
BEGIN:VEVENT
DTSTART;VALUE=DATE:20180304
DTEND;VALUE=DATE:20180305
DTSTAMP:20260420T002921
CREATED:20180215T221227Z
LAST-MODIFIED:20180215T221227Z
UID:10000495-1520121600-1520207999@lesturnerals.org
SUMMARY:NCAA Bracket Challenge for Charity
DESCRIPTION:Buy your bracket to take part in supporting the Foundation through March Madness. Your purchase earns you entry to the kickoff party on Wednesday\, March 7 at The Scout Waterhouse.
URL:https://lesturnerals.org/https-us02web-zoom-us-webinar-register-wn_nvixvs4-tqsr5bwy_malta-registration/ncaa-bracket-challenge-charity/2018-03-04/
END:VEVENT
BEGIN:VEVENT
DTSTART;VALUE=DATE:20180305
DTEND;VALUE=DATE:20180306
DTSTAMP:20260420T002921
CREATED:20180215T221227Z
LAST-MODIFIED:20180215T221227Z
UID:10000496-1520208000-1520294399@lesturnerals.org
SUMMARY:NCAA Bracket Challenge for Charity
DESCRIPTION:Buy your bracket to take part in supporting the Foundation through March Madness. Your purchase earns you entry to the kickoff party on Wednesday\, March 7 at The Scout Waterhouse.
URL:https://lesturnerals.org/https-us02web-zoom-us-webinar-register-wn_nvixvs4-tqsr5bwy_malta-registration/ncaa-bracket-challenge-charity/2018-03-05/
END:VEVENT
BEGIN:VEVENT
DTSTART;VALUE=DATE:20180306
DTEND;VALUE=DATE:20180307
DTSTAMP:20260420T002921
CREATED:20180215T221227Z
LAST-MODIFIED:20180215T221227Z
UID:10000497-1520294400-1520380799@lesturnerals.org
SUMMARY:NCAA Bracket Challenge for Charity
DESCRIPTION:Buy your bracket to take part in supporting the Foundation through March Madness. Your purchase earns you entry to the kickoff party on Wednesday\, March 7 at The Scout Waterhouse.
URL:https://lesturnerals.org/https-us02web-zoom-us-webinar-register-wn_nvixvs4-tqsr5bwy_malta-registration/ncaa-bracket-challenge-charity/2018-03-06/
END:VEVENT
BEGIN:VEVENT
DTSTART;VALUE=DATE:20180307
DTEND;VALUE=DATE:20180308
DTSTAMP:20260420T002921
CREATED:20180215T221227Z
LAST-MODIFIED:20180215T221227Z
UID:10000498-1520380800-1520467199@lesturnerals.org
SUMMARY:NCAA Bracket Challenge for Charity
DESCRIPTION:Buy your bracket to take part in supporting the Foundation through March Madness. Your purchase earns you entry to the kickoff party on Wednesday\, March 7 at The Scout Waterhouse.
URL:https://lesturnerals.org/https-us02web-zoom-us-webinar-register-wn_nvixvs4-tqsr5bwy_malta-registration/ncaa-bracket-challenge-charity/2018-03-07/
END:VEVENT
BEGIN:VEVENT
DTSTART;TZID=UTC:20180307T180000
DTEND;TZID=UTC:20180307T210000
DTSTAMP:20260420T002921
CREATED:20180222T214259Z
LAST-MODIFIED:20180222T214259Z
UID:10000508-1520445600-1520456400@lesturnerals.org
SUMMARY:NCAA Bracket Challenge for Charity Kickoff Party
DESCRIPTION:Join us at The Scout Waterhouse\, Chicago to kickoff March Madness!
URL:https://lesturnerals.org/https-us02web-zoom-us-webinar-register-wn_nvixvs4-tqsr5bwy_malta-registration/ncaa-bracket-challenge-charity-kickoff-party/
LOCATION:The Scout\, 1301 S. Wabash Ave.\, Chicago \, IL\, United States
GEO:41.865626;-87.6252818
X-APPLE-STRUCTURED-LOCATION;VALUE=URI;X-ADDRESS=The Scout 1301 S. Wabash Ave. Chicago  IL United States;X-APPLE-RADIUS=500;X-TITLE=1301 S. Wabash Ave.:geo:-87.6252818,41.865626
END:VEVENT
BEGIN:VEVENT
DTSTART;VALUE=DATE:20180308
DTEND;VALUE=DATE:20180309
DTSTAMP:20260420T002921
CREATED:20180215T221227Z
LAST-MODIFIED:20180215T221227Z
UID:10000499-1520467200-1520553599@lesturnerals.org
SUMMARY:NCAA Bracket Challenge for Charity
DESCRIPTION:Buy your bracket to take part in supporting the Foundation through March Madness. Your purchase earns you entry to the kickoff party on Wednesday\, March 7 at The Scout Waterhouse.
URL:https://lesturnerals.org/https-us02web-zoom-us-webinar-register-wn_nvixvs4-tqsr5bwy_malta-registration/ncaa-bracket-challenge-charity/2018-03-08/
END:VEVENT
BEGIN:VEVENT
DTSTART;VALUE=DATE:20180309
DTEND;VALUE=DATE:20180310
DTSTAMP:20260420T002921
CREATED:20180215T221227Z
LAST-MODIFIED:20180215T221227Z
UID:10000500-1520553600-1520639999@lesturnerals.org
SUMMARY:NCAA Bracket Challenge for Charity
DESCRIPTION:Buy your bracket to take part in supporting the Foundation through March Madness. Your purchase earns you entry to the kickoff party on Wednesday\, March 7 at The Scout Waterhouse.
URL:https://lesturnerals.org/https-us02web-zoom-us-webinar-register-wn_nvixvs4-tqsr5bwy_malta-registration/ncaa-bracket-challenge-charity/2018-03-09/
END:VEVENT
BEGIN:VEVENT
DTSTART;VALUE=DATE:20180310
DTEND;VALUE=DATE:20180311
DTSTAMP:20260420T002921
CREATED:20180215T221227Z
LAST-MODIFIED:20180215T221227Z
UID:10000501-1520640000-1520726399@lesturnerals.org
SUMMARY:NCAA Bracket Challenge for Charity
DESCRIPTION:Buy your bracket to take part in supporting the Foundation through March Madness. Your purchase earns you entry to the kickoff party on Wednesday\, March 7 at The Scout Waterhouse.
URL:https://lesturnerals.org/https-us02web-zoom-us-webinar-register-wn_nvixvs4-tqsr5bwy_malta-registration/ncaa-bracket-challenge-charity/2018-03-10/
END:VEVENT
BEGIN:VEVENT
DTSTART;VALUE=DATE:20180311
DTEND;VALUE=DATE:20180312
DTSTAMP:20260420T002921
CREATED:20180215T221227Z
LAST-MODIFIED:20180215T221227Z
UID:10000502-1520726400-1520812799@lesturnerals.org
SUMMARY:NCAA Bracket Challenge for Charity
DESCRIPTION:Buy your bracket to take part in supporting the Foundation through March Madness. Your purchase earns you entry to the kickoff party on Wednesday\, March 7 at The Scout Waterhouse.
URL:https://lesturnerals.org/https-us02web-zoom-us-webinar-register-wn_nvixvs4-tqsr5bwy_malta-registration/ncaa-bracket-challenge-charity/2018-03-11/
END:VEVENT
BEGIN:VEVENT
DTSTART;VALUE=DATE:20180312
DTEND;VALUE=DATE:20180313
DTSTAMP:20260420T002921
CREATED:20180215T221227Z
LAST-MODIFIED:20180215T221227Z
UID:10000503-1520812800-1520899199@lesturnerals.org
SUMMARY:NCAA Bracket Challenge for Charity
DESCRIPTION:Buy your bracket to take part in supporting the Foundation through March Madness. Your purchase earns you entry to the kickoff party on Wednesday\, March 7 at The Scout Waterhouse.
URL:https://lesturnerals.org/https-us02web-zoom-us-webinar-register-wn_nvixvs4-tqsr5bwy_malta-registration/ncaa-bracket-challenge-charity/2018-03-12/
END:VEVENT
BEGIN:VEVENT
DTSTART;VALUE=DATE:20180313
DTEND;VALUE=DATE:20180314
DTSTAMP:20260420T002921
CREATED:20180215T221227Z
LAST-MODIFIED:20180215T221227Z
UID:10000504-1520899200-1520985599@lesturnerals.org
SUMMARY:NCAA Bracket Challenge for Charity
DESCRIPTION:Buy your bracket to take part in supporting the Foundation through March Madness. Your purchase earns you entry to the kickoff party on Wednesday\, March 7 at The Scout Waterhouse.
URL:https://lesturnerals.org/https-us02web-zoom-us-webinar-register-wn_nvixvs4-tqsr5bwy_malta-registration/ncaa-bracket-challenge-charity/2018-03-13/
END:VEVENT
BEGIN:VEVENT
DTSTART;VALUE=DATE:20180314
DTEND;VALUE=DATE:20180315
DTSTAMP:20260420T002921
CREATED:20180215T221227Z
LAST-MODIFIED:20180215T221227Z
UID:10000505-1520985600-1521071999@lesturnerals.org
SUMMARY:NCAA Bracket Challenge for Charity
DESCRIPTION:Buy your bracket to take part in supporting the Foundation through March Madness. Your purchase earns you entry to the kickoff party on Wednesday\, March 7 at The Scout Waterhouse.
URL:https://lesturnerals.org/https-us02web-zoom-us-webinar-register-wn_nvixvs4-tqsr5bwy_malta-registration/ncaa-bracket-challenge-charity/2018-03-14/
END:VEVENT
BEGIN:VEVENT
DTSTART;VALUE=DATE:20180315
DTEND;VALUE=DATE:20180316
DTSTAMP:20260420T002921
CREATED:20180215T221227Z
LAST-MODIFIED:20180215T221227Z
UID:10000506-1521072000-1521158399@lesturnerals.org
SUMMARY:NCAA Bracket Challenge for Charity
DESCRIPTION:Buy your bracket to take part in supporting the Foundation through March Madness. Your purchase earns you entry to the kickoff party on Wednesday\, March 7 at The Scout Waterhouse.
URL:https://lesturnerals.org/https-us02web-zoom-us-webinar-register-wn_nvixvs4-tqsr5bwy_malta-registration/ncaa-bracket-challenge-charity/2018-03-15/
END:VEVENT
BEGIN:VEVENT
DTSTART;TZID=UTC:20180317T103000
DTEND;TZID=UTC:20180317T120000
DTSTAMP:20260420T002921
CREATED:20180222T214459Z
LAST-MODIFIED:20180222T214459Z
UID:10000510-1521282600-1521288000@lesturnerals.org
SUMMARY:Leprechaun Leap
DESCRIPTION:Can’t wait for the beach season to start? You are in luck! Join the Winnetka Park District and the Les Turner ALS Foundation for a quick leap in Lake Michigan to celebrate St. Patty’s Day and support ALS research. A portion of the registration fees will be given to the Les Turner ALS Foundation\, and all participants have the opportunity to raise money for their leap which will be donated directly to the foundation. Stick around after your brave leap for free refreshments and fun by the bon fires along the beach. All ages are welcome to participate. \nFees: $32 Winnetka Residents / $42 Non-Residents\nShirt Registration Deadline: February 23 \nPresenting Business Partner: First Bank & Trust
URL:https://lesturnerals.org/https-us02web-zoom-us-webinar-register-wn_nvixvs4-tqsr5bwy_malta-registration/leprechaun-leap/
LOCATION:Lloyd Beach\, Winnetka
END:VEVENT
BEGIN:VEVENT
DTSTART;TZID=UTC:20180323T100000
DTEND;TZID=UTC:20180323T200000
DTSTAMP:20260420T002921
CREATED:20171208T224400Z
LAST-MODIFIED:20171213T000848Z
UID:10000294-1521799200-1521835200@lesturnerals.org
SUMMARY:Shamrock Shuffle Health & Fitness Expo
DESCRIPTION:Celebrate the spring running season at the Bank of America Shamrock Shuffle 8K Health & Fitness Expo. The Health & Fitness Expo features exhibiting companies\, offering runners and walkers the latest in footwear\, apparel\, nutrition and technology. The Expo is free and open to public. \nAt the Expo\, Team Race for ALS participants must pick up their packet and materials: timing devices (for 8K)\, event bib number\, Nike participant running shirt and other Les Turner merchandise. Be sure to stop by the Les Turner ALS Foundation booth to meet your Team Race for ALS coordinator and fellow teammates! \nFor questions regarding the Bank of America Shamrock Shuffle Health & Fitness Expo\, contact events@lesturnerals.org
URL:https://lesturnerals.org/https-us02web-zoom-us-webinar-register-wn_nvixvs4-tqsr5bwy_malta-registration/bank-america-shamrock-shuffle-health-fitness-expo-2/
LOCATION:McCormick Place\, West Building\, Skyline Ballroom\, 2301 South Indiana Ave.\, Chicago\, IL\, 60616\, United States
GEO:41.8507901;-87.6217867
X-APPLE-STRUCTURED-LOCATION;VALUE=URI;X-ADDRESS=McCormick Place West Building Skyline Ballroom 2301 South Indiana Ave. Chicago IL 60616 United States;X-APPLE-RADIUS=500;X-TITLE=2301 South Indiana Ave.:geo:-87.6217867,41.8507901
END:VEVENT
BEGIN:VEVENT
DTSTART;TZID=UTC:20180324T090000
DTEND;TZID=UTC:20180324T180000
DTSTAMP:20260420T002921
CREATED:20171208T224832Z
LAST-MODIFIED:20171213T001031Z
UID:10000322-1521882000-1521914400@lesturnerals.org
SUMMARY:Shamrock Shuffle Health & Fitness Expo
DESCRIPTION:Celebrate the spring running season at the Bank of America Shamrock Shuffle 8K Health & Fitness Expo. The Health & Fitness Expo features exhibiting companies\, offering runners and walkers the latest in footwear\, apparel\, nutrition and technology. The Expo is free and open to public. \nAt the Expo\, Team Race for ALS participants must pick up their packet and materials: timing devices (for 8K)\, event bib number\, Nike participant running shirt and other Les Turner merchandise. Be sure to stop by the Les Turner ALS Foundation booth to meet your Team Race for ALS coordinator and fellow teammates! \nFor questions regarding the Bank of America Shamrock Shuffle Health & Fitness Expo\, contact events@lesturnerals.org
URL:https://lesturnerals.org/https-us02web-zoom-us-webinar-register-wn_nvixvs4-tqsr5bwy_malta-registration/bank-america-shamrock-shuffle-health-fitness-expo-3/
LOCATION:McCormick Place\, West Building\, Skyline Ballroom\, 2301 South Indiana Ave.\, Chicago\, IL\, 60616\, United States
GEO:41.8507901;-87.6217867
X-APPLE-STRUCTURED-LOCATION;VALUE=URI;X-ADDRESS=McCormick Place West Building Skyline Ballroom 2301 South Indiana Ave. Chicago IL 60616 United States;X-APPLE-RADIUS=500;X-TITLE=2301 South Indiana Ave.:geo:-87.6217867,41.8507901
END:VEVENT
BEGIN:VEVENT
DTSTART;TZID=UTC:20180324T103000
DTEND;TZID=UTC:20180324T120000
DTSTAMP:20260420T002921
CREATED:20161110T014631Z
LAST-MODIFIED:20171215T222149Z
UID:10000019-1521887400-1521892800@lesturnerals.org
SUMMARY:Wheaton Support Group
DESCRIPTION:*Meets the fourth Saturday of each month from 10:30am-12pm \nSupport group meetings are open to patients\, family members\, caregivers and friends. Each facility is wheelchair accessible and offers free parking. We request that you RSVP if you are planning to attend any of these meetings to assure there is availability. Alternatively\, if no one responds\, meetings will not be held. \nPlease contact Judy Richman at jrichman@lesturnerals.org or 847 679 3311 to RSVP\, for more information on any support groups or meetings\, or to be placed on our support group mailing list. \nFacilitator(s): Ileane Mindel\, RN and Elsa Cherwak\, PT
URL:https://lesturnerals.org/https-us02web-zoom-us-webinar-register-wn_nvixvs4-tqsr5bwy_malta-registration/wheaton-support-group-4-2017-11-25/2018-03-24/
LOCATION:Marianjoy Rehab Center\, 26 W 171 Roosevelt Road\, Wheaton\, IL\, 60187\, United States
GEO:41.8589041;-88.1036465
X-APPLE-STRUCTURED-LOCATION;VALUE=URI;X-ADDRESS=Marianjoy Rehab Center 26 W 171 Roosevelt Road Wheaton IL 60187 United States;X-APPLE-RADIUS=500;X-TITLE=26 W 171 Roosevelt Road:geo:-88.1036465,41.8589041
END:VEVENT
BEGIN:VEVENT
DTSTART;TZID=UTC:20180325T060000
DTEND;TZID=UTC:20180325T130000
DTSTAMP:20260420T002921
CREATED:20171208T231145Z
LAST-MODIFIED:20171208T231145Z
UID:10000321-1521957600-1521982800@lesturnerals.org
SUMMARY:Bank of America Shamrock Shuffle 8K
DESCRIPTION:Run with Team Race for ALS in the Bank of America Shamrock Shuffle to continue the St. Patrick’s Day celebration and kick off the running season in Chicago. The 8K (4.97-mile) run and 2 mile walk is a longstanding tradition in Chicago with scenic course routes\, starting and finishing in Grant Park. \nTo register\, contact events@lesturnerals.org  \nFor more information visit lesturnerals.org/events/team-race-for-als
URL:https://lesturnerals.org/https-us02web-zoom-us-webinar-register-wn_nvixvs4-tqsr5bwy_malta-registration/bank-america-shamrock-shuffle-8k/
END:VEVENT
BEGIN:VEVENT
DTSTART;TZID=UTC:20180331T110000
DTEND;TZID=UTC:20180331T120000
DTSTAMP:20260420T002921
CREATED:20180222T214620Z
LAST-MODIFIED:20180222T214620Z
UID:10000512-1522494000-1522497600@lesturnerals.org
SUMMARY:Pure Barre Donation Class
DESCRIPTION:Attend this Pure-Barre class where proceeds are donated to the Les Turner ALS Foundation.
URL:https://lesturnerals.org/https-us02web-zoom-us-webinar-register-wn_nvixvs4-tqsr5bwy_malta-registration/pure-barre-donation-class/
LOCATION:Pure Barre\, River North\, Chicago
END:VEVENT
BEGIN:VEVENT
DTSTART;TZID=UTC:20180405T183000
DTEND;TZID=UTC:20180405T200000
DTSTAMP:20260420T002922
CREATED:20171215T213559Z
LAST-MODIFIED:20180103T204910Z
UID:10000233-1522953000-1522958400@lesturnerals.org
SUMMARY:Chicago Support Group
DESCRIPTION:*Meets the First Thursday of each month from 6:30pm – 8pm \nSupport group meetings are open to patients\, family members\, caregivers and friends. Each facility is wheelchair accessible and offers free parking. We request that you RSVP if you are planning to attend any of these meetings to assure there is availability. Alternatively\, if no one responds\, meetings will not be held. \nPlease contact Judy Richman at jrichman@lesturnerals.org or 847 679 3311 to RSVP\, for more information on any support groups or meetings\, or to be placed on our support group mailing list.
URL:https://lesturnerals.org/https-us02web-zoom-us-webinar-register-wn_nvixvs4-tqsr5bwy_malta-registration/chicago-support-group-2018-02-01/2018-04-05/
LOCATION:Saint Xavier University\, Shannon Center 2nd floor conference room\, Saint Xavier University\, Shannon Center 2nd floor conference room\, Chicago\, IL\, 60655\, United States
GEO:41.6931543;-87.7123355
X-APPLE-STRUCTURED-LOCATION;VALUE=URI;X-ADDRESS=Saint Xavier University Shannon Center 2nd floor conference room Saint Xavier University Shannon Center 2nd floor conference room Chicago IL 60655 United States;X-APPLE-RADIUS=500;X-TITLE=Saint Xavier University\, Shannon Center 2nd floor conference room:geo:-87.7123355,41.6931543
END:VEVENT
BEGIN:VEVENT
DTSTART;TZID=UTC:20180407T200000
DTEND;TZID=UTC:20180407T220000
DTSTAMP:20260420T002922
CREATED:20180330T211749Z
LAST-MODIFIED:20180330T211749Z
UID:10000399-1523131200-1523138400@lesturnerals.org
SUMMARY:"Fools for Love" Tribute Show
DESCRIPTION:A dramatic/musical tribute to Sam Shepard. $5 suggested ticket donation.
URL:https://lesturnerals.org/https-us02web-zoom-us-webinar-register-wn_nvixvs4-tqsr5bwy_malta-registration/fools-love-tribute-show/
LOCATION:Rock House of Glenview\, 1742 Glenview Road\, Glenview\, IL\, 60025\, United States
GEO:42.0730339;-87.7999119
X-APPLE-STRUCTURED-LOCATION;VALUE=URI;X-ADDRESS=Rock House of Glenview 1742 Glenview Road Glenview IL 60025 United States;X-APPLE-RADIUS=500;X-TITLE=1742 Glenview Road:geo:-87.7999119,42.0730339
END:VEVENT
BEGIN:VEVENT
DTSTART;TZID=UTC:20180428T103000
DTEND;TZID=UTC:20180428T120000
DTSTAMP:20260420T002922
CREATED:20161110T014631Z
LAST-MODIFIED:20171215T222149Z
UID:10000020-1524911400-1524916800@lesturnerals.org
SUMMARY:Wheaton Support Group
DESCRIPTION:*Meets the fourth Saturday of each month from 10:30am-12pm \nSupport group meetings are open to patients\, family members\, caregivers and friends. Each facility is wheelchair accessible and offers free parking. We request that you RSVP if you are planning to attend any of these meetings to assure there is availability. Alternatively\, if no one responds\, meetings will not be held. \nPlease contact Judy Richman at jrichman@lesturnerals.org or 847 679 3311 to RSVP\, for more information on any support groups or meetings\, or to be placed on our support group mailing list. \nFacilitator(s): Ileane Mindel\, RN and Elsa Cherwak\, PT
URL:https://lesturnerals.org/https-us02web-zoom-us-webinar-register-wn_nvixvs4-tqsr5bwy_malta-registration/wheaton-support-group-4-2017-11-25/2018-04-28/
LOCATION:Marianjoy Rehab Center\, 26 W 171 Roosevelt Road\, Wheaton\, IL\, 60187\, United States
GEO:41.8589041;-88.1036465
X-APPLE-STRUCTURED-LOCATION;VALUE=URI;X-ADDRESS=Marianjoy Rehab Center 26 W 171 Roosevelt Road Wheaton IL 60187 United States;X-APPLE-RADIUS=500;X-TITLE=26 W 171 Roosevelt Road:geo:-88.1036465,41.8589041
END:VEVENT
END:VCALENDAR