BEGIN:VCALENDAR
VERSION:2.0
PRODID:-//Les Turner ALS Foundation - ECPv6.15.20//NONSGML v1.0//EN
CALSCALE:GREGORIAN
METHOD:PUBLISH
X-WR-CALNAME:Les Turner ALS Foundation
X-ORIGINAL-URL:https://lesturnerals.org
X-WR-CALDESC:Events for Les Turner ALS Foundation
REFRESH-INTERVAL;VALUE=DURATION:PT1H
X-Robots-Tag:noindex
X-PUBLISHED-TTL:PT1H
BEGIN:VTIMEZONE
TZID:UTC
BEGIN:STANDARD
TZOFFSETFROM:+0000
TZOFFSETTO:+0000
TZNAME:UTC
DTSTART:20150101T000000
END:STANDARD
END:VTIMEZONE
BEGIN:VEVENT
DTSTART;VALUE=DATE:20160514
DTEND;VALUE=DATE:20160516
DTSTAMP:20260423T035146
CREATED:20160407T010714Z
LAST-MODIFIED:20160407T010714Z
UID:10000001-1463184000-1463356799@lesturnerals.org
SUMMARY:Chicago - Lincoln Park Tag Days
DESCRIPTION:Join the Les Turner ALS Foundation in our annual Tag Days fundraising event. Tag Days is a grassroots campaign where various communities spread awareness about ALS while simultaneously raising money to help fund ALS research and patient services.
URL:https://lesturnerals.org/https-us02web-zoom-us-webinar-register-wn_nvixvs4-tqsr5bwy_malta-registration/chicago-lincoln-park-tag-days/
END:VEVENT
BEGIN:VEVENT
DTSTART;VALUE=DATE:20160514
DTEND;VALUE=DATE:20160515
DTSTAMP:20260423T035146
CREATED:20160407T012116Z
LAST-MODIFIED:20160407T012116Z
UID:10000008-1463184000-1463270399@lesturnerals.org
SUMMARY:Tinley Park Tag Days
DESCRIPTION:Join the Les Turner ALS Foundation in our annual Tag Days fundraising event. Tag Days is a grassroots campaign where various communities spread awareness about ALS while simultaneously raising money to help fund ALS research and patient services.
URL:https://lesturnerals.org/https-us02web-zoom-us-webinar-register-wn_nvixvs4-tqsr5bwy_malta-registration/tinley-park-tag-days/
END:VEVENT
BEGIN:VEVENT
DTSTART;VALUE=DATE:20160513
DTEND;VALUE=DATE:20160516
DTSTAMP:20260423T035146
CREATED:20160407T010154Z
LAST-MODIFIED:20160407T010820Z
UID:10000099-1463097600-1463356799@lesturnerals.org
SUMMARY:Barrington Tag Days
DESCRIPTION:Join the Les Turner ALS Foundation in our annual Tag Days fundraising event. Tag Days is a grassroots campaign where various communities spread awareness about ALS while simultaneously raising money to help fund ALS research and patient services.
URL:https://lesturnerals.org/https-us02web-zoom-us-webinar-register-wn_nvixvs4-tqsr5bwy_malta-registration/barrington-tag-days/
END:VEVENT
BEGIN:VEVENT
DTSTART;VALUE=DATE:20160513
DTEND;VALUE=DATE:20160515
DTSTAMP:20260423T035146
CREATED:20160407T012152Z
LAST-MODIFIED:20160428T222741Z
UID:10000007-1463097600-1463270399@lesturnerals.org
SUMMARY:Western Springs Tag Days
DESCRIPTION:Join the Les Turner ALS Foundation in our annual Tag Days fundraising event. Tag Days is a grassroots campaign where various communities spread awareness about ALS while simultaneously raising money to help fund ALS research and patient services.
URL:https://lesturnerals.org/https-us02web-zoom-us-webinar-register-wn_nvixvs4-tqsr5bwy_malta-registration/western-springs-tag-days/
END:VEVENT
BEGIN:VEVENT
DTSTART;VALUE=DATE:20160506
DTEND;VALUE=DATE:20160508
DTSTAMP:20260423T035146
CREATED:20160407T011953Z
LAST-MODIFIED:20160407T011953Z
UID:10000010-1462492800-1462665599@lesturnerals.org
SUMMARY:Mt. Prospect Tag Days
DESCRIPTION:Join the Les Turner ALS Foundation in our annual Tag Days fundraising event. Tag Days is a grassroots campaign where various communities spread awareness about ALS while simultaneously raising money to help fund ALS research and patient services.
URL:https://lesturnerals.org/https-us02web-zoom-us-webinar-register-wn_nvixvs4-tqsr5bwy_malta-registration/mt-prospect-tag-days/
END:VEVENT
BEGIN:VEVENT
DTSTART;VALUE=DATE:20160506
DTEND;VALUE=DATE:20160508
DTSTAMP:20260423T035146
CREATED:20160407T011333Z
LAST-MODIFIED:20160409T003335Z
UID:10000012-1462492800-1462665599@lesturnerals.org
SUMMARY:Lake Forest Tag Days
DESCRIPTION:Join the Les Turner ALS Foundation in our annual Tag Days fundraising event. Tag Days is a grassroots campaign where various communities spread awareness about ALS while simultaneously raising money to help fund ALS research and patient services.
URL:https://lesturnerals.org/https-us02web-zoom-us-webinar-register-wn_nvixvs4-tqsr5bwy_malta-registration/lake-forest-tag-days/
END:VEVENT
BEGIN:VEVENT
DTSTART;VALUE=DATE:20160430
DTEND;VALUE=DATE:20160502
DTSTAMP:20260423T035146
CREATED:20160407T010753Z
LAST-MODIFIED:20160407T010753Z
UID:10000016-1461974400-1462147199@lesturnerals.org
SUMMARY:Evanston Tag Days
DESCRIPTION:Join the Les Turner ALS Foundation in our annual Tag Days fundraising event. Tag Days is a grassroots campaign where various communities spread awareness about ALS while simultaneously raising money to help fund ALS research and patient services.
URL:https://lesturnerals.org/https-us02web-zoom-us-webinar-register-wn_nvixvs4-tqsr5bwy_malta-registration/evanston-tag-days/
END:VEVENT
BEGIN:VEVENT
DTSTART;TZID=UTC:20160426T133000
DTEND;TZID=UTC:20160426T150000
DTSTAMP:20260423T035146
CREATED:20160414T013656Z
LAST-MODIFIED:20160414T193151Z
UID:10000289-1461677400-1461682800@lesturnerals.org
SUMMARY:Maywood Support Group
DESCRIPTION:*Meets the fourth Tuesday of each month from 1:30-3pm \nSupport group meetings are open to patients\, family members\, caregivers and friends. Each facility is wheelchair accessible and offers free parking. We request that you RSVP if you are planning to attend any of these meetings to assure there is availability. Alternatively\, if no one responds\, meetings will not be held. \nPlease contact Judy Richman at jrichman@lesturnerals.org or 847 679 3311 to RSVP\, for more information on any support groups or meetings\, or to be placed on our support group mailing list. \nFacilitator(s): Les Turner ALS Foundation RN and LCSW Patient Advocates will attend the VA staff lead support group meetings on the fourth Tuesday of each month to provide our Veteran PALS and their loved ones additional support.
URL:https://lesturnerals.org/https-us02web-zoom-us-webinar-register-wn_nvixvs4-tqsr5bwy_malta-registration/maywood-support-group/
END:VEVENT
BEGIN:VEVENT
DTSTART;TZID=UTC:20160423T103000
DTEND;TZID=UTC:20160423T120000
DTSTAMP:20260423T035146
CREATED:20160414T191951Z
LAST-MODIFIED:20160414T193132Z
UID:10000287-1461407400-1461412800@lesturnerals.org
SUMMARY:Wheaton Support Group
DESCRIPTION:*Meets the fourth Saturday of each month from 10:30am-12pm\nSupport group meetings are open to patients\, family members\, caregivers and friends. Each facility is wheelchair accessible and offers free parking. We request that you RSVP if you are planning to attend any of these meetings to assure there is availability. Alternatively\, if no one responds\, meetings will not be held. \nPlease contact Judy Richman at jrichman@lesturnerals.org or 847 679 3311 to RSVP\, for more information on any support groups or meetings\, or to be placed on our support group mailing list. \nFacilitator(s): Ileane Mindel\, RN and Elsa Cherwak\, PT
URL:https://lesturnerals.org/https-us02web-zoom-us-webinar-register-wn_nvixvs4-tqsr5bwy_malta-registration/wheaton-support-group/
LOCATION:Marianjoy Rehab Center\, 26 W 171 Roosevelt Road\, Wheaton\, IL\, 60187\, United States
GEO:41.8589041;-88.1036465
X-APPLE-STRUCTURED-LOCATION;VALUE=URI;X-ADDRESS=Marianjoy Rehab Center 26 W 171 Roosevelt Road Wheaton IL 60187 United States;X-APPLE-RADIUS=500;X-TITLE=26 W 171 Roosevelt Road:geo:-88.1036465,41.8589041
END:VEVENT
BEGIN:VEVENT
DTSTART;TZID=UTC:20160420T191500
DTEND;TZID=UTC:20160420T204500
DTSTAMP:20260423T035146
CREATED:20160414T191813Z
LAST-MODIFIED:20160414T193008Z
UID:10000288-1461179700-1461185100@lesturnerals.org
SUMMARY:Skokie Support Group
DESCRIPTION:*Meets the Third Wednesday of each month from 7:15-8:45pm \nSupport group meetings are open to patients\, family members\, caregivers and friends. Each facility is wheelchair accessible and offers free parking. We request that you RSVP if you are planning to attend any of these meetings to assure there is availability. Alternatively\, if no one responds\, meetings will not be held. \nPlease contact Judy Richman at jrichman@lesturnerals.org or 847 679 3311 to RSVP\, for more information on any support groups or meetings\, or to be placed on our support group mailing list. \nFacilitator(s): Ileane Mindel\, RN and Anne Lidsky\, PhD
URL:https://lesturnerals.org/https-us02web-zoom-us-webinar-register-wn_nvixvs4-tqsr5bwy_malta-registration/skokie-support-group/
LOCATION:Les Turner ALS Foundation Office\, 5550 W. Touhy Ave\, Skokie\, IL\, 60077\, United States
GEO:42.0126408;-87.7670777
X-APPLE-STRUCTURED-LOCATION;VALUE=URI;X-ADDRESS=Les Turner ALS Foundation Office 5550 W. Touhy Ave Skokie IL 60077 United States;X-APPLE-RADIUS=500;X-TITLE=5550 W. Touhy Ave:geo:-87.7670777,42.0126408
END:VEVENT
END:VCALENDAR