BEGIN:VCALENDAR
VERSION:2.0
PRODID:-//Les Turner ALS Foundation - ECPv6.15.20//NONSGML v1.0//EN
CALSCALE:GREGORIAN
METHOD:PUBLISH
X-ORIGINAL-URL:https://lesturnerals.org
X-WR-CALDESC:Events for Les Turner ALS Foundation
REFRESH-INTERVAL;VALUE=DURATION:PT1H
X-Robots-Tag:noindex
X-PUBLISHED-TTL:PT1H
BEGIN:VTIMEZONE
TZID:America/Chicago
BEGIN:DAYLIGHT
TZOFFSETFROM:-0600
TZOFFSETTO:-0500
TZNAME:CDT
DTSTART:20300310T080000
END:DAYLIGHT
BEGIN:STANDARD
TZOFFSETFROM:-0500
TZOFFSETTO:-0600
TZNAME:CST
DTSTART:20301103T070000
END:STANDARD
BEGIN:DAYLIGHT
TZOFFSETFROM:-0600
TZOFFSETTO:-0500
TZNAME:CDT
DTSTART:20310309T080000
END:DAYLIGHT
BEGIN:STANDARD
TZOFFSETFROM:-0500
TZOFFSETTO:-0600
TZNAME:CST
DTSTART:20311102T070000
END:STANDARD
BEGIN:DAYLIGHT
TZOFFSETFROM:-0600
TZOFFSETTO:-0500
TZNAME:CDT
DTSTART:20320314T080000
END:DAYLIGHT
BEGIN:STANDARD
TZOFFSETFROM:-0500
TZOFFSETTO:-0600
TZNAME:CST
DTSTART:20321107T070000
END:STANDARD
END:VTIMEZONE
BEGIN:VEVENT
DTSTART;TZID=America/Chicago:20310407T153000
DTEND;TZID=America/Chicago:20310407T163000
DTSTAMP:20260424T214818
CREATED:20260212T212538Z
LAST-MODIFIED:20260407T203003Z
UID:10002683-1933342200-1933345800@lesturnerals.org
SUMMARY:ALS Caregivers Support Group
DESCRIPTION:The Caregivers Only group offers a time to talk about all the issues caregivers face in a non-judgmental\, accepting atmosphere without their loved one\, who is living with ALS\, being present. Caregivers share a common experience; life has become so tumultuous that they often feel exhausted and overwhelmed\, hungry for emotional comfort. Together\, with the guidance and encouragement of a devoted facilitator\, caregivers can find the strength to persevere. And by feeling heard and understood\, caregivers become more equipped to face another day with new coping strategies. \nTime: Meets the Third Monday of each month from 3:30-4:30 \nFacilitator: Anne Lidsky\, PhD \nRegister here \n*Meetings will be held over Zoom and a Zoom invitation will be sent via email once you register for the group.*
URL:https://lesturnerals.org/https-us02web-zoom-us-webinar-register-wn_nvixvs4-tqsr5bwy_malta-registration/als-caregivers-support-group-3-2-2/2031-04-07/
END:VEVENT
END:VCALENDAR