BEGIN:VCALENDAR
VERSION:2.0
PRODID:-//Les Turner ALS Foundation - ECPv6.15.20//NONSGML v1.0//EN
CALSCALE:GREGORIAN
METHOD:PUBLISH
X-ORIGINAL-URL:https://lesturnerals.org
X-WR-CALDESC:Events for Les Turner ALS Foundation
REFRESH-INTERVAL;VALUE=DURATION:PT1H
X-Robots-Tag:noindex
X-PUBLISHED-TTL:PT1H
BEGIN:VTIMEZONE
TZID:UTC
BEGIN:STANDARD
TZOFFSETFROM:+0000
TZOFFSETTO:+0000
TZNAME:UTC
DTSTART:20200101T000000
END:STANDARD
END:VTIMEZONE
BEGIN:VEVENT
DTSTART;VALUE=DATE:20210918
DTEND;VALUE=DATE:20210919
DTSTAMP:20260423T071122
CREATED:20210601T191431Z
LAST-MODIFIED:20210601T191431Z
UID:10000540-1631923200-1632009599@lesturnerals.org
SUMMARY:20th Anniversary ALS Walk for Life
DESCRIPTION:Saturday\, September 18\, 2021\nSoldier Field in Chicago\, IL \n  \n 
URL:https://lesturnerals.org/https-us02web-zoom-us-webinar-register-wn_nvixvs4-tqsr5bwy_malta-registration/20th-anniversary-als-walk-for-life/
LOCATION:Soldier Field\, 1410 Museum Campus Dr\, Chicago \, IL\, 60605\, United States
GEO:41.8622646;-87.6166382
X-APPLE-STRUCTURED-LOCATION;VALUE=URI;X-ADDRESS=Soldier Field 1410 Museum Campus Dr Chicago  IL 60605 United States;X-APPLE-RADIUS=500;X-TITLE=1410 Museum Campus Dr:geo:-87.6166382,41.8622646
END:VEVENT
END:VCALENDAR