BEGIN:VCALENDAR
VERSION:2.0
PRODID:-//Les Turner ALS Foundation - ECPv6.15.20//NONSGML v1.0//EN
CALSCALE:GREGORIAN
METHOD:PUBLISH
X-WR-CALNAME:Les Turner ALS Foundation
X-ORIGINAL-URL:https://lesturnerals.org
X-WR-CALDESC:Events for Les Turner ALS Foundation
REFRESH-INTERVAL;VALUE=DURATION:PT1H
X-Robots-Tag:noindex
X-PUBLISHED-TTL:PT1H
BEGIN:VTIMEZONE
TZID:UTC
BEGIN:STANDARD
TZOFFSETFROM:+0000
TZOFFSETTO:+0000
TZNAME:UTC
DTSTART:20150101T000000
END:STANDARD
END:VTIMEZONE
BEGIN:VEVENT
DTSTART;TZID=UTC:20160605T080000
DTEND;TZID=UTC:20160605T170000
DTSTAMP:20260420T071220
CREATED:20160409T001134Z
LAST-MODIFIED:20160409T001134Z
UID:10000003-1465113600-1465146000@lesturnerals.org
SUMMARY:Stuercke Cubs Rooftop
DESCRIPTION:Come join the Stuercke Family and Friends at Wrigley Rooftops for our 6th ALS Fundraiser. We’ve got a great view of a great team. It’s a perfect get together for socializing with unlimited wine and beer and ballpark food. The Cubs are so hot this may make Sunday Night Baseball!
URL:https://lesturnerals.org/https-us02web-zoom-us-webinar-register-wn_nvixvs4-tqsr5bwy_malta-registration/stuercke-cubs-rooftop/
LOCATION:Wrigley Field — Rooftop\, 3619 N. Sheffield\, Chicago\, IL\, 60613\, United States
GEO:41.9478348;-87.6540445
X-APPLE-STRUCTURED-LOCATION;VALUE=URI;X-ADDRESS=Wrigley Field — Rooftop 3619 N. Sheffield Chicago IL 60613 United States;X-APPLE-RADIUS=500;X-TITLE=3619 N. Sheffield:geo:-87.6540445,41.9478348
END:VEVENT
END:VCALENDAR