BEGIN:VCALENDAR
VERSION:2.0
PRODID:-//Les Turner ALS Foundation - ECPv6.15.20//NONSGML v1.0//EN
CALSCALE:GREGORIAN
METHOD:PUBLISH
X-WR-CALNAME:Les Turner ALS Foundation
X-ORIGINAL-URL:https://lesturnerals.org
X-WR-CALDESC:Events for Les Turner ALS Foundation
REFRESH-INTERVAL;VALUE=DURATION:PT1H
X-Robots-Tag:noindex
X-PUBLISHED-TTL:PT1H
BEGIN:VTIMEZONE
TZID:UTC
BEGIN:STANDARD
TZOFFSETFROM:+0000
TZOFFSETTO:+0000
TZNAME:UTC
DTSTART:20150101T000000
END:STANDARD
END:VTIMEZONE
BEGIN:VEVENT
DTSTART;TZID=UTC:20161026T120000
DTEND;TZID=UTC:20161026T130000
DTSTAMP:20260420T133630
CREATED:20160909T194142Z
LAST-MODIFIED:20160909T194308Z
UID:10000249-1477483200-1477486800@lesturnerals.org
SUMMARY:PALS Webinar: ALS Clinical Trial Pipeline Series - Fall 2016
DESCRIPTION:Join Dr. Merit Cudkowicz\, Mass General Hospital\, for a webinar on Wednesday\, October 26 at 12pm to learn more about current and upcoming ALS clinical trials. Register here. Merit Cudkowicz\, MD\, MSc\, from Massachusetts General Hospital will review the ALS clinical trial pipeline and answer questions about the current state of clinical research. This webinar will focus on current and upcoming ALS clinical trials.
URL:https://lesturnerals.org/https-us02web-zoom-us-webinar-register-wn_nvixvs4-tqsr5bwy_malta-registration/pals-webinar-als-clinical-trial-pipeline-series-fall-2016/
END:VEVENT
END:VCALENDAR