BEGIN:VCALENDAR
VERSION:2.0
PRODID:-//Les Turner ALS Foundation - ECPv6.15.20//NONSGML v1.0//EN
CALSCALE:GREGORIAN
METHOD:PUBLISH
X-WR-CALNAME:Les Turner ALS Foundation
X-ORIGINAL-URL:https://lesturnerals.org
X-WR-CALDESC:Events for Les Turner ALS Foundation
REFRESH-INTERVAL;VALUE=DURATION:PT1H
X-Robots-Tag:noindex
X-PUBLISHED-TTL:PT1H
BEGIN:VTIMEZONE
TZID:UTC
BEGIN:STANDARD
TZOFFSETFROM:+0000
TZOFFSETTO:+0000
TZNAME:UTC
DTSTART:20150101T000000
END:STANDARD
END:VTIMEZONE
BEGIN:VEVENT
DTSTART;TZID=UTC:20221112T190000
DTEND;TZID=UTC:20221112T230000
DTSTAMP:20260420T122500
CREATED:20221031T202527Z
LAST-MODIFIED:20221031T202021Z
UID:10000564-1668279600-1668294000@lesturnerals.org
SUMMARY:All in for ALS Casino Night
DESCRIPTION:  \n \n  \nCome and join the fun at the 16th Annual \nAll In For ALS Casino Night \n Saturday\, November 12\, 7-11 PM \nEast Bank Club in Chicago. \nOur signature casino night event features exciting games like Blackjack\, Roulette and Craps all live in person at the East Bank Club. Guests can try their luck at the tables\, bid on auction items\, enjoy tasty appetizers\, and snap pictures in the photo booth\, all while joining other young professionals to show their support for the Les Turner ALS Foundation\, the leader in comprehensive ALS care in Chicagoland. \nMany Young Professional Group (YPG) members and event attendees have had this devastating disease touch their lives and take their loved one; and yet they still come together to help ensure that one day there is a cure for ALS. This is our chance to give back to them by helping fund vital ALS care and research. \nYour generosity helps ensure that people living with ALS live their lives with both quality and dignity. 100% of the event’s proceeds will benefit the Foundation. \n*All tickets include beer\, wine\, and hors d’oeuvres – upgrade to a VIP ticket for the inclusion of liquor.*
URL:https://lesturnerals.org/https-us02web-zoom-us-webinar-register-wn_nvixvs4-tqsr5bwy_malta-registration/casino-night/
LOCATION:East Bank Club\, 500 N. Kinsbury St.\, Chicago\, 60654\, United States
GEO:41.8901117;-87.6392886
X-APPLE-STRUCTURED-LOCATION;VALUE=URI;X-ADDRESS=East Bank Club 500 N. Kinsbury St. Chicago 60654 United States;X-APPLE-RADIUS=500;X-TITLE=500 N. Kinsbury St.:geo:-87.6392886,41.8901117
END:VEVENT
BEGIN:VEVENT
DTSTART;TZID=UTC:20181110T193000
DTEND;TZID=UTC:20181110T230000
DTSTAMP:20260420T122500
CREATED:20180614T210934Z
LAST-MODIFIED:20181016T215915Z
UID:10000474-1541878200-1541890800@lesturnerals.org
SUMMARY:All in for ALS Casino Night
DESCRIPTION:Saturday\, November 10\, 2018\n7:30pm-11:00pm\nEast Bank Club\n500 N Kingsbury St.\nChicago\, IL 60654\nAll in for ALS is the Les Turner ALS Foundation’s Young ProfessionALS Group’s signature casino night event featuring exciting games like Blackjack\, Roulette and Craps all at the elegant East Bank Club in Chicago. Try your luck at the tables\, snap pictures in the photo booth and win incredible prizes. At All in for ALS\, anything can happen! \nBuy your tickets now to be a part of this unforgettable evening:\nGeneral Admission – $85 (includes beer\, wine and hors d’oeuvres)\nVIP Admission – $125 (includes open bar and hors d’oeuvres) \n \n \nPlease note: ticket sales for this event will close on Friday\, November 9 at noon and ticket prices will increase to $100-$140 at the door. (Must be 21 or older by November 10\, 2018 to participate in this event).\n \nAttire for this event is business casual. \n 
URL:https://lesturnerals.org/https-us02web-zoom-us-webinar-register-wn_nvixvs4-tqsr5bwy_malta-registration/all-in-for-als-casino-night/
LOCATION:East Bank Club\, 500 N. Kinsbury St.\, Chicago\, 60654\, United States
GEO:41.8901117;-87.6392886
X-APPLE-STRUCTURED-LOCATION;VALUE=URI;X-ADDRESS=East Bank Club 500 N. Kinsbury St. Chicago 60654 United States;X-APPLE-RADIUS=500;X-TITLE=500 N. Kinsbury St.:geo:-87.6392886,41.8901117
END:VEVENT
BEGIN:VEVENT
DTSTART;TZID=UTC:20171014T193000
DTEND;TZID=UTC:20171014T230000
DTSTAMP:20260420T122500
CREATED:20170518T181003Z
LAST-MODIFIED:20170810T000744Z
UID:10000380-1508009400-1508022000@lesturnerals.org
SUMMARY:All in For ALS Casino Night
DESCRIPTION:Join the Les Turner ALS Foundation’s Young ProfessionALS Group at the All In For ALS Casino Night as they raise awareness and funds for ALS research and patient services. This annual event has helped raise over $75\,000 for the Foundation since its inception. \nAll In For ALS is YPG’s  signature event including exciting games like Blackjack\, Roulette\, Craps and Poker all at the elegant East Bank Club. Try your luck at the tables\, shake your tail feathers with our vibrant Showgirls\, snap all the pictures you want in our photo booth and win incredible prizes. \n\nSee you at YPG’s All In For ALS Casino Night on October 14\, 2017! \nRegister today at YPGForALS.org (must be 21 years or over by event date)
URL:https://lesturnerals.org/https-us02web-zoom-us-webinar-register-wn_nvixvs4-tqsr5bwy_malta-registration/als-casino-nights/
LOCATION:East Bank Club\, 500 N. Kinsbury St.\, Chicago\, 60654\, United States
GEO:41.8901117;-87.6392886
X-APPLE-STRUCTURED-LOCATION;VALUE=URI;X-ADDRESS=East Bank Club 500 N. Kinsbury St. Chicago 60654 United States;X-APPLE-RADIUS=500;X-TITLE=500 N. Kinsbury St.:geo:-87.6392886,41.8901117
END:VEVENT
BEGIN:VEVENT
DTSTART;TZID=UTC:20161022T080000
DTEND;TZID=UTC:20161022T170000
DTSTAMP:20260420T122500
CREATED:20160409T000918Z
LAST-MODIFIED:20160727T004635Z
UID:10000004-1477123200-1477155600@lesturnerals.org
SUMMARY:Holla for ALS Casino Night
DESCRIPTION:Holla for ALS is a Casino Night fundraising event committed to raising awareness for Amyotrophic Lateral Sclerosis (ALS). On behalf of the Les Turner ALS Foundation\, this annual event raises funds and educates the Chicagoland community about this disease. Register today!
URL:https://lesturnerals.org/https-us02web-zoom-us-webinar-register-wn_nvixvs4-tqsr5bwy_malta-registration/holla-als-casino-night/
LOCATION:East Bank Club\, 500 N. Kinsbury St.\, Chicago\, 60654\, United States
GEO:41.8901117;-87.6392886
X-APPLE-STRUCTURED-LOCATION;VALUE=URI;X-ADDRESS=East Bank Club 500 N. Kinsbury St. Chicago 60654 United States;X-APPLE-RADIUS=500;X-TITLE=500 N. Kinsbury St.:geo:-87.6392886,41.8901117
END:VEVENT
END:VCALENDAR