BEGIN:VCALENDAR
VERSION:2.0
PRODID:-//Les Turner ALS Foundation - ECPv6.15.20//NONSGML v1.0//EN
CALSCALE:GREGORIAN
METHOD:PUBLISH
X-WR-CALNAME:Les Turner ALS Foundation
X-ORIGINAL-URL:https://lesturnerals.org
X-WR-CALDESC:Events for Les Turner ALS Foundation
REFRESH-INTERVAL;VALUE=DURATION:PT1H
X-Robots-Tag:noindex
X-PUBLISHED-TTL:PT1H
BEGIN:VTIMEZONE
TZID:UTC
BEGIN:STANDARD
TZOFFSETFROM:+0000
TZOFFSETTO:+0000
TZNAME:UTC
DTSTART:20160101T000000
END:STANDARD
END:VTIMEZONE
BEGIN:VEVENT
DTSTART;TZID=UTC:20170803T173000
DTEND;TZID=UTC:20170803T183000
DTSTAMP:20260420T152227
CREATED:20170623T211253Z
LAST-MODIFIED:20170623T211253Z
UID:10000325-1501781400-1501785000@lesturnerals.org
SUMMARY:Ruth Fell Wander Community Art Wall Launch
DESCRIPTION:The First Bank of Highland Park displays the Ruth Fell Wander Community Art Wall to showcase local organizations that make a difference in the Chicagoland area and beyond. The Foundation has been chosen for the month of August\, and has the opportunity to display all the ways we spread hope and help to the ALS community. \nThis event is closed to the public\, but be sure to stop by the First Bank of Highland Park during the month of August to see the Foundation’s display!
URL:https://lesturnerals.org/https-us02web-zoom-us-webinar-register-wn_nvixvs4-tqsr5bwy_malta-registration/ruth-fell-wander-community-art-wall-launch/
LOCATION:First Bank of Highland Park\, 1835 1st Street\, Highland Park \, IL\, 60035\, United States
GEO:42.1860372;-87.7996096
X-APPLE-STRUCTURED-LOCATION;VALUE=URI;X-ADDRESS=First Bank of Highland Park 1835 1st Street Highland Park  IL 60035 United States;X-APPLE-RADIUS=500;X-TITLE=1835 1st Street:geo:-87.7996096,42.1860372
END:VEVENT
END:VCALENDAR