BEGIN:VCALENDAR
VERSION:2.0
PRODID:-//Les Turner ALS Foundation - ECPv6.15.20//NONSGML v1.0//EN
CALSCALE:GREGORIAN
METHOD:PUBLISH
X-WR-CALNAME:Les Turner ALS Foundation
X-ORIGINAL-URL:https://lesturnerals.org
X-WR-CALDESC:Events for Les Turner ALS Foundation
REFRESH-INTERVAL;VALUE=DURATION:PT1H
X-Robots-Tag:noindex
X-PUBLISHED-TTL:PT1H
BEGIN:VTIMEZONE
TZID:UTC
BEGIN:STANDARD
TZOFFSETFROM:+0000
TZOFFSETTO:+0000
TZNAME:UTC
DTSTART:20150101T000000
END:STANDARD
END:VTIMEZONE
BEGIN:VEVENT
DTSTART;TZID=UTC:20161109T200000
DTEND;TZID=UTC:20161109T220000
DTSTAMP:20260420T133632
CREATED:20161021T185350Z
LAST-MODIFIED:20161021T185350Z
UID:10000245-1478721600-1478728800@lesturnerals.org
SUMMARY:Mingus Awareness Project Concert
DESCRIPTION:A group of musicians will gather at Fitzgerald’s to celebrate the life and music of Charles Mingus\, and to benefit the Les Turner ALS Foundation. Mingus\, known as one of the greatest figures in jazz history\, was an American musical hero who died of ALS. Presented by the Borderbend Arts Collective\, More than a dozen Mingus Awareness Project concerts have happened since its inception in 2007. Enjoy songs written and inspired by Charles Mingus\, while helping provide hope and help for people with ALS.  \nVisit their website here!
URL:https://lesturnerals.org/https-us02web-zoom-us-webinar-register-wn_nvixvs4-tqsr5bwy_malta-registration/mingus-awareness-project-concert-2/
LOCATION:FitzGerald’s\, 6615 W. Roosevelt Rd.\, Berwyn\, IL\, 60402\, United States
GEO:41.8648899;-87.7896357
X-APPLE-STRUCTURED-LOCATION;VALUE=URI;X-ADDRESS=FitzGerald’s 6615 W. Roosevelt Rd. Berwyn IL 60402 United States;X-APPLE-RADIUS=500;X-TITLE=6615 W. Roosevelt Rd.:geo:-87.7896357,41.8648899
END:VEVENT
END:VCALENDAR