BEGIN:VCALENDAR
VERSION:2.0
PRODID:-//Les Turner ALS Foundation - ECPv6.15.20//NONSGML v1.0//EN
CALSCALE:GREGORIAN
METHOD:PUBLISH
X-ORIGINAL-URL:https://lesturnerals.org
X-WR-CALDESC:Events for Les Turner ALS Foundation
REFRESH-INTERVAL;VALUE=DURATION:PT1H
X-Robots-Tag:noindex
X-PUBLISHED-TTL:PT1H
BEGIN:VTIMEZONE
TZID:UTC
BEGIN:STANDARD
TZOFFSETFROM:+0000
TZOFFSETTO:+0000
TZNAME:UTC
DTSTART:20160101T000000
END:STANDARD
END:VTIMEZONE
BEGIN:VEVENT
DTSTART;TZID=UTC:20191006T130000
DTEND;TZID=UTC:20191006T150000
DTSTAMP:20260420T174922
CREATED:20190730T220620Z
LAST-MODIFIED:20190919T230717Z
UID:10000302-1570366800-1570374000@lesturnerals.org
SUMMARY:ALS News You Can Use
DESCRIPTION:ALS News You Can Use\nSunday\, October 6\n1 – 3 pm\nComplementary and Alternative Medicine Therapies for Patients with ALS\nPresented by Jinny Tavee\, MD\n \nDr. Tavee will discuss how nutrition\, exercise and mind body therapies can help patients with ALS as well as their caregivers. \nPlease RSVP by October 1 at events.lesturnerals.org/education or call the office at 847 679 3311. \nJinny Tavee\, MD is an associate professor and the medical director of the neuromuscular division at Northwestern University Feinberg School of Medicine. Dr. Tavee has a special interest in integrative holistic medicine and teaches meditation to medical students\, patients and physicians from all over the world. She is actively involved in researching the effects of meditation on chronic neurologic diseases and has led meditation retreats for cancer survivors and injured U.S. Marines returning from the Gulf War through the Wounded Warriors program. \nSponsored By
URL:https://lesturnerals.org/https-us02web-zoom-us-webinar-register-wn_nvixvs4-tqsr5bwy_malta-registration/als-news-you-can-use/
LOCATION:Hyatt Rosemont\, 6350 N. River Road\, Rosemont\, IL\, United States
GEO:41.9953769;-87.8622394
X-APPLE-STRUCTURED-LOCATION;VALUE=URI;X-ADDRESS=Hyatt Rosemont 6350 N. River Road Rosemont IL United States;X-APPLE-RADIUS=500;X-TITLE=6350 N. River Road:geo:-87.8622394,41.9953769
END:VEVENT
BEGIN:VEVENT
DTSTART;VALUE=DATE:20181014
DTEND;VALUE=DATE:20181015
DTSTAMP:20260420T174922
CREATED:20180502T234551Z
LAST-MODIFIED:20180921T202355Z
UID:10000477-1539475200-1539561599@lesturnerals.org
SUMMARY:ALS News You Can Use
DESCRIPTION:Sunday\, October 14th\n1:00 – 3:00pm\nHyatt Rosemont\n6350 N. River Road\, Rosemont\, IL\nLegal Care for Living with ALS\nPresented by Helen Mesoloras\, JD \nElder and Disability Attorney and Partner with Dutton & Casey\, Attorneys at Law \nWhen a diagnosis of a chronic medical condition is given\, not only do you need to prepare medically\, you need to prepare legally. This session will address important topics such as Powers of Attorney\, Living Trusts and Wills. What legal options are available in planning and paying for long-term care? How can Medicare\, Medicaid\, long-term care insurance and personal care contracts maximize a person’s quality of life? The ultimate goal is to develop a plan and to understand why plans can (and should) be revised over time so you can assume a proactive role when it comes to legal matters. \nLiving with ALS/MND\nPractical Solutions for People with ALS/MND\, their families and caregivers \nJoin the Les Turner ALS Foundation Support Services Coordinators and other industry experts to learn more about disease management for ALS/MNDPresentations and Hand-On Learning Sessions:\n– Les Turner ALS Foundation programs and resources\n– Overview of ALS/MND\n– Safety tips for your home/work environment\n– Wheelchair Seating\n– Respiratory Therapies\n– Speech Devices\n– CDC National ALS Registry \nReception following the program \nPlease RSVP by October 8th using this page or call Karen Gianni at 847 679 3311. Attendance and parking at this event are free.
URL:https://lesturnerals.org/https-us02web-zoom-us-webinar-register-wn_nvixvs4-tqsr5bwy_malta-registration/als-news-can-use/
LOCATION:Hyatt Rosemont\, 6350 N. River Road\, Rosemont\, IL\, United States
GEO:41.9953769;-87.8622394
X-APPLE-STRUCTURED-LOCATION;VALUE=URI;X-ADDRESS=Hyatt Rosemont 6350 N. River Road Rosemont IL United States;X-APPLE-RADIUS=500;X-TITLE=6350 N. River Road:geo:-87.8622394,41.9953769
END:VEVENT
BEGIN:VEVENT
DTSTART;TZID=UTC:20170319T130000
DTEND;TZID=UTC:20170319T150000
DTSTAMP:20260420T174922
CREATED:20170203T224343Z
LAST-MODIFIED:20170221T200826Z
UID:10000015-1489928400-1489935600@lesturnerals.org
SUMMARY:News You Can Use
DESCRIPTION:Each year\, the Foundation hosts an educational meeting that covers the latest on ALS research and patient care from experts in the field. On Sunday\, March 19 join us at our 2017 News You Can Use at the Hyatt Rosemont to hear Drs. Paul Mehta and Lisa F. Wolfe share their expertise. \nRSVP by March 13.
URL:https://lesturnerals.org/https-us02web-zoom-us-webinar-register-wn_nvixvs4-tqsr5bwy_malta-registration/news-can-use/
LOCATION:Hyatt Rosemont\, 6350 N. River Road\, Rosemont\, IL\, United States
GEO:41.9953769;-87.8622394
X-APPLE-STRUCTURED-LOCATION;VALUE=URI;X-ADDRESS=Hyatt Rosemont 6350 N. River Road Rosemont IL United States;X-APPLE-RADIUS=500;X-TITLE=6350 N. River Road:geo:-87.8622394,41.9953769
END:VEVENT
END:VCALENDAR