BEGIN:VCALENDAR
VERSION:2.0
PRODID:-//Les Turner ALS Foundation - ECPv6.15.20//NONSGML v1.0//EN
CALSCALE:GREGORIAN
METHOD:PUBLISH
X-ORIGINAL-URL:https://lesturnerals.org
X-WR-CALDESC:Events for Les Turner ALS Foundation
REFRESH-INTERVAL;VALUE=DURATION:PT1H
X-Robots-Tag:noindex
X-PUBLISHED-TTL:PT1H
BEGIN:VTIMEZONE
TZID:UTC
BEGIN:STANDARD
TZOFFSETFROM:+0000
TZOFFSETTO:+0000
TZNAME:UTC
DTSTART:20150101T000000
END:STANDARD
END:VTIMEZONE
BEGIN:VEVENT
DTSTART;TZID=UTC:20200520T190000
DTEND;TZID=UTC:20200520T203000
DTSTAMP:20260420T073111
CREATED:20161110T013131Z
LAST-MODIFIED:20200505T002112Z
UID:10000112-1590001200-1590006600@lesturnerals.org
SUMMARY:CANCELLED: Skokie Support Group
DESCRIPTION:Meets the Third Wednesday of each month from 7pm-8:30pm \nSupport group meetings are open to people living with ALS\, family members\, caregivers and friends. Each facility is wheelchair accessible and offers free parking. We request you RSVP if you are planning to attend any of these meetings to assure there is availability. Alternatively\, if no one responds\, meetings will not be held. \nPlease contact Laurie Fieldman at LFieldman@lesturnerals.org or 847 679 3311 to RSVP\, for more information on any support groups or meetings\, or to be placed on our support group mailing list.
URL:https://lesturnerals.org/https-us02web-zoom-us-webinar-register-wn_nvixvs4-tqsr5bwy_malta-registration/skokie-support-group-4-2020-05-20/
LOCATION:Les Turner ALS Foundation Office\, 5550 W. Touhy Ave\, Skokie\, IL\, 60077\, United States
GEO:42.0126408;-87.7670777
X-APPLE-STRUCTURED-LOCATION;VALUE=URI;X-ADDRESS=Les Turner ALS Foundation Office 5550 W. Touhy Ave Skokie IL 60077 United States;X-APPLE-RADIUS=500;X-TITLE=5550 W. Touhy Ave:geo:-87.7670777,42.0126408
END:VEVENT
BEGIN:VEVENT
DTSTART;TZID=UTC:20200415T190000
DTEND;TZID=UTC:20200415T203000
DTSTAMP:20260420T073111
CREATED:20161110T013131Z
LAST-MODIFIED:20200311T191718Z
UID:10000115-1586977200-1586982600@lesturnerals.org
SUMMARY:CANCELLED: Skokie Support Group
DESCRIPTION:Meets the Third Wednesday of each month from 7pm-8:30pm \nSupport group meetings are open to people living with ALS\, family members\, caregivers and friends. Each facility is wheelchair accessible and offers free parking. We request you RSVP if you are planning to attend any of these meetings to assure there is availability. Alternatively\, if no one responds\, meetings will not be held. \nPlease contact Laurie Fieldman at LFieldman@lesturnerals.org or 847 679 3311 to RSVP\, for more information on any support groups or meetings\, or to be placed on our support group mailing list.
URL:https://lesturnerals.org/https-us02web-zoom-us-webinar-register-wn_nvixvs4-tqsr5bwy_malta-registration/skokie-support-group-4-2020-04-15/
LOCATION:Les Turner ALS Foundation Office\, 5550 W. Touhy Ave\, Skokie\, IL\, 60077\, United States
GEO:42.0126408;-87.7670777
X-APPLE-STRUCTURED-LOCATION;VALUE=URI;X-ADDRESS=Les Turner ALS Foundation Office 5550 W. Touhy Ave Skokie IL 60077 United States;X-APPLE-RADIUS=500;X-TITLE=5550 W. Touhy Ave:geo:-87.7670777,42.0126408
END:VEVENT
BEGIN:VEVENT
DTSTART;TZID=UTC:20200318T190000
DTEND;TZID=UTC:20200318T203000
DTSTAMP:20260420T073111
CREATED:20161110T013131Z
LAST-MODIFIED:20200311T190855Z
UID:10000116-1584558000-1584563400@lesturnerals.org
SUMMARY:CANCELLED: Skokie Support Group
DESCRIPTION:Meets the Third Wednesday of each month from 7pm-8:30pm \nSupport group meetings are open to people living with ALS\, family members\, caregivers and friends. Each facility is wheelchair accessible and offers free parking. We request you RSVP if you are planning to attend any of these meetings to assure there is availability. Alternatively\, if no one responds\, meetings will not be held. \nPlease contact Laurie Fieldman at LFieldman@lesturnerals.org or 847 679 3311 to RSVP\, for more information on any support groups or meetings\, or to be placed on our support group mailing list.
URL:https://lesturnerals.org/https-us02web-zoom-us-webinar-register-wn_nvixvs4-tqsr5bwy_malta-registration/skokie-support-group-4-2020-03-18/
LOCATION:Les Turner ALS Foundation Office\, 5550 W. Touhy Ave\, Skokie\, IL\, 60077\, United States
GEO:42.0126408;-87.7670777
X-APPLE-STRUCTURED-LOCATION;VALUE=URI;X-ADDRESS=Les Turner ALS Foundation Office 5550 W. Touhy Ave Skokie IL 60077 United States;X-APPLE-RADIUS=500;X-TITLE=5550 W. Touhy Ave:geo:-87.7670777,42.0126408
END:VEVENT
BEGIN:VEVENT
DTSTART;TZID=UTC:20170726T190000
DTEND;TZID=UTC:20170726T203000
DTSTAMP:20260420T073111
CREATED:20161110T013131Z
LAST-MODIFIED:20170707T212316Z
UID:10000013-1501095600-1501101000@lesturnerals.org
SUMMARY:Skokie Support Group
DESCRIPTION:*Meets the Third Wednesday of each month from 7:00pm-8:30pm\nSupport group meetings are open to patients\, family members\, caregivers and friends. Each facility is wheelchair accessible and offers free parking. We request that you RSVP if you are planning to attend any of these meetings to assure there is availability. Alternatively\, if no one responds\, meetings will not be held. \nPlease contact Judy Richman at jrichman@lesturnerals.org or 847 679 3311 to RSVP\, for more information on any support groups or meetings\, or to be placed on our support group mailing list. \nFacilitator(s): Ileane Mindel\, RN and Anne Lidsky\, PhD
URL:https://lesturnerals.org/https-us02web-zoom-us-webinar-register-wn_nvixvs4-tqsr5bwy_malta-registration/skokie-support-group-4-2017-07-19/
LOCATION:Les Turner ALS Foundation Office\, 5550 W. Touhy Ave\, Skokie\, IL\, 60077\, United States
GEO:42.0126408;-87.7670777
X-APPLE-STRUCTURED-LOCATION;VALUE=URI;X-ADDRESS=Les Turner ALS Foundation Office 5550 W. Touhy Ave Skokie IL 60077 United States;X-APPLE-RADIUS=500;X-TITLE=5550 W. Touhy Ave:geo:-87.7670777,42.0126408
END:VEVENT
BEGIN:VEVENT
DTSTART;TZID=UTC:20170628T190000
DTEND;TZID=UTC:20170628T203000
DTSTAMP:20260420T073111
CREATED:20161110T013131Z
LAST-MODIFIED:20170615T010049Z
UID:10000011-1498676400-1498681800@lesturnerals.org
SUMMARY:Skokie Support Group
DESCRIPTION:*Meets the Third Wednesday of each month from 7:00pm-8:30pm\nSupport group meetings are open to patients\, family members\, caregivers and friends. Each facility is wheelchair accessible and offers free parking. We request that you RSVP if you are planning to attend any of these meetings to assure there is availability. Alternatively\, if no one responds\, meetings will not be held. \nPlease contact Judy Richman at jrichman@lesturnerals.org or 847 679 3311 to RSVP\, for more information on any support groups or meetings\, or to be placed on our support group mailing list. \nFacilitator(s): Ileane Mindel\, RN and Anne Lidsky\, PhD
URL:https://lesturnerals.org/https-us02web-zoom-us-webinar-register-wn_nvixvs4-tqsr5bwy_malta-registration/skokie-support-group-4-2017-06-21/
LOCATION:Les Turner ALS Foundation Office\, 5550 W. Touhy Ave\, Skokie\, IL\, 60077\, United States
GEO:42.0126408;-87.7670777
X-APPLE-STRUCTURED-LOCATION;VALUE=URI;X-ADDRESS=Les Turner ALS Foundation Office 5550 W. Touhy Ave Skokie IL 60077 United States;X-APPLE-RADIUS=500;X-TITLE=5550 W. Touhy Ave:geo:-87.7670777,42.0126408
END:VEVENT
BEGIN:VEVENT
DTSTART;TZID=UTC:20170223T130000
DTEND;TZID=UTC:20170223T150000
DTSTAMP:20260420T073111
CREATED:20170224T014144Z
LAST-MODIFIED:20170224T014144Z
UID:10000394-1487854800-1487862000@lesturnerals.org
SUMMARY:Celebration of Life
DESCRIPTION:In honor and remembrance of loved ones lost to ALS\, join us in the 2017 Celebration of Life on Sunday\, November 12 at the Les Turner ALS Foundation office. Check back soon for more details regarding registration. \nFor questions\, comments or concerns\, reach out to info@lesturnerals.org
URL:https://lesturnerals.org/https-us02web-zoom-us-webinar-register-wn_nvixvs4-tqsr5bwy_malta-registration/celebration-life-2/
LOCATION:Les Turner ALS Foundation Office\, 5550 W. Touhy Ave\, Skokie\, IL\, 60077\, United States
GEO:42.0126408;-87.7670777
X-APPLE-STRUCTURED-LOCATION;VALUE=URI;X-ADDRESS=Les Turner ALS Foundation Office 5550 W. Touhy Ave Skokie IL 60077 United States;X-APPLE-RADIUS=500;X-TITLE=5550 W. Touhy Ave:geo:-87.7670777,42.0126408
END:VEVENT
BEGIN:VEVENT
DTSTART;TZID=UTC:20161221T190000
DTEND;TZID=UTC:20161221T204500
DTSTAMP:20260420T073111
CREATED:20160414T192401Z
LAST-MODIFIED:20161021T193258Z
UID:10000278-1482346800-1482353100@lesturnerals.org
SUMMARY:Skokie Support Group
DESCRIPTION:*Meets the Third Wednesday of each month from 7:15-8:45pm\nSupport group meetings are open to patients\, family members\, caregivers and friends. Each facility is wheelchair accessible and offers free parking. We request that you RSVP if you are planning to attend any of these meetings to assure there is availability. Alternatively\, if no one responds\, meetings will not be held. \nPlease contact Judy Richman at jrichman@lesturnerals.org or 847 679 3311 to RSVP\, for more information on any support groups or meetings\, or to be placed on our support group mailing list. \nFacilitator(s): Ileane Mindel\, RN and Anne Lidsky\, PhD
URL:https://lesturnerals.org/https-us02web-zoom-us-webinar-register-wn_nvixvs4-tqsr5bwy_malta-registration/skokie-support-group-2-2016-12-21-2016-12-09/
LOCATION:Les Turner ALS Foundation Office\, 5550 W. Touhy Ave\, Skokie\, IL\, 60077\, United States
GEO:42.0126408;-87.7670777
X-APPLE-STRUCTURED-LOCATION;VALUE=URI;X-ADDRESS=Les Turner ALS Foundation Office 5550 W. Touhy Ave Skokie IL 60077 United States;X-APPLE-RADIUS=500;X-TITLE=5550 W. Touhy Ave:geo:-87.7670777,42.0126408
END:VEVENT
BEGIN:VEVENT
DTSTART;TZID=UTC:20161125T190000
DTEND;TZID=UTC:20161125T204500
DTSTAMP:20260420T073111
CREATED:20160414T192401Z
LAST-MODIFIED:20160830T002346Z
UID:10000286-1480100400-1480106700@lesturnerals.org
SUMMARY:Skokie Support Group
DESCRIPTION:*Meets the Third Wednesday of each month from 7:15-8:45pm\nSupport group meetings are open to patients\, family members\, caregivers and friends. Each facility is wheelchair accessible and offers free parking. We request that you RSVP if you are planning to attend any of these meetings to assure there is availability. Alternatively\, if no one responds\, meetings will not be held. \nPlease contact Judy Richman at jrichman@lesturnerals.org or 847 679 3311 to RSVP\, for more information on any support groups or meetings\, or to be placed on our support group mailing list. \nFacilitator(s): Ileane Mindel\, RN and Anne Lidsky\, PhD
URL:https://lesturnerals.org/https-us02web-zoom-us-webinar-register-wn_nvixvs4-tqsr5bwy_malta-registration/skokie-support-group-2/2016-11-25/
LOCATION:Les Turner ALS Foundation Office\, 5550 W. Touhy Ave\, Skokie\, IL\, 60077\, United States
GEO:42.0126408;-87.7670777
X-APPLE-STRUCTURED-LOCATION;VALUE=URI;X-ADDRESS=Les Turner ALS Foundation Office 5550 W. Touhy Ave Skokie IL 60077 United States;X-APPLE-RADIUS=500;X-TITLE=5550 W. Touhy Ave:geo:-87.7670777,42.0126408
END:VEVENT
BEGIN:VEVENT
DTSTART;TZID=UTC:20161109T190000
DTEND;TZID=UTC:20161109T204500
DTSTAMP:20260420T073111
CREATED:20160414T192401Z
LAST-MODIFIED:20161021T192932Z
UID:10000279-1478718000-1478724300@lesturnerals.org
SUMMARY:Skokie Support Group
DESCRIPTION:*Meets the Third Wednesday of each month from 7:15-8:45pm\nSupport group meetings are open to patients\, family members\, caregivers and friends. Each facility is wheelchair accessible and offers free parking. We request that you RSVP if you are planning to attend any of these meetings to assure there is availability. Alternatively\, if no one responds\, meetings will not be held. \nPlease contact Judy Richman at jrichman@lesturnerals.org or 847 679 3311 to RSVP\, for more information on any support groups or meetings\, or to be placed on our support group mailing list. \nFacilitator(s): Ileane Mindel\, RN and Anne Lidsky\, PhD
URL:https://lesturnerals.org/https-us02web-zoom-us-webinar-register-wn_nvixvs4-tqsr5bwy_malta-registration/skokie-support-group-2-2016-12-21/2016-11-09/
LOCATION:Les Turner ALS Foundation Office\, 5550 W. Touhy Ave\, Skokie\, IL\, 60077\, United States
GEO:42.0126408;-87.7670777
X-APPLE-STRUCTURED-LOCATION;VALUE=URI;X-ADDRESS=Les Turner ALS Foundation Office 5550 W. Touhy Ave Skokie IL 60077 United States;X-APPLE-RADIUS=500;X-TITLE=5550 W. Touhy Ave:geo:-87.7670777,42.0126408
END:VEVENT
BEGIN:VEVENT
DTSTART;TZID=UTC:20161025T190000
DTEND;TZID=UTC:20161025T204500
DTSTAMP:20260420T073111
CREATED:20160414T192401Z
LAST-MODIFIED:20160830T002346Z
UID:10000285-1477422000-1477428300@lesturnerals.org
SUMMARY:Skokie Support Group
DESCRIPTION:*Meets the Third Wednesday of each month from 7:15-8:45pm\nSupport group meetings are open to patients\, family members\, caregivers and friends. Each facility is wheelchair accessible and offers free parking. We request that you RSVP if you are planning to attend any of these meetings to assure there is availability. Alternatively\, if no one responds\, meetings will not be held. \nPlease contact Judy Richman at jrichman@lesturnerals.org or 847 679 3311 to RSVP\, for more information on any support groups or meetings\, or to be placed on our support group mailing list. \nFacilitator(s): Ileane Mindel\, RN and Anne Lidsky\, PhD
URL:https://lesturnerals.org/https-us02web-zoom-us-webinar-register-wn_nvixvs4-tqsr5bwy_malta-registration/skokie-support-group-2/2016-10-25/
LOCATION:Les Turner ALS Foundation Office\, 5550 W. Touhy Ave\, Skokie\, IL\, 60077\, United States
GEO:42.0126408;-87.7670777
X-APPLE-STRUCTURED-LOCATION;VALUE=URI;X-ADDRESS=Les Turner ALS Foundation Office 5550 W. Touhy Ave Skokie IL 60077 United States;X-APPLE-RADIUS=500;X-TITLE=5550 W. Touhy Ave:geo:-87.7670777,42.0126408
END:VEVENT
BEGIN:VEVENT
DTSTART;TZID=UTC:20160925T190000
DTEND;TZID=UTC:20160925T204500
DTSTAMP:20260420T073111
CREATED:20160414T192401Z
LAST-MODIFIED:20160830T002346Z
UID:10000284-1474830000-1474836300@lesturnerals.org
SUMMARY:Skokie Support Group
DESCRIPTION:*Meets the Third Wednesday of each month from 7:15-8:45pm\nSupport group meetings are open to patients\, family members\, caregivers and friends. Each facility is wheelchair accessible and offers free parking. We request that you RSVP if you are planning to attend any of these meetings to assure there is availability. Alternatively\, if no one responds\, meetings will not be held. \nPlease contact Judy Richman at jrichman@lesturnerals.org or 847 679 3311 to RSVP\, for more information on any support groups or meetings\, or to be placed on our support group mailing list. \nFacilitator(s): Ileane Mindel\, RN and Anne Lidsky\, PhD
URL:https://lesturnerals.org/https-us02web-zoom-us-webinar-register-wn_nvixvs4-tqsr5bwy_malta-registration/skokie-support-group-2/2016-09-25/
LOCATION:Les Turner ALS Foundation Office\, 5550 W. Touhy Ave\, Skokie\, IL\, 60077\, United States
GEO:42.0126408;-87.7670777
X-APPLE-STRUCTURED-LOCATION;VALUE=URI;X-ADDRESS=Les Turner ALS Foundation Office 5550 W. Touhy Ave Skokie IL 60077 United States;X-APPLE-RADIUS=500;X-TITLE=5550 W. Touhy Ave:geo:-87.7670777,42.0126408
END:VEVENT
BEGIN:VEVENT
DTSTART;TZID=UTC:20160825T190000
DTEND;TZID=UTC:20160825T204500
DTSTAMP:20260420T073111
CREATED:20160414T192401Z
LAST-MODIFIED:20160830T002346Z
UID:10000283-1472151600-1472157900@lesturnerals.org
SUMMARY:Skokie Support Group
DESCRIPTION:*Meets the Third Wednesday of each month from 7:15-8:45pm\nSupport group meetings are open to patients\, family members\, caregivers and friends. Each facility is wheelchair accessible and offers free parking. We request that you RSVP if you are planning to attend any of these meetings to assure there is availability. Alternatively\, if no one responds\, meetings will not be held. \nPlease contact Judy Richman at jrichman@lesturnerals.org or 847 679 3311 to RSVP\, for more information on any support groups or meetings\, or to be placed on our support group mailing list. \nFacilitator(s): Ileane Mindel\, RN and Anne Lidsky\, PhD
URL:https://lesturnerals.org/https-us02web-zoom-us-webinar-register-wn_nvixvs4-tqsr5bwy_malta-registration/skokie-support-group-2/2016-08-25/
LOCATION:Les Turner ALS Foundation Office\, 5550 W. Touhy Ave\, Skokie\, IL\, 60077\, United States
GEO:42.0126408;-87.7670777
X-APPLE-STRUCTURED-LOCATION;VALUE=URI;X-ADDRESS=Les Turner ALS Foundation Office 5550 W. Touhy Ave Skokie IL 60077 United States;X-APPLE-RADIUS=500;X-TITLE=5550 W. Touhy Ave:geo:-87.7670777,42.0126408
END:VEVENT
BEGIN:VEVENT
DTSTART;TZID=UTC:20160725T190000
DTEND;TZID=UTC:20160725T204500
DTSTAMP:20260420T073111
CREATED:20160414T192401Z
LAST-MODIFIED:20160830T002346Z
UID:10000282-1469473200-1469479500@lesturnerals.org
SUMMARY:Skokie Support Group
DESCRIPTION:*Meets the Third Wednesday of each month from 7:15-8:45pm\nSupport group meetings are open to patients\, family members\, caregivers and friends. Each facility is wheelchair accessible and offers free parking. We request that you RSVP if you are planning to attend any of these meetings to assure there is availability. Alternatively\, if no one responds\, meetings will not be held. \nPlease contact Judy Richman at jrichman@lesturnerals.org or 847 679 3311 to RSVP\, for more information on any support groups or meetings\, or to be placed on our support group mailing list. \nFacilitator(s): Ileane Mindel\, RN and Anne Lidsky\, PhD
URL:https://lesturnerals.org/https-us02web-zoom-us-webinar-register-wn_nvixvs4-tqsr5bwy_malta-registration/skokie-support-group-2/2016-07-25/
LOCATION:Les Turner ALS Foundation Office\, 5550 W. Touhy Ave\, Skokie\, IL\, 60077\, United States
GEO:42.0126408;-87.7670777
X-APPLE-STRUCTURED-LOCATION;VALUE=URI;X-ADDRESS=Les Turner ALS Foundation Office 5550 W. Touhy Ave Skokie IL 60077 United States;X-APPLE-RADIUS=500;X-TITLE=5550 W. Touhy Ave:geo:-87.7670777,42.0126408
END:VEVENT
BEGIN:VEVENT
DTSTART;TZID=UTC:20160625T190000
DTEND;TZID=UTC:20160625T204500
DTSTAMP:20260420T073111
CREATED:20160414T192401Z
LAST-MODIFIED:20160830T002346Z
UID:10000281-1466881200-1466887500@lesturnerals.org
SUMMARY:Skokie Support Group
DESCRIPTION:*Meets the Third Wednesday of each month from 7:15-8:45pm\nSupport group meetings are open to patients\, family members\, caregivers and friends. Each facility is wheelchair accessible and offers free parking. We request that you RSVP if you are planning to attend any of these meetings to assure there is availability. Alternatively\, if no one responds\, meetings will not be held. \nPlease contact Judy Richman at jrichman@lesturnerals.org or 847 679 3311 to RSVP\, for more information on any support groups or meetings\, or to be placed on our support group mailing list. \nFacilitator(s): Ileane Mindel\, RN and Anne Lidsky\, PhD
URL:https://lesturnerals.org/https-us02web-zoom-us-webinar-register-wn_nvixvs4-tqsr5bwy_malta-registration/skokie-support-group-2/2016-06-25/
LOCATION:Les Turner ALS Foundation Office\, 5550 W. Touhy Ave\, Skokie\, IL\, 60077\, United States
GEO:42.0126408;-87.7670777
X-APPLE-STRUCTURED-LOCATION;VALUE=URI;X-ADDRESS=Les Turner ALS Foundation Office 5550 W. Touhy Ave Skokie IL 60077 United States;X-APPLE-RADIUS=500;X-TITLE=5550 W. Touhy Ave:geo:-87.7670777,42.0126408
END:VEVENT
BEGIN:VEVENT
DTSTART;TZID=UTC:20160615T191500
DTEND;TZID=UTC:20160615T191500
DTSTAMP:20260420T073111
CREATED:20160414T193409Z
LAST-MODIFIED:20160414T193409Z
UID:10000200-1466018100-1466018100@lesturnerals.org
SUMMARY:Skokie Support Group
DESCRIPTION:*Meets the Third Wednesday of each month from 7:15-8:45pm \nSupport group meetings are open to patients\, family members\, caregivers and friends. Each facility is wheelchair accessible and offers free parking. We request that you RSVP if you are planning to attend any of these meetings to assure there is availability. Alternatively\, if no one responds\, meetings will not be held. \nPlease contact Judy Richman at jrichman@lesturnerals.org or 847 679 3311 to RSVP\, for more information on any support groups or meetings\, or to be placed on our support group mailing list. \nFacilitator(s): Ileane Mindel\, RN and Anne Lidsky\, PhD
URL:https://lesturnerals.org/https-us02web-zoom-us-webinar-register-wn_nvixvs4-tqsr5bwy_malta-registration/skokie-support-group-3/
LOCATION:Les Turner ALS Foundation Office\, 5550 W. Touhy Ave\, Skokie\, IL\, 60077\, United States
GEO:42.0126408;-87.7670777
X-APPLE-STRUCTURED-LOCATION;VALUE=URI;X-ADDRESS=Les Turner ALS Foundation Office 5550 W. Touhy Ave Skokie IL 60077 United States;X-APPLE-RADIUS=500;X-TITLE=5550 W. Touhy Ave:geo:-87.7670777,42.0126408
END:VEVENT
BEGIN:VEVENT
DTSTART;TZID=UTC:20160525T190000
DTEND;TZID=UTC:20160525T204500
DTSTAMP:20260420T073111
CREATED:20160414T192401Z
LAST-MODIFIED:20160830T002346Z
UID:10000280-1464202800-1464209100@lesturnerals.org
SUMMARY:Skokie Support Group
DESCRIPTION:*Meets the Third Wednesday of each month from 7:15-8:45pm\nSupport group meetings are open to patients\, family members\, caregivers and friends. Each facility is wheelchair accessible and offers free parking. We request that you RSVP if you are planning to attend any of these meetings to assure there is availability. Alternatively\, if no one responds\, meetings will not be held. \nPlease contact Judy Richman at jrichman@lesturnerals.org or 847 679 3311 to RSVP\, for more information on any support groups or meetings\, or to be placed on our support group mailing list. \nFacilitator(s): Ileane Mindel\, RN and Anne Lidsky\, PhD
URL:https://lesturnerals.org/https-us02web-zoom-us-webinar-register-wn_nvixvs4-tqsr5bwy_malta-registration/skokie-support-group-2/2016-05-25/
LOCATION:Les Turner ALS Foundation Office\, 5550 W. Touhy Ave\, Skokie\, IL\, 60077\, United States
GEO:42.0126408;-87.7670777
X-APPLE-STRUCTURED-LOCATION;VALUE=URI;X-ADDRESS=Les Turner ALS Foundation Office 5550 W. Touhy Ave Skokie IL 60077 United States;X-APPLE-RADIUS=500;X-TITLE=5550 W. Touhy Ave:geo:-87.7670777,42.0126408
END:VEVENT
BEGIN:VEVENT
DTSTART;TZID=UTC:20160420T191500
DTEND;TZID=UTC:20160420T204500
DTSTAMP:20260420T073111
CREATED:20160414T191813Z
LAST-MODIFIED:20160414T193008Z
UID:10000288-1461179700-1461185100@lesturnerals.org
SUMMARY:Skokie Support Group
DESCRIPTION:*Meets the Third Wednesday of each month from 7:15-8:45pm \nSupport group meetings are open to patients\, family members\, caregivers and friends. Each facility is wheelchair accessible and offers free parking. We request that you RSVP if you are planning to attend any of these meetings to assure there is availability. Alternatively\, if no one responds\, meetings will not be held. \nPlease contact Judy Richman at jrichman@lesturnerals.org or 847 679 3311 to RSVP\, for more information on any support groups or meetings\, or to be placed on our support group mailing list. \nFacilitator(s): Ileane Mindel\, RN and Anne Lidsky\, PhD
URL:https://lesturnerals.org/https-us02web-zoom-us-webinar-register-wn_nvixvs4-tqsr5bwy_malta-registration/skokie-support-group/
LOCATION:Les Turner ALS Foundation Office\, 5550 W. Touhy Ave\, Skokie\, IL\, 60077\, United States
GEO:42.0126408;-87.7670777
X-APPLE-STRUCTURED-LOCATION;VALUE=URI;X-ADDRESS=Les Turner ALS Foundation Office 5550 W. Touhy Ave Skokie IL 60077 United States;X-APPLE-RADIUS=500;X-TITLE=5550 W. Touhy Ave:geo:-87.7670777,42.0126408
END:VEVENT
END:VCALENDAR