BEGIN:VCALENDAR
VERSION:2.0
PRODID:-//Les Turner ALS Foundation - ECPv6.15.20//NONSGML v1.0//EN
CALSCALE:GREGORIAN
METHOD:PUBLISH
X-WR-CALNAME:Les Turner ALS Foundation
X-ORIGINAL-URL:https://lesturnerals.org
X-WR-CALDESC:Events for Les Turner ALS Foundation
REFRESH-INTERVAL;VALUE=DURATION:PT1H
X-Robots-Tag:noindex
X-PUBLISHED-TTL:PT1H
BEGIN:VTIMEZONE
TZID:UTC
BEGIN:STANDARD
TZOFFSETFROM:+0000
TZOFFSETTO:+0000
TZNAME:UTC
DTSTART:20150101T000000
END:STANDARD
END:VTIMEZONE
BEGIN:VEVENT
DTSTART;TZID=UTC:20160925T190000
DTEND;TZID=UTC:20160925T204500
DTSTAMP:20260420T085830
CREATED:20160414T192401Z
LAST-MODIFIED:20160830T002346Z
UID:10000284-1474830000-1474836300@lesturnerals.org
SUMMARY:Skokie Support Group
DESCRIPTION:*Meets the Third Wednesday of each month from 7:15-8:45pm\nSupport group meetings are open to patients\, family members\, caregivers and friends. Each facility is wheelchair accessible and offers free parking. We request that you RSVP if you are planning to attend any of these meetings to assure there is availability. Alternatively\, if no one responds\, meetings will not be held. \nPlease contact Judy Richman at jrichman@lesturnerals.org or 847 679 3311 to RSVP\, for more information on any support groups or meetings\, or to be placed on our support group mailing list. \nFacilitator(s): Ileane Mindel\, RN and Anne Lidsky\, PhD
URL:https://lesturnerals.org/https-us02web-zoom-us-webinar-register-wn_nvixvs4-tqsr5bwy_malta-registration/skokie-support-group-2/2016-09-25/
LOCATION:Les Turner ALS Foundation Office\, 5550 W. Touhy Ave\, Skokie\, IL\, 60077\, United States
GEO:42.0126408;-87.7670777
X-APPLE-STRUCTURED-LOCATION;VALUE=URI;X-ADDRESS=Les Turner ALS Foundation Office 5550 W. Touhy Ave Skokie IL 60077 United States;X-APPLE-RADIUS=500;X-TITLE=5550 W. Touhy Ave:geo:-87.7670777,42.0126408
END:VEVENT
BEGIN:VEVENT
DTSTART;TZID=UTC:20160825T190000
DTEND;TZID=UTC:20160825T204500
DTSTAMP:20260420T085830
CREATED:20160414T192401Z
LAST-MODIFIED:20160830T002346Z
UID:10000283-1472151600-1472157900@lesturnerals.org
SUMMARY:Skokie Support Group
DESCRIPTION:*Meets the Third Wednesday of each month from 7:15-8:45pm\nSupport group meetings are open to patients\, family members\, caregivers and friends. Each facility is wheelchair accessible and offers free parking. We request that you RSVP if you are planning to attend any of these meetings to assure there is availability. Alternatively\, if no one responds\, meetings will not be held. \nPlease contact Judy Richman at jrichman@lesturnerals.org or 847 679 3311 to RSVP\, for more information on any support groups or meetings\, or to be placed on our support group mailing list. \nFacilitator(s): Ileane Mindel\, RN and Anne Lidsky\, PhD
URL:https://lesturnerals.org/https-us02web-zoom-us-webinar-register-wn_nvixvs4-tqsr5bwy_malta-registration/skokie-support-group-2/2016-08-25/
LOCATION:Les Turner ALS Foundation Office\, 5550 W. Touhy Ave\, Skokie\, IL\, 60077\, United States
GEO:42.0126408;-87.7670777
X-APPLE-STRUCTURED-LOCATION;VALUE=URI;X-ADDRESS=Les Turner ALS Foundation Office 5550 W. Touhy Ave Skokie IL 60077 United States;X-APPLE-RADIUS=500;X-TITLE=5550 W. Touhy Ave:geo:-87.7670777,42.0126408
END:VEVENT
BEGIN:VEVENT
DTSTART;TZID=UTC:20160725T190000
DTEND;TZID=UTC:20160725T204500
DTSTAMP:20260420T085830
CREATED:20160414T192401Z
LAST-MODIFIED:20160830T002346Z
UID:10000282-1469473200-1469479500@lesturnerals.org
SUMMARY:Skokie Support Group
DESCRIPTION:*Meets the Third Wednesday of each month from 7:15-8:45pm\nSupport group meetings are open to patients\, family members\, caregivers and friends. Each facility is wheelchair accessible and offers free parking. We request that you RSVP if you are planning to attend any of these meetings to assure there is availability. Alternatively\, if no one responds\, meetings will not be held. \nPlease contact Judy Richman at jrichman@lesturnerals.org or 847 679 3311 to RSVP\, for more information on any support groups or meetings\, or to be placed on our support group mailing list. \nFacilitator(s): Ileane Mindel\, RN and Anne Lidsky\, PhD
URL:https://lesturnerals.org/https-us02web-zoom-us-webinar-register-wn_nvixvs4-tqsr5bwy_malta-registration/skokie-support-group-2/2016-07-25/
LOCATION:Les Turner ALS Foundation Office\, 5550 W. Touhy Ave\, Skokie\, IL\, 60077\, United States
GEO:42.0126408;-87.7670777
X-APPLE-STRUCTURED-LOCATION;VALUE=URI;X-ADDRESS=Les Turner ALS Foundation Office 5550 W. Touhy Ave Skokie IL 60077 United States;X-APPLE-RADIUS=500;X-TITLE=5550 W. Touhy Ave:geo:-87.7670777,42.0126408
END:VEVENT
BEGIN:VEVENT
DTSTART;TZID=UTC:20160625T190000
DTEND;TZID=UTC:20160625T204500
DTSTAMP:20260420T085830
CREATED:20160414T192401Z
LAST-MODIFIED:20160830T002346Z
UID:10000281-1466881200-1466887500@lesturnerals.org
SUMMARY:Skokie Support Group
DESCRIPTION:*Meets the Third Wednesday of each month from 7:15-8:45pm\nSupport group meetings are open to patients\, family members\, caregivers and friends. Each facility is wheelchair accessible and offers free parking. We request that you RSVP if you are planning to attend any of these meetings to assure there is availability. Alternatively\, if no one responds\, meetings will not be held. \nPlease contact Judy Richman at jrichman@lesturnerals.org or 847 679 3311 to RSVP\, for more information on any support groups or meetings\, or to be placed on our support group mailing list. \nFacilitator(s): Ileane Mindel\, RN and Anne Lidsky\, PhD
URL:https://lesturnerals.org/https-us02web-zoom-us-webinar-register-wn_nvixvs4-tqsr5bwy_malta-registration/skokie-support-group-2/2016-06-25/
LOCATION:Les Turner ALS Foundation Office\, 5550 W. Touhy Ave\, Skokie\, IL\, 60077\, United States
GEO:42.0126408;-87.7670777
X-APPLE-STRUCTURED-LOCATION;VALUE=URI;X-ADDRESS=Les Turner ALS Foundation Office 5550 W. Touhy Ave Skokie IL 60077 United States;X-APPLE-RADIUS=500;X-TITLE=5550 W. Touhy Ave:geo:-87.7670777,42.0126408
END:VEVENT
BEGIN:VEVENT
DTSTART;TZID=UTC:20160615T191500
DTEND;TZID=UTC:20160615T191500
DTSTAMP:20260420T085830
CREATED:20160414T193409Z
LAST-MODIFIED:20160414T193409Z
UID:10000200-1466018100-1466018100@lesturnerals.org
SUMMARY:Skokie Support Group
DESCRIPTION:*Meets the Third Wednesday of each month from 7:15-8:45pm \nSupport group meetings are open to patients\, family members\, caregivers and friends. Each facility is wheelchair accessible and offers free parking. We request that you RSVP if you are planning to attend any of these meetings to assure there is availability. Alternatively\, if no one responds\, meetings will not be held. \nPlease contact Judy Richman at jrichman@lesturnerals.org or 847 679 3311 to RSVP\, for more information on any support groups or meetings\, or to be placed on our support group mailing list. \nFacilitator(s): Ileane Mindel\, RN and Anne Lidsky\, PhD
URL:https://lesturnerals.org/https-us02web-zoom-us-webinar-register-wn_nvixvs4-tqsr5bwy_malta-registration/skokie-support-group-3/
LOCATION:Les Turner ALS Foundation Office\, 5550 W. Touhy Ave\, Skokie\, IL\, 60077\, United States
GEO:42.0126408;-87.7670777
X-APPLE-STRUCTURED-LOCATION;VALUE=URI;X-ADDRESS=Les Turner ALS Foundation Office 5550 W. Touhy Ave Skokie IL 60077 United States;X-APPLE-RADIUS=500;X-TITLE=5550 W. Touhy Ave:geo:-87.7670777,42.0126408
END:VEVENT
BEGIN:VEVENT
DTSTART;TZID=UTC:20160525T190000
DTEND;TZID=UTC:20160525T204500
DTSTAMP:20260420T085830
CREATED:20160414T192401Z
LAST-MODIFIED:20160830T002346Z
UID:10000280-1464202800-1464209100@lesturnerals.org
SUMMARY:Skokie Support Group
DESCRIPTION:*Meets the Third Wednesday of each month from 7:15-8:45pm\nSupport group meetings are open to patients\, family members\, caregivers and friends. Each facility is wheelchair accessible and offers free parking. We request that you RSVP if you are planning to attend any of these meetings to assure there is availability. Alternatively\, if no one responds\, meetings will not be held. \nPlease contact Judy Richman at jrichman@lesturnerals.org or 847 679 3311 to RSVP\, for more information on any support groups or meetings\, or to be placed on our support group mailing list. \nFacilitator(s): Ileane Mindel\, RN and Anne Lidsky\, PhD
URL:https://lesturnerals.org/https-us02web-zoom-us-webinar-register-wn_nvixvs4-tqsr5bwy_malta-registration/skokie-support-group-2/2016-05-25/
LOCATION:Les Turner ALS Foundation Office\, 5550 W. Touhy Ave\, Skokie\, IL\, 60077\, United States
GEO:42.0126408;-87.7670777
X-APPLE-STRUCTURED-LOCATION;VALUE=URI;X-ADDRESS=Les Turner ALS Foundation Office 5550 W. Touhy Ave Skokie IL 60077 United States;X-APPLE-RADIUS=500;X-TITLE=5550 W. Touhy Ave:geo:-87.7670777,42.0126408
END:VEVENT
BEGIN:VEVENT
DTSTART;TZID=UTC:20160420T191500
DTEND;TZID=UTC:20160420T204500
DTSTAMP:20260420T085830
CREATED:20160414T191813Z
LAST-MODIFIED:20160414T193008Z
UID:10000288-1461179700-1461185100@lesturnerals.org
SUMMARY:Skokie Support Group
DESCRIPTION:*Meets the Third Wednesday of each month from 7:15-8:45pm \nSupport group meetings are open to patients\, family members\, caregivers and friends. Each facility is wheelchair accessible and offers free parking. We request that you RSVP if you are planning to attend any of these meetings to assure there is availability. Alternatively\, if no one responds\, meetings will not be held. \nPlease contact Judy Richman at jrichman@lesturnerals.org or 847 679 3311 to RSVP\, for more information on any support groups or meetings\, or to be placed on our support group mailing list. \nFacilitator(s): Ileane Mindel\, RN and Anne Lidsky\, PhD
URL:https://lesturnerals.org/https-us02web-zoom-us-webinar-register-wn_nvixvs4-tqsr5bwy_malta-registration/skokie-support-group/
LOCATION:Les Turner ALS Foundation Office\, 5550 W. Touhy Ave\, Skokie\, IL\, 60077\, United States
GEO:42.0126408;-87.7670777
X-APPLE-STRUCTURED-LOCATION;VALUE=URI;X-ADDRESS=Les Turner ALS Foundation Office 5550 W. Touhy Ave Skokie IL 60077 United States;X-APPLE-RADIUS=500;X-TITLE=5550 W. Touhy Ave:geo:-87.7670777,42.0126408
END:VEVENT
END:VCALENDAR