BEGIN:VCALENDAR
VERSION:2.0
PRODID:-//Les Turner ALS Foundation - ECPv6.15.20//NONSGML v1.0//EN
CALSCALE:GREGORIAN
METHOD:PUBLISH
X-ORIGINAL-URL:https://lesturnerals.org
X-WR-CALDESC:Events for Les Turner ALS Foundation
REFRESH-INTERVAL;VALUE=DURATION:PT1H
X-Robots-Tag:noindex
X-PUBLISHED-TTL:PT1H
BEGIN:VTIMEZONE
TZID:UTC
BEGIN:STANDARD
TZOFFSETFROM:+0000
TZOFFSETTO:+0000
TZNAME:UTC
DTSTART:20150101T000000
END:STANDARD
END:VTIMEZONE
BEGIN:VEVENT
DTSTART;TZID=UTC:20161023T070000
DTEND;TZID=UTC:20161023T170000
DTSTAMP:20260420T161815
CREATED:20160409T002659Z
LAST-MODIFIED:20160409T002659Z
UID:10000291-1477206000-1477242000@lesturnerals.org
SUMMARY:Naperville Marathon
DESCRIPTION:Lace up those running shoes and hit the pavement in support of the Les Turner ALS Foundation’s Team Race for ALS at the 2016 Naperville Marathon! We have runners of all levels on the team\, from Triathletes to Sunday joggers – what you have in common are a desire to find a cure for ALS and the commitment to cross the finish line. \nIMPORTANT DATES: \nNaperville Marathon Expo:\nEdward Health & Fitness Center\,\n775 Brom Ct. Naperville\, IL 60540 \nFriday October 21\, 2016 – 10am to 7pm\nSaturday October 22\, 2016 – 10am to 4:30pm \nNaperville Marathon RACE DAY:\nSunday October 23\, 2016 – 7am
URL:https://lesturnerals.org/https-us02web-zoom-us-webinar-register-wn_nvixvs4-tqsr5bwy_malta-registration/naperville-marathon/
LOCATION:Naperville city center\, 400 S Eagle St\, Naperville\, IL\, 60540\, United States
GEO:41.7709563;-88.1522665
X-APPLE-STRUCTURED-LOCATION;VALUE=URI;X-ADDRESS=Naperville city center 400 S Eagle St Naperville IL 60540 United States;X-APPLE-RADIUS=500;X-TITLE=400 S Eagle St:geo:-88.1522665,41.7709563
END:VEVENT
END:VCALENDAR