BEGIN:VCALENDAR
VERSION:2.0
PRODID:-//Les Turner ALS Foundation - ECPv6.15.20//NONSGML v1.0//EN
CALSCALE:GREGORIAN
METHOD:PUBLISH
X-WR-CALNAME:Les Turner ALS Foundation
X-ORIGINAL-URL:https://lesturnerals.org
X-WR-CALDESC:Events for Les Turner ALS Foundation
REFRESH-INTERVAL;VALUE=DURATION:PT1H
X-Robots-Tag:noindex
X-PUBLISHED-TTL:PT1H
BEGIN:VTIMEZONE
TZID:UTC
BEGIN:STANDARD
TZOFFSETFROM:+0000
TZOFFSETTO:+0000
TZNAME:UTC
DTSTART:20150101T000000
END:STANDARD
END:VTIMEZONE
BEGIN:VEVENT
DTSTART;TZID=UTC:20160811T090000
DTEND;TZID=UTC:20160811T210000
DTSTAMP:20260420T161817
CREATED:20160520T205405Z
LAST-MODIFIED:20160520T235939Z
UID:10000201-1470906000-1470949200@lesturnerals.org
SUMMARY:3rd Annual Matt Creen Invitational
DESCRIPTION:Matt Creen\, General Counsel for the Currie Motors Group was diagnosed with ALS\, sometimes referred to as “”Lou Gehrig’s Disease” in November\, 2013.  Matt’s strong commitment to his faith has helped him maintain a positive outlook and approach over these past several months\, and he has been an inspiration for all of us. \nPlease join Matt\, along with his family\, friends and colleagues for a day of golf\, good food\, cold drinks and an otherwise fun-filled day. \nTo register\, click here.
URL:https://lesturnerals.org/https-us02web-zoom-us-webinar-register-wn_nvixvs4-tqsr5bwy_malta-registration/3rd-annual-matt-creen-invitational/
LOCATION:Odyssey Country Club\, 19110 S Ridgeland Ave\, Tinley Park\, IL\, 60477\, United States
GEO:41.5406881;-87.7778206
X-APPLE-STRUCTURED-LOCATION;VALUE=URI;X-ADDRESS=Odyssey Country Club 19110 S Ridgeland Ave Tinley Park IL 60477 United States;X-APPLE-RADIUS=500;X-TITLE=19110 S Ridgeland Ave:geo:-87.7778206,41.5406881
END:VEVENT
END:VCALENDAR