BEGIN:VCALENDAR
VERSION:2.0
PRODID:-//Les Turner ALS Foundation - ECPv6.15.20//NONSGML v1.0//EN
CALSCALE:GREGORIAN
METHOD:PUBLISH
X-WR-CALNAME:Les Turner ALS Foundation
X-ORIGINAL-URL:https://lesturnerals.org
X-WR-CALDESC:Events for Les Turner ALS Foundation
REFRESH-INTERVAL;VALUE=DURATION:PT1H
X-Robots-Tag:noindex
X-PUBLISHED-TTL:PT1H
BEGIN:VTIMEZONE
TZID:UTC
BEGIN:STANDARD
TZOFFSETFROM:+0000
TZOFFSETTO:+0000
TZNAME:UTC
DTSTART:20150101T000000
END:STANDARD
END:VTIMEZONE
BEGIN:VEVENT
DTSTART;TZID=UTC:20181112T080000
DTEND;TZID=UTC:20181112T160000
DTSTAMP:20260420T140314
CREATED:20180913T000813Z
LAST-MODIFIED:20181113T050051Z
UID:10000471-1542009600-1542038400@lesturnerals.org
SUMMARY:8th Annual Les Turner Symposium on ALS and NeuroRepair
DESCRIPTION:Join us for the 8th Annual Les Turner Symposium on ALS and NeuroRepair: Celebrating Research\, Patient Care\, and Education. This one day event will take place on Monday\, November 12\, 2018\, between 8 a.m. and 4 p.m. \nLocation \nPrentice Women’s Hospital\nConference Room L\, 3rd Floor\n250 E. Superior Street\nChicago\, Illinois \nKeynote Speaker \nMerit Cudkowicz\, MD\, MSc\nChief\, Neurology Service\nCo-Director\, Neuromuscular Division\, Massachusetts General Hospital\nJulianne Dorn Professor of Neurology\, Harvard Medical School \nSymposium Agenda\n8 am: Poster Session open* (refreshments will be provided)\n*poster session will remain open throughout the symposium.\n9 – 10:50 am: Research Session featuring: Scott Brady\, MD; Robert G. Kalb\, MD; Evangelos Kiskinis\, PhD; Jeffrey A. Loeb\, MD\, PhD; Hande Ozdinler\, PhD; Raymond P. Roos\, MD\n10:50 – 11:00 am: Break/Refreshments\n11:00 am – 12:30 p.m.: Research Session (cont.) featuring Teepu Siddique\, MD;  Scott Brady\, MD; and Evangelos Kiskinis\, PhD\n12:30 – 1:30 pm: Lunch in Atrium\n1:30 – 2:30 pm: Keynote Speaker – Dr. Merit Cudkowicz\, MD MSc\n2:30 – 2:45 pm: Break/Refreshments\n2:45 – 2:50 pm: Les Turner ALS Foundation Video Presentation\n2:50-3:50 pm: Ask the Experts Clinical Panel featuring: Senda Ajroud-Driss\, MD; Merit Cudkowicz\, MD\, MSc; Lisa Wolfe\, MD;  Colin Franz\, MD\, PhD; and Robert G. Kalb\, MD as moderator
URL:https://lesturnerals.org/https-us02web-zoom-us-webinar-register-wn_nvixvs4-tqsr5bwy_malta-registration/8th-annual-les-turner-symposium-on-als-and-neurorepair/
LOCATION:Prentice Women’s Hospital\, 250 W. Superior Street\, Chicago\, IL\, 60611\, United States
GEO:41.896332;-87.62095
X-APPLE-STRUCTURED-LOCATION;VALUE=URI;X-ADDRESS=Prentice Women’s Hospital 250 W. Superior Street Chicago IL 60611 United States;X-APPLE-RADIUS=500;X-TITLE=250 W. Superior Street:geo:-87.62095,41.896332
END:VEVENT
BEGIN:VEVENT
DTSTART;TZID=UTC:20171106T080000
DTEND;TZID=UTC:20171106T160000
DTSTAMP:20260420T140314
CREATED:20170908T193112Z
LAST-MODIFIED:20170908T193112Z
UID:10000323-1509955200-1509984000@lesturnerals.org
SUMMARY:Les Turner Symposium on ALS and NeuroRepair
DESCRIPTION:The 7th Annual Les Turner Symposium on ALS and NeuroRepair celebrates research\, patient care and education. Featuring keynote speaker Christopher Henderson\, PhD\, Vice President of Neurology Research Biogen\, Inc.\, attendees will learn the latest on translating neuroscience into drugs for ALS patients. \nFor more information\, download this flyer. \nRegister Here \nFor questions\, contact jrichman@lesturnerals.org or contact the office at 847 679 3311
URL:https://lesturnerals.org/https-us02web-zoom-us-webinar-register-wn_nvixvs4-tqsr5bwy_malta-registration/les-turner-symposium-als-neurorepair/
LOCATION:Prentice Women’s Hospital\, 250 W. Superior Street\, Chicago\, IL\, 60611\, United States
GEO:41.896332;-87.62095
X-APPLE-STRUCTURED-LOCATION;VALUE=URI;X-ADDRESS=Prentice Women’s Hospital 250 W. Superior Street Chicago IL 60611 United States;X-APPLE-RADIUS=500;X-TITLE=250 W. Superior Street:geo:-87.62095,41.896332
END:VEVENT
BEGIN:VEVENT
DTSTART;VALUE=DATE:20161107
DTEND;VALUE=DATE:20161108
DTSTAMP:20260420T140314
CREATED:20160919T214008Z
LAST-MODIFIED:20160919T220553Z
UID:10000246-1478476800-1478563199@lesturnerals.org
SUMMARY:6th Annual Les Turner Symposium on ALS and NeuroRepair
DESCRIPTION:Celebrate research\, patient care and education with the Les Turner ALS Research and Patient Center at Northwestern Medicine on Monday\, November 7. There is no cost to attend the event\, but RSVP is required as space is limited. \nThe symposium will feature keynote speaker\, Dr. Terry Heiman-Patterson\, Professor and Vice Chair of Neurology and Medical Director of the MDA/ALS Clinic at Drexel University in Philadelphia. In addition to Dr. Heiman-Patterson\, presentations will be given by Researchers and Clinicians from the Les Turner ALS Research and Patient Center at Northwestern Medicine as well as Data Blitz sessions in the morning. For more information\, visit the event registration page.
URL:https://lesturnerals.org/https-us02web-zoom-us-webinar-register-wn_nvixvs4-tqsr5bwy_malta-registration/6th-annual-les-turner-symposium-als-neurorepair/
LOCATION:Prentice Women’s Hospital\, 250 W. Superior Street\, Chicago\, IL\, 60611\, United States
GEO:41.896332;-87.62095
X-APPLE-STRUCTURED-LOCATION;VALUE=URI;X-ADDRESS=Prentice Women’s Hospital 250 W. Superior Street Chicago IL 60611 United States;X-APPLE-RADIUS=500;X-TITLE=250 W. Superior Street:geo:-87.62095,41.896332
END:VEVENT
END:VCALENDAR