BEGIN:VCALENDAR
VERSION:2.0
PRODID:-//Les Turner ALS Foundation - ECPv6.15.20//NONSGML v1.0//EN
CALSCALE:GREGORIAN
METHOD:PUBLISH
X-ORIGINAL-URL:https://lesturnerals.org
X-WR-CALDESC:Events for Les Turner ALS Foundation
REFRESH-INTERVAL;VALUE=DURATION:PT1H
X-Robots-Tag:noindex
X-PUBLISHED-TTL:PT1H
BEGIN:VTIMEZONE
TZID:America/Chicago
BEGIN:DAYLIGHT
TZOFFSETFROM:-0600
TZOFFSETTO:-0500
TZNAME:CDT
DTSTART:20210314T080000
END:DAYLIGHT
BEGIN:STANDARD
TZOFFSETFROM:-0500
TZOFFSETTO:-0600
TZNAME:CST
DTSTART:20211107T070000
END:STANDARD
BEGIN:DAYLIGHT
TZOFFSETFROM:-0600
TZOFFSETTO:-0500
TZNAME:CDT
DTSTART:20220313T080000
END:DAYLIGHT
BEGIN:STANDARD
TZOFFSETFROM:-0500
TZOFFSETTO:-0600
TZNAME:CST
DTSTART:20221106T070000
END:STANDARD
BEGIN:DAYLIGHT
TZOFFSETFROM:-0600
TZOFFSETTO:-0500
TZNAME:CDT
DTSTART:20230312T080000
END:DAYLIGHT
BEGIN:STANDARD
TZOFFSETFROM:-0500
TZOFFSETTO:-0600
TZNAME:CST
DTSTART:20231105T070000
END:STANDARD
END:VTIMEZONE
BEGIN:VTIMEZONE
TZID:UTC
BEGIN:STANDARD
TZOFFSETFROM:+0000
TZOFFSETTO:+0000
TZNAME:UTC
DTSTART:20190101T000000
END:STANDARD
END:VTIMEZONE
BEGIN:VEVENT
DTSTART;TZID=America/Chicago:20220521T180000
DTEND;TZID=America/Chicago:20220521T230000
DTSTAMP:20260420T164213
CREATED:20220131T151437Z
LAST-MODIFIED:20220131T185525Z
UID:10000573-1653156000-1653174000@lesturnerals.org
SUMMARY:Hope Through Caring Gala
DESCRIPTION:Every Spring\, the Foundation hosts the Hope Through Caring Gala. The annual event celebrates the work of the Les Turner ALS Foundation\, Chicagoland’s leader in comprehensive ALS care\, and honors two incredible individuals for their significant contributions to the Foundation and the greater ALS community. \nThis year we are excited to announce the Hope Through Caring Award will be given to Lisa F. Wolfe\, MD\, of Northwestern Medicine. Dr. Wolfe is a world-renowned pulmonologist at our Lois Insolia ALS Clinic at the Les Turner ALS Center who has built one of most respected neuromuscular pulmonary programs in the country. \nIn addition\, the Harvey and Bonny Gaffen Advancements in ALS Award will be given to the co-founders of Amylyx Pharmaceuticals\, Joshua Cohen and Justin Klee\, for their unwavering commitment to the ALS community which began when they were undergraduates at Brown University. \n\n\n\n2022 Hope Through Caring Gala\nSaturday\, May 21\, 2022\nRadisson Blu Aqua Hotel\, Chicago \nVisit hopethroughcaring.org to purchase tickets and for more information. \nPlease contact Kim Kempf at kkempf@lesturnerals.org or 847-745-6024 for more information.
URL:https://lesturnerals.org/https-us02web-zoom-us-webinar-register-wn_nvixvs4-tqsr5bwy_malta-registration/hope-through-caring-gala-2/
LOCATION:Radisson Blu\, 221 N Columbus Drive\, Chicago\, 60601\, United States
END:VEVENT
BEGIN:VEVENT
DTSTART;TZID=UTC:20200222T180000
DTEND;TZID=UTC:20200222T230000
DTSTAMP:20260420T164213
CREATED:20191014T234754Z
LAST-MODIFIED:20191113T223132Z
UID:10000303-1582394400-1582412400@lesturnerals.org
SUMMARY:Hope Through Caring Gala
DESCRIPTION:Hope Through Caring Gala\nSaturday\, February 22\, 2020\nRadisson Blu Aqua Hotel\n221 North Columbus Drive\nChicago\, IL 60601\nEvery Spring\, the Foundation hosts the Hope Through Caring Gala. The evening includes dinner\, dancing\, paddle raise and balloon raffle. \nThe Hope Through Caring Award was established in 1988 to honor those whose extraordinary commitment to the fight against ALS has helped raise funds for research and clinical care\, provide services for people living with ALS and their families and increase public awareness. \nAnd the Harvey and Bonny Gaffen Advancements in ALS Award recognizes a significant individual advancement or a body of work dedicated to further ALS research\, treatment or clinical care. \nPurchase tickets or become a table sponsor today!
URL:https://lesturnerals.org/https-us02web-zoom-us-webinar-register-wn_nvixvs4-tqsr5bwy_malta-registration/hope-through-caring-gala-2020-2/
LOCATION:Radisson Blu\, 221 N Columbus Drive\, Chicago\, 60601\, United States
END:VEVENT
END:VCALENDAR