BEGIN:VCALENDAR
VERSION:2.0
PRODID:-//Les Turner ALS Foundation - ECPv6.15.20//NONSGML v1.0//EN
CALSCALE:GREGORIAN
METHOD:PUBLISH
X-ORIGINAL-URL:https://lesturnerals.org
X-WR-CALDESC:Events for Les Turner ALS Foundation
REFRESH-INTERVAL;VALUE=DURATION:PT1H
X-Robots-Tag:noindex
X-PUBLISHED-TTL:PT1H
BEGIN:VTIMEZONE
TZID:UTC
BEGIN:STANDARD
TZOFFSETFROM:+0000
TZOFFSETTO:+0000
TZNAME:UTC
DTSTART:20150101T000000
END:STANDARD
END:VTIMEZONE
BEGIN:VEVENT
DTSTART;TZID=UTC:20190621T110000
DTEND;TZID=UTC:20190623T160000
DTSTAMP:20260424T222358
CREATED:20190503T004926Z
LAST-MODIFIED:20190503T004926Z
UID:10000293-1561114800-1561305600@lesturnerals.org
SUMMARY:Abilities Expo
DESCRIPTION:Friday\, June 21 – Sunday\, June 23\, 2019\nRenaissance Schaumburg Convention Center\nBooth#216\nTeam members from the Les Turner ALS Foundation’s Support Services Team will be at the Chicago Abilities Expo this June. Come see us at Booth #216. Join us for free and learn about ways you can increase your independence. \nThis event has free admission and free parking. Visit AbilitiesExpo.com to learn more and register. \nDownload our Event Flyer. \n 
URL:https://lesturnerals.org/https-us02web-zoom-us-webinar-register-wn_nvixvs4-tqsr5bwy_malta-registration/abilities-expo-2019/
LOCATION:Renaissance Schaumburg Convention Center\, 1551 Thoreau Drive North\, Schaumburg\, IL\, 60173\, United States
GEO:42.0607359;-88.0403548
X-APPLE-STRUCTURED-LOCATION;VALUE=URI;X-ADDRESS=Renaissance Schaumburg Convention Center 1551 Thoreau Drive North Schaumburg IL 60173 United States;X-APPLE-RADIUS=500;X-TITLE=1551 Thoreau Drive North:geo:-88.0403548,42.0607359
END:VEVENT
BEGIN:VEVENT
DTSTART;TZID=UTC:20170623T080000
DTEND;TZID=UTC:20170625T170000
DTSTAMP:20260424T222358
CREATED:20170520T011821Z
LAST-MODIFIED:20170520T012952Z
UID:10000378-1498204800-1498410000@lesturnerals.org
SUMMARY:Abilities Expo
DESCRIPTION:Stop by the Les Turner ALS Foundation booth at the Chicago Abilities Expo on Friday\, June 23 – Sunday\, June 25 at the Renaissance Schaumburg Convention Center. For 40 years\, the Abilities Expo has been the go-to source for the Community of people with disabilities\, their families\, seniors\, veterans and healthcare professionals. \nStay tuned for details on how to register. For questions\, contact info@lesturnerals.org
URL:https://lesturnerals.org/https-us02web-zoom-us-webinar-register-wn_nvixvs4-tqsr5bwy_malta-registration/abilities-expo-2/
LOCATION:Renaissance Schaumburg Convention Center\, 1551 Thoreau Drive North\, Schaumburg\, IL\, 60173\, United States
GEO:42.0607359;-88.0403548
X-APPLE-STRUCTURED-LOCATION;VALUE=URI;X-ADDRESS=Renaissance Schaumburg Convention Center 1551 Thoreau Drive North Schaumburg IL 60173 United States;X-APPLE-RADIUS=500;X-TITLE=1551 Thoreau Drive North:geo:-88.0403548,42.0607359
END:VEVENT
BEGIN:VEVENT
DTSTART;VALUE=DATE:20160624
DTEND;VALUE=DATE:20160627
DTSTAMP:20260424T222358
CREATED:20160520T204130Z
LAST-MODIFIED:20160520T204130Z
UID:10000202-1466726400-1466985599@lesturnerals.org
SUMMARY:Abilities Expo
DESCRIPTION:Stop by the Les Turner ALS Foundation booth at the Chicago Abilities Expo on Friday\, June 24 – Sunday\, June 26 at the Renaissance Schaumburg Convention Center. For nearly 40 years\, Abilities Expo has been the go-to source for the Community of people with disabilities\, their families\, seniors\, veterans and healthcare professionals. Register for free here.
URL:https://lesturnerals.org/https-us02web-zoom-us-webinar-register-wn_nvixvs4-tqsr5bwy_malta-registration/abilities-expo/
LOCATION:Renaissance Schaumburg Convention Center\, 1551 Thoreau Drive North\, Schaumburg\, IL\, 60173\, United States
GEO:42.0607359;-88.0403548
X-APPLE-STRUCTURED-LOCATION;VALUE=URI;X-ADDRESS=Renaissance Schaumburg Convention Center 1551 Thoreau Drive North Schaumburg IL 60173 United States;X-APPLE-RADIUS=500;X-TITLE=1551 Thoreau Drive North:geo:-88.0403548,42.0607359
END:VEVENT
END:VCALENDAR