BEGIN:VCALENDAR
VERSION:2.0
PRODID:-//Les Turner ALS Foundation - ECPv6.15.20//NONSGML v1.0//EN
CALSCALE:GREGORIAN
METHOD:PUBLISH
X-ORIGINAL-URL:https://lesturnerals.org
X-WR-CALDESC:Events for Les Turner ALS Foundation
REFRESH-INTERVAL;VALUE=DURATION:PT1H
X-Robots-Tag:noindex
X-PUBLISHED-TTL:PT1H
BEGIN:VTIMEZONE
TZID:UTC
BEGIN:STANDARD
TZOFFSETFROM:+0000
TZOFFSETTO:+0000
TZNAME:UTC
DTSTART:20170101T000000
END:STANDARD
END:VTIMEZONE
BEGIN:VEVENT
DTSTART;TZID=UTC:20181105T190000
DTEND;TZID=UTC:20181107T220000
DTSTAMP:20260420T184712
CREATED:20181016T001158Z
LAST-MODIFIED:20181016T001344Z
UID:10000400-1541444400-1541628000@lesturnerals.org
SUMMARY:Sam Shepard Jubilee: Fool for Love Tribute Show
DESCRIPTION:Fools for Love Tribute Show\nNovember 5\, 6 & 7\, 2018\nStage 773\n1225 W. Belmont Avenue\nChicago\, IL 60657\nDoors Open: 7pm\nShow: 7:30pm\nAll donations support the Les Turner ALS Foundation \nOn what would be the late Sam Shepard’s Diamond Jubilee birthday—Mon.\, Nov. 5\, 2018—actors Reilly Downes and Paul McComas kick off the 3-night run of a multi-arts benefit show based around the acclaimed Fort Sheridan–born playwright/actor’s riveting\, tragicomic 1983 one-act\, Fool for Love. \nThe 80-minute show starts with the premiere of Just These Dinosaurs\, a short film by McComas and Spencer Parks\, adapted from Shepard’s 1982 collection Motel Chronicles. \nNext\, guitarist/vocalist Downes and bassist/vocalist McComas perform a set of original “love-foolish” tunes\, plus several haunting Western songs that Shepard’s sister Sandy Rogers wrote for Robert Altman’s 1985 Fool for Love feature film. \nThen comes McComas’ propulsive two-person adaptation\, co-directed by Downes\, of Fool for Love\, which garnered Shepard a 1983 Obie Award for Best New American Play.
URL:https://lesturnerals.org/https-us02web-zoom-us-webinar-register-wn_nvixvs4-tqsr5bwy_malta-registration/sam-shepard-jubilee-fool-for-love-tribute-show/
LOCATION:Stage 773\, 1225 W. Belmont\, Chicago\, IL\, 60657\, United States
END:VEVENT
END:VCALENDAR