BEGIN:VCALENDAR
VERSION:2.0
PRODID:-//Les Turner ALS Foundation - ECPv6.15.20//NONSGML v1.0//EN
CALSCALE:GREGORIAN
METHOD:PUBLISH
X-WR-CALNAME:Les Turner ALS Foundation
X-ORIGINAL-URL:https://lesturnerals.org
X-WR-CALDESC:Events for Les Turner ALS Foundation
REFRESH-INTERVAL;VALUE=DURATION:PT1H
X-Robots-Tag:noindex
X-PUBLISHED-TTL:PT1H
BEGIN:VTIMEZONE
TZID:UTC
BEGIN:STANDARD
TZOFFSETFROM:+0000
TZOFFSETTO:+0000
TZNAME:UTC
DTSTART:20150101T000000
END:STANDARD
END:VTIMEZONE
BEGIN:VEVENT
DTSTART;TZID=UTC:20161119T190000
DTEND;TZID=UTC:20161119T213000
DTSTAMP:20260420T161818
CREATED:20161021T191049Z
LAST-MODIFIED:20161021T191049Z
UID:10000244-1479582000-1479591000@lesturnerals.org
SUMMARY:Trivia Night 2016
DESCRIPTION:Head back to school and test your intellectual might at the 1st annual trivia night raising funds for the Les Turner ALS Foundation.  Come and see old friends and make new ones.  The night will include five rounds of trivia and prizes for the top performing teams and a raffle. Complimentary beer\, wine\, soda\, and snacks will be provided. \nRegister here!
URL:https://lesturnerals.org/https-us02web-zoom-us-webinar-register-wn_nvixvs4-tqsr5bwy_malta-registration/trivia-night-2016/
LOCATION:Takiff Center\, 999 Green Bay Road\, Glencoe\, IL\, 60022\, United States
GEO:42.1418869;-87.7648413
X-APPLE-STRUCTURED-LOCATION;VALUE=URI;X-ADDRESS=Takiff Center 999 Green Bay Road Glencoe IL 60022 United States;X-APPLE-RADIUS=500;X-TITLE=999 Green Bay Road:geo:-87.7648413,42.1418869
END:VEVENT
END:VCALENDAR