BEGIN:VCALENDAR
VERSION:2.0
PRODID:-//Les Turner ALS Foundation - ECPv6.15.20//NONSGML v1.0//EN
CALSCALE:GREGORIAN
METHOD:PUBLISH
X-ORIGINAL-URL:https://lesturnerals.org
X-WR-CALDESC:Events for Les Turner ALS Foundation
REFRESH-INTERVAL;VALUE=DURATION:PT1H
X-Robots-Tag:noindex
X-PUBLISHED-TTL:PT1H
BEGIN:VTIMEZONE
TZID:UTC
BEGIN:STANDARD
TZOFFSETFROM:+0000
TZOFFSETTO:+0000
TZNAME:UTC
DTSTART:20200101T000000
END:STANDARD
END:VTIMEZONE
BEGIN:VEVENT
DTSTART;TZID=UTC:20211016T080000
DTEND;TZID=UTC:20211016T140000
DTSTAMP:20260421T013731
CREATED:20210428T232452Z
LAST-MODIFIED:20210922T172316Z
UID:10000543-1634371200-1634392800@lesturnerals.org
SUMMARY:20th Annual Lew Blond 5k
DESCRIPTION:  \n \n20th Anniversary Lew Blond Run\n October 16\, 2021 at Wescott School\nThe Lew Blond Memorial 5K Run/Walk is held to honor Lew Blond\, a Maple School teacher who passed away from ALS in February 2000. \nSince then\, the Lew Blond Memorial 5K Run/Walk has been a generous Fundraise Your Way event and supporter of those affected by ALS. The event attracts thousands of participants and volunteers and proves to be one of Northbrook’s signature community events!
URL:https://lesturnerals.org/https-us02web-zoom-us-webinar-register-wn_nvixvs4-tqsr5bwy_malta-registration/20th-annual-lew-blond-5k/
LOCATION:Wescott School\, 1820 Western Ave\, Northbrook\, IL\, 60062\, United States
END:VEVENT
END:VCALENDAR