BEGIN:VCALENDAR
VERSION:2.0
PRODID:-//Les Turner ALS Foundation - ECPv6.15.20//NONSGML v1.0//EN
CALSCALE:GREGORIAN
METHOD:PUBLISH
X-WR-CALNAME:Les Turner ALS Foundation
X-ORIGINAL-URL:https://lesturnerals.org
X-WR-CALDESC:Events for Les Turner ALS Foundation
REFRESH-INTERVAL;VALUE=DURATION:PT1H
X-Robots-Tag:noindex
X-PUBLISHED-TTL:PT1H
BEGIN:VTIMEZONE
TZID:UTC
BEGIN:STANDARD
TZOFFSETFROM:+0000
TZOFFSETTO:+0000
TZNAME:UTC
DTSTART:20180101T000000
END:STANDARD
END:VTIMEZONE
BEGIN:VEVENT
DTSTART;TZID=UTC:20190825T120000
DTEND;TZID=UTC:20190825T170000
DTSTAMP:20260423T094345
CREATED:20190612T190201Z
LAST-MODIFIED:20190612T190221Z
UID:10000301-1566734400-1566752400@lesturnerals.org
SUMMARY:7th Somewhat Annual Stuercke Cubs Rooftop ALS Fundraiser
DESCRIPTION:The 7th Somewhat Annual Stuercke Cubs Rooftop ALS Fundraiser \nSunday\, August 25\, 2019\nChicago Cubs vs. Washington Nationals\n12:20pm – Games End \n50-50 Fundraising Squares and Raffle \nWrigley Rooftops\n3619 Sheffield Avenue\nChicago\, IL 60613 \nCome join the Stuercke Family and Friends at Wrigley Rooftops for our 7th Somewhat Annual Stuercke Cubs Rooftop ALS Fundraiser. We’ve got a great view of a great team and space with air conditioning. It’s a perfect get together for socializing with unlimited wine\, beer and ballpark food. In addition to the game\, we’ll have some 50-50 fundraising squares for sale and a few raffle items. \nA portion of your donation will benefit Les Turner ALS Foundation\, the organization that cared for our mother\, Nancy Stuercke. The Foundation’s individualized approach ensures each person living with the disease receives the best quality of care\, and the local community of support provides their loved ones with answers and encouragement. The Les Turner ALS Center at Northwestern Medicine is led by the most well-respected and successful clinicians and researchers in the field\, advancing vital care and research in pursuit of life-enhancing treatments and a cure.
URL:https://lesturnerals.org/https-us02web-zoom-us-webinar-register-wn_nvixvs4-tqsr5bwy_malta-registration/7th-somewhat-annual-stuercke-cubs-rooftop-fundraiser/
LOCATION:Wrigley Rooftops\, 3619 N. Sheffield\, Chicago\, IL\, 60613\, United States
END:VEVENT
END:VCALENDAR